{"text_format":"1","workbook":"xlsx","n_sheets":3,"sheets":["Sheet1","Sheet2","Sheet3"],"not_rendered":{"charts":0,"images":0,"macros":1,"external_links":0,"defined_names":0,"comments":0,"pivot_tables":0},"unopened":[],"bounds":{"document_bytes":16777216,"sheet_cells":100000,"rows_first":2000,"rows_last":500,"rows_between":2000,"halvings":0,"cell_chars":16384,"cell_head_chars":4096},"cells_cut":0,"cells_raw":0,"read":"whole","date_system":"1900"}

{"sheet":"Sheet1","index":0,"n_rows":19,"n_cols":11,"rows_kept":19,"cut":false,"hidden":false,"merged":[[1,2,1,3],[2,2,2,3]]}
[]
[null,null,"ファイル名を得意先リスト変換4.xlsmでEドライブに保存してください。"]
[null,null,"マクロでは、名前がそうなっていますから。"]
[]
[]
["0760","株式会社アイサツ　大阪営業所","アイサツ","吹田市豊津13の44",null,"564-0051","06-6384-1234","06-6384-2345","31","10","3"]
["0761","株式会社アイサツ　名古屋営業所","アイサツ","愛知県名古屋市西区新木町",null,"452-0836","052-504-1234","052-504-2345","31","10","3"]
["0762","株式会社アイサツ　本社工場","アイサツ","愛知県名古屋市西区新木町",null,"452-0836","052-503-1234","052-503-2345","31","31","2"]
["7480","株式会社アイシル","アイシル","愛知県名古屋市西区丸野町",null,"452-0835","042-775-1234"," ","31","31","2"]
["3420","株式会社　愛真製作所","アイシン","福島県本宮町種沢字鴨内",null,"969-1204","0243-44-1234","0243-44-2345","20","10","3"]
["0041","株式会社アイタック","アイタック","広島県福山市南藏王町25-2",null,"721-0973","0849-22-1234","0849-22-2345","31","31","2"]
["8240","株式会社アイタック　名古屋営業所","アイタック","愛知県小牧市大字村中字",null,"458-0082","0568-73-1234"," ","20","10","2"]
["8290","IDOC㈱","アイド","兵庫県加東市河高字黒石",null,"679-0221","079-548-1234","0795-48-2345","31","31","2"]
["1670","アイノック株式会社","アイノック","岐阜県美濃加茂市蟫屋台",null,"505-0039","0574-28-1234","0574-28-2345","31","10","3"]
["0040","アウトエンジニア株式会社　相模工場","アウト","神奈川県相模原市大山町",null,"229-1181","042-772-1234"," ","31","31","2"]
["0043","アウトエンジニア株式会社","アウト","神奈川県相模原市下九沢",null,"229-1134","042-772-1234","042-771-2345","31","30","2"]
["0044","アウトエンジニア株式会社　津久井工場","アウト","神奈川県相模原市緑区根来",null,"252-0153","042-784-1234","042-784-2345","31","30","2"]
["0018","有限会社アオク機械","アオク","静岡県静岡市本通9-10-21",null,"420-0064","054-251-1234","054-255-4782","20","31","2"]
["1585","株式会社アサツキ","アサツキ","岡山県美作市巨摩2089",null,"707-0045","0868-73-1234","0768-72-2345","00","00","1"]

{"sheet":"Sheet2","index":1,"n_rows":76,"n_cols":16,"rows_kept":76,"cut":false,"hidden":false,"merged":[]}
[]
[]
[]
[]
[]
[null,{"$f":"+LEFT(Sheet1!C6,1)","v":"ア"},1,null,"0760",null,"株式会社アイサツ　大阪営業所",null,"564-0051",null,"吹田市豊津13の44","06-6384-1234","06-6384-2345","31","10","3"]
[null,{"$f":"+LEFT(Sheet1!C7,1)","v":"ア"},2,null,"0761",null,"株式会社アイサツ　名古屋営業所",null,"452-0836",null,"愛知県名古屋市西区新木町","052-504-1234","052-504-2345","31","10","3"]
[null,{"$f":"+LEFT(Sheet1!C8,1)","v":"ア"},3,null,"0762",null,"株式会社アイサツ　本社工場",null,"452-0836",null,"愛知県名古屋市西区新木町","052-503-1234","052-503-2345","31","31","2"]
[null,{"$f":"+LEFT(Sheet1!C9,1)","v":"ア"},4,null,"7480",null,"株式会社アイシル",null,"452-0835",null,"愛知県名古屋市西区丸野町","042-775-1234"," ","31","31","2"]
[null,{"$f":"+LEFT(Sheet1!C10,1)","v":"ア"},5,null,"3420",null,"株式会社　愛真製作所",null,"969-1204",null,"福島県本宮町種沢字鴨内","0243-44-1234","0243-44-2345","20","10","3"]
[null,{"$f":"+LEFT(Sheet1!C11,1)","v":"ア"},6,null,"0041",null,"株式会社アイタック",null,"721-0973",null,"広島県福山市南藏王町25-2","0849-22-1234","0849-22-2345","31","31","2"]
[null,{"$f":"+LEFT(Sheet1!C12,1)","v":"ア"},7,null,"8240",null,"株式会社アイタック　名古屋営業所",null,"458-0082",null,"愛知県小牧市大字村中字","0568-73-1234"," ","20","10","2"]
[null,{"$f":"+LEFT(Sheet1!C13,1)","v":"ア"},8,null,"8290",null,"IDOC㈱",null,"679-0221",null,"兵庫県加東市河高字黒石","079-548-1234","0795-48-2345","31","31","2"]
[null,{"$f":"+LEFT(Sheet1!C14,1)","v":"ア"},9,null,"1670",null,"アイノック株式会社",null,"505-0039",null,"岐阜県美濃加茂市蟫屋台","0574-28-1234","0574-28-2345","31","10","3"]
[null,{"$f":"+LEFT(Sheet1!C15,1)","v":"ア"},10,null,"0040",null,"アウトエンジニア株式会社　相模工場",null,"229-1181",null,"神奈川県相模原市大山町","042-772-1234"," ","31","31","2"]
[null,{"$f":"+LEFT(Sheet1!C16,1)","v":"ア"},11,null,"0043",null,"アウトエンジニア株式会社",null,"229-1134",null,"神奈川県相模原市下九沢","042-772-1234","042-771-2345","31","30","2"]
[null,{"$f":"+LEFT(Sheet1!C17,1)","v":"ア"},12,null,"0044",null,"アウトエンジニア株式会社　津久井工場",null,"252-0153",null,"神奈川県相模原市緑区根来","042-784-1234","042-784-2345","31","30","2"]
[null,{"$f":"+LEFT(Sheet1!C18,1)","v":"ア"},13,null,"0018",null,"有限会社アオク機械",null,"420-0064",null,"静岡県静岡市本通9-10-21","054-251-1234","054-255-4782","20","31","2"]
[null,{"$f":"+LEFT(Sheet1!C19,1)","v":"ア"},14,null,"1585",null,"株式会社アサツキ",null,"707-0045",null,"岡山県美作市巨摩2089","0868-73-1234","0768-72-2345","00","00","1"]
[null,{"$f":"+LEFT(Sheet1!C20,1)","v":""},15]
[null,{"$f":"+LEFT(Sheet1!C21,1)","v":""},16]
[null,{"$f":"+LEFT(Sheet1!C263,1)","v":""},17]
[null,{"$f":"+LEFT(Sheet1!C264,1)","v":""},18]
[null,{"$f":"+LEFT(Sheet1!C265,1)","v":""},19]
[null,{"$f":"+LEFT(Sheet1!C266,1)","v":""}]
[null,{"$f":"+LEFT(Sheet1!C267,1)","v":""}]
[null,{"$f":"+LEFT(Sheet1!C268,1)","v":""}]
[null,{"$f":"+LEFT(Sheet1!C269,1)","v":""}]
[null,{"$f":"+LEFT(Sheet1!C270,1)","v":""}]
[null,{"$f":"+LEFT(Sheet1!C271,1)","v":""}]
[null,{"$f":"+LEFT(Sheet1!C272,1)","v":""}]
[null,{"$f":"+LEFT(Sheet1!C273,1)","v":""}]
[null,{"$f":"+LEFT(Sheet1!C274,1)","v":""}]
[null,{"$f":"+LEFT(Sheet1!C275,1)","v":""}]
[null,{"$f":"+LEFT(Sheet1!C276,1)","v":""}]
[null,{"$f":"+LEFT(Sheet1!C277,1)","v":""}]
[null,{"$f":"+LEFT(Sheet1!C278,1)","v":""}]
[null,{"$f":"+LEFT(Sheet1!C279,1)","v":""}]
[null,{"$f":"+LEFT(Sheet1!C280,1)","v":""}]
[null,{"$f":"+LEFT(Sheet1!C281,1)","v":""}]
[null,{"$f":"+LEFT(Sheet1!C282,1)","v":""}]
[null,{"$f":"+LEFT(Sheet1!C283,1)","v":""}]
[null,{"$f":"+LEFT(Sheet1!C284,1)","v":""}]
[null,{"$f":"+LEFT(Sheet1!C285,1)","v":""}]
[null,{"$f":"+LEFT(Sheet1!C286,1)","v":""}]
[null,{"$f":"+LEFT(Sheet1!C287,1)","v":""}]
[null,{"$f":"+LEFT(Sheet1!C288,1)","v":""}]
[null,{"$f":"+LEFT(Sheet1!C289,1)","v":""}]
[null,{"$f":"+LEFT(Sheet1!C290,1)","v":""}]
[null,{"$f":"+LEFT(Sheet1!C291,1)","v":""}]
[null,{"$f":"+LEFT(Sheet1!C292,1)","v":""}]
[null,{"$f":"+LEFT(Sheet1!C293,1)","v":""}]
[null,{"$f":"+LEFT(Sheet1!C294,1)","v":""}]
[null,{"$f":"+LEFT(Sheet1!C295,1)","v":""}]
[null,{"$f":"+LEFT(Sheet1!C296,1)","v":""}]
[null,{"$f":"+LEFT(Sheet1!C297,1)","v":""}]
[null,{"$f":"+LEFT(Sheet1!C298,1)","v":""}]
[null,{"$f":"+LEFT(Sheet1!C299,1)","v":""}]
[null,{"$f":"+LEFT(Sheet1!C300,1)","v":""}]
[null,{"$f":"+LEFT(Sheet1!C301,1)","v":""}]
[null,{"$f":"+LEFT(Sheet1!C302,1)","v":""}]
[null,{"$f":"+LEFT(Sheet1!C303,1)","v":""}]
[null,{"$f":"+LEFT(Sheet1!C304,1)","v":""}]
[null,{"$f":"+LEFT(Sheet1!C305,1)","v":""}]
[null,{"$f":"+LEFT(Sheet1!C306,1)","v":""}]
[null,{"$f":"+LEFT(Sheet1!C307,1)","v":""}]
[null,{"$f":"+LEFT(Sheet1!C308,1)","v":""}]
[null,{"$f":"+LEFT(Sheet1!C309,1)","v":""}]
[null,{"$f":"+LEFT(Sheet1!C310,1)","v":""}]
[null,{"$f":"+LEFT(Sheet1!C311,1)","v":""}]
[null,{"$f":"+LEFT(Sheet1!C312,1)","v":""}]
[null,{"$f":"+LEFT(Sheet1!C313,1)","v":""}]
[null,{"$f":"+LEFT(Sheet1!C314,1)","v":""}]
[null,{"$f":"+LEFT(Sheet1!C315,1)","v":""}]
[null,{"$f":"+LEFT(Sheet1!C316,1)","v":""}]
[null,{"$f":"+LEFT(Sheet1!C317,1)","v":""}]

{"sheet":"Sheet3","index":2,"n_rows":0,"n_cols":0,"rows_kept":0,"cut":false,"hidden":false,"merged":[]}