{"text_format":"1","workbook":"xlsx","n_sheets":22,"sheets":["menu","Check","加工仕入","購入仕入","材料仕入","経費仕入","加工DT抽出","購入DT抽出","材料DT抽出","経費DT抽出","仕入入力済","仕入先登録","仕入先別金額","仕入日報","部品本日入力","来月分仮入力","経費本日入力","経理用","計算1","計算2","仕入月合計データ","経費月合計データ"],"not_rendered":{"charts":0,"images":0,"macros":1,"external_links":4,"defined_names":14,"comments":0,"pivot_tables":0},"unopened":[],"bounds":{"document_bytes":16777216,"sheet_cells":100000,"rows_first":2000,"rows_last":500,"rows_between":2000,"halvings":0,"cell_chars":16384,"cell_head_chars":4096},"cells_cut":0,"cells_raw":0,"read":"whole","date_system":"1900"}

{"sheet":"menu","index":0,"n_rows":15,"n_cols":16,"rows_kept":15,"cut":false,"hidden":false,"merged":[[2,14,2,15],[11,8,11,9],[4,14,4,15],[1,6,1,7]]}
[" ",null,null,null,"月末締切用",null,null,null,null,null,0]
[null,null,"仕入処理 メニュ－"," "," ",null,"月の変更はPGの指示で変更する"]
[null,null,null,null,null,null,{"$f":"O6&\"月切\"","v":"2月切"}]
[null,null,"　",null,"　",null,"パスワード入力"]
[null,null,"　",null,"　",null,"●●●●●●",null,null,null,null,null,null,null,"基準日付で使用"]
[null,null," ",null,"　",null,null,null,null,null,null,null,null,null,2,2018]
[null,null,"　",null,"　",null,null,null,null," "]
[null,null,"　",null,"　"]
[null,null,"　",null," "]
[null,null," ",null," "]
[null,null,null,null,{"$f":"IF(Check!M27=1,Check!J27,IF(Check!M28=1,Check!J28,\"\"))","v":""}]
[null,null,"　",null,{"$f":"IF(Check!N3+Check!N11+Check!N25>0,Check!J38,\"\")","v":""}]
[null,null,"入力延長"," ",{"$f":"IF(Check!M31+Check!M32=2,Check!J37,IF(Check!M31=1,Check!J31,IF(Check!M32=1,Check!J32,IF(Check!E33+Check!E34>0,Check!G34,\"\"))))","v":"本日入力にデータ残あり"},null,null,null,5]
[null,null,null,null,{"$f":"IF(計算1!Y2+計算1!AN2=仕入日報!K40,\"\",IF(部品本日入力!M2>=0,\"\",\"仕入先コードに存在しない仕入先がある\"))","v":""},null,null,null,3]
[null,null,null,null,{"$f":"IF(計算1!O32=\"OK\",\"\",\"計算1にＥＲＲ 保存終了で消えます\")","v":""}]

{"sheet":"Check","index":1,"n_rows":46,"n_cols":16,"rows_kept":46,"cut":false,"hidden":false,"merged":[[29,9,29,11],[36,9,36,11]]}
[null,null,null,"全体エラーチェック"]
[null,null,null,null,null,null,null,null,"部品","仕入月データチェック表"]
[null,"仕入日報",null,null,null,"比較",null,null,null,"製番列","金額列","コード列",null,{"$f":"N4+N5","v":0}]
[null,null,"部品","縦合計",{"$f":"仕入日報!O24","v":17945},null,null,null,"A=B=C",{"$f":"SUM(J6:J8)","v":0},{"$f":"SUM(K6:K8)","v":0},{"$f":"SUM(L6:L8)","v":0},{"$f":"IF(AND(E24=E25,E24=E26),\"OK\",\"NO\")","v":"OK"},{"$f":"IF(AND(J4>K4,J4>L4),1,IF(AND(K4>J4,K4>L4),2,IF(AND(L4>J4,L4>K4),3,0)))","v":0},"大列"," "]
[null,null,null,"横合計",{"$f":"仕入日報!K26","v":17945},{"$f":"IF(E4-E5=0,\"OK\",\"ERR\")","v":"OK"},null,null,"A<>B<>C",null,null,null,{"$f":"IF(AND(E24<>E25,E24<>E26,E25<>E26),\"OK\",\"NO\")","v":"NO"},{"$f":"IF(AND(J4<K4,J4<L4),1,IF(AND(K4<J4,K4<L4),2,IF(AND(L4<J4,L4<K4),3,0)))","v":0},"小列"," "]
[null,null,"経費","縦合計",{"$f":"仕入日報!K37","v":6000},null,null,null,"A=C",{"$f":"IF(M6=\"NO\",E24-E26,\"\")","v":""},null,{"$f":"IF(M6=\"NO\",E26-E24,\"\")","v":""},{"$f":"IF(E24=E26,\"OK\",\"NO\")","v":"OK"}]
[null,null,"総合計",null,{"$f":"E5+E6","v":23945},null,null,null,"B=C",null,{"$f":"IF(M7=\"NO\",E25-E26,\"\")","v":""},{"$f":"IF(M7=\"NO\",E26-E25,\"\")","v":""},{"$f":"IF(E25=E26,\"OK\",\"NO\")","v":"OK"}]
[null,null,null,"仕入合計",{"$f":"仕入日報!K40","v":23945},{"$f":"IF(E7-E8=0,\"OK\",\"ERR\")","v":"OK"},null,null,"A=B",{"$f":"IF(M8=\"NO\",E24-E25,\"\")","v":""},{"$f":"IF(M8=\"NO\",E25-E24,\"\")","v":""},null,{"$f":"IF(E24=E25,\"OK\",\"NO\")","v":"OK"}]
[]
[null,null,null,null,null,null,null,null,"経費","仕入月データチェック表"]
[null,"仕入月合計","部品","合計",{"$f":"仕入月合計データ!M2","v":14345},null,null,null,null,"科目列","金額列","コード列",null,{"$f":"N12+N13","v":0}]
[null,null,"機種分類","合計",{"$f":"仕入月合計データ!Q2","v":14345},{"$f":"IF(E11-E12=0,\"OK\",\"ERR\")","v":"OK"},{"$f":"E11-E12","v":0},null,"A=B=C",{"$f":"SUM(J14:J16)","v":0},{"$f":"SUM(K14:K16)","v":0},{"$f":"SUM(L14:L16)","v":0},{"$f":"IF(AND(E27=E28,E27=E29),\"OK\",\"NO\")","v":"OK"},{"$f":"IF(AND(J12>K12,J12>L12),1,IF(AND(K12>J12,K12>L12),2,IF(AND(L12>J12,L12>K12),3,0)))","v":0},"大列"]
[null,null,null,null,null,null,null,null,"A<>B<>C",null,null,null,{"$f":"IF(AND(E27<>E28,E27<>E29,E28<>E29),\"OK\",\"NO\")","v":"NO"},{"$f":"IF(AND(J12<K12,J12<L12),1,IF(AND(K12<J12,K12<L12),2,IF(AND(L12<J12,L12<K12),3,0)))","v":0},"小列"]
[null,null,"経費","合計",{"$f":"経費月合計データ!J2","v":6000},null,null,null,"A=C",{"$f":"IF(M14=\"NO\",E27-E29,\"\")","v":""},null,{"$f":"IF(M14=\"NO\",E29-E27,\"\")","v":""},{"$f":"IF(E27=E29,\"OK\",\"NO\")","v":"OK"}]
[null,null,"機種分類","合計",{"$f":"経費月合計データ!O2","v":6000},{"$f":"IF(E14-E15=0,\"OK\",\"ERR\")","v":"OK"},null,null,"B=C",null,{"$f":"IF(M15=\"NO\",E28-E29,\"\")","v":""},{"$f":"IF(M15=\"NO\",E29-E28,\"\")","v":""},{"$f":"IF(E28=E29,\"OK\",\"NO\")","v":"OK"}]
[null,null,null,null,null,null,null,null,"A=B",{"$f":"IF(M16=\"NO\",E27-E28,\"\")","v":""},{"$f":"IF(M16=\"NO\",E28-E27,\"\")","v":""},null,{"$f":"IF(E27=E28,\"OK\",\"NO\")","v":"OK"}]
[]
[null,"E転送データ保存と仕入月合計",null,null,"　"]
[null,null,"部品","合計",{"$f":"[1]当月仕入!$M$2","v":14345},{"$f":"IF(E11-E19=0,\"OK\",\"ERR\")","v":"OK"},{"$f":"IF(F19=\"ERR\",\"転送データが不良\",\"\")","v":""},null,"部品","製番文字の入力間違い",null,null,null,{"$f":"IF(N20=1,\"\",IF(F12=\"ERR\",1,0))","v":0}]
[null,null,"経費","合計",{"$f":"[1]当月経費!$J$2","v":6000},{"$f":"IF(E14-E20=0,\"OK\",\"ERR\")","v":"OK"},{"$f":"IF(F20=\"ERR\",\"転送データが不良\",\"\")","v":""},null,null,"経費を部品に入力した",null,null,null,{"$f":"IF(仕入月合計データ!S112>0,1,0)","v":0}]
[null,null,null,null,null,null,null,null,null,{"$f":"IF(N5=1,\"製番列のデータが少ない\",IF(N5=2,\"金額列のデータが少ない\",IF(N5=3,\"コード列のデータが少ない\",\"\")))","v":""}]
[]
[null,"仕入月合計のデータ行数比較",null,null,null,null,null,null,"経費","経費科目コードの間違い",null,null,null,{"$f":"IF(F15=\"ERR\",1,0)","v":0}]
[null,null,"部品     A","製番行数",{"$f":"仕入月合計データ!S105","v":230},null," ",null,null,{"$f":"IF(N13=1,\"科目列のデータが少ない\",IF(N13=2,\"金額列のデータが少ない\",IF(N13=3,\"コード列のデータが少ない\",\"\")))","v":""},null,null,null,{"$f":"IF(J24=\"\",0,1)","v":0}]
[null,null,"         B","金額行数",{"$f":"仕入月合計データ!S106","v":230},{"$f":"IF(E25=E24,\"OK\",\"ERR\")","v":"OK"}," ",null,null,null,null,null,null,{"$f":"N23+N24+N19+N20","v":0}]
[null,null,"         C","コード行数",{"$f":"仕入月合計データ!S107","v":230},{"$f":"IF(E26=E25,\"OK\",\"ERR\")","v":"OK"}," "]
[null,null,"経費     A","科目行数",{"$f":"経費月合計データ!O21","v":8},null," ",null,"F5    27",{"$f":"IF(F5=\"OK\",\"\",\"仕入日報部品合計にERR\")","v":""},null,null,{"$f":"IF(J27=\"\",0,1)","v":0}]
[null,null,"           B","金額行数",{"$f":"経費月合計データ!O22","v":8},{"$f":"IF(E28=E27,\"OK\",\"ERR\")","v":"OK"}," ",null,"F8    28",{"$f":"IF(F8=\"OK\",\"\",\"仕入日報経費合計にERR\")","v":""},null,null,0]
[null,null,"           C","コード行数",{"$f":"経費月合計データ!O20","v":8},{"$f":"IF(E29=E28,\"OK\",\"ERR\")","v":"OK"},null,null,"F12   29",{"$f":"IF(F12=\"OK\",\"\",\"部品データの製番にERR\")","v":""},null,null,0]
[null,null,null,null,null,null,null,null,"F15   30",{"$f":"IF(F15=\"OK\",\"\",\"経費データの科目にERR\")","v":""},null,null,0]
[null,null,null,null,null,null,null,null,"F19   31",{"$f":"IF(F19=\"OK\",\"\",\"L転送保存部品データにERR\")","v":""},null,null,0]
[null,"本日入力のデータ残の有無",null,null,null,null,null,null,"F20   32",{"$f":"IF(F20=\"OK\",\"\",\"L転送保存経費データにERR\")","v":""},null,null,0]
[null,null,"部品",{"$f":"IF(部品本日入力!M2>0,\"あり\",\"なし\")","v":"あり"},{"$f":"IF(部品本日入力!M2>0,1,0)","v":1},null,null,null,"F25   33",{"$f":"IF(F25=\"OK\",\"\",\"部品データの金額にERR\")","v":""},null,null,0]
[null,null,"経費",{"$f":"IF(経費本日入力!J2>0,\"あり\",\"なし\")","v":"なし"},{"$f":"IF(経費本日入力!J2>0,1,0)","v":0},null,"本日入力にデータ残あり",null,"F26   34",{"$f":"IF(F26=\"OK\",\"\",\"部品データのコードにERR\")","v":""},null,null,0]
[null,null,null,null,null,null,null,null,"F28   35",{"$f":"IF(F28=\"OK\",\"\",\"経費データの金額にERR\")","v":""},null,null,0]
[null,null,null,null,null,null,null,null,"F29   36",{"$f":"IF(F29=\"OK\",\"\",\"経費データのコードにERR\")","v":""},null,null,0]
[null,"伝票入力日付表示用",null,"日",null,"月","月末日",null,37,"E転送データの部品と経費がERR",null,null," "]
[null,null,null,{"$f":"VALUE((TEXT(E38,\"d\")))","v":"1900-01-05"},{"$f":"TODAY()-26","v":"2021-06-05"},{"$f":"VALUE((TEXT(E38,\"m\")))","v":6},{"$f":"EOMONTH(G42,0)","v":"2021-02-28"},null,38,"入力データに不良あり"]
[null,null,null,null,{"$f":"[2]Sheet1!$A$2","v":2021},"日付基準年"]
[null,"更新変数",0,null,{"$f":"[2]Sheet1!$B$2","v":2},"日付基準月"]
[null,"来月変数",0]
[null,"表示日付",{"$f":"E42","v":"2021-02-28"},null,{"$f":"IF(C41=1,E38,IF(C40=1,E38,G38))","v":"2021-02-28"},"入力の日付表示",{"$f":"E39&\"/\"&E40","v":"2021/2"},null,"月末割り出し",null,"=EOMONTH(G42,0)"]
[null,null,0,null,null,"月末を過ぎたら1",{"$f":"IF(E38>G38,1,0)","v":1},null,"今日は月末の前か後か",null,"=IF(E38>G38,1,0)",null,"前",0]
[null,null,null,null,null,null,null,null,null,null,null,null,"後",1]
[]
[null,"終了変数",0,null,"終了は 1 継続は 0"]

{"sheet":"加工仕入","index":2,"n_rows":45,"n_cols":29,"rows_kept":45,"cut":false,"hidden":false,"merged":[[2,10,3,11],[2,7,2,8],[1,7,1,8],[5,4,5,5],[2,3,2,4],[3,3,3,4]]}
[]
[null," ",null,null,null," ",null,"当月分　加工品入力",null," "," ",{"$f":"Check!E42","v":"2021-02-28"}]
[null," ",null,"注文書No",null,null,null,"仕 入 先 名",null," ",{"$f":"IF(AND(I7>0,G7=\"\"),\"日付未入力\",IF(D4=\"\",\"\",IF(W5>0,\"納品書がダブリ\",IF(U5<1,\"注文書No 間違い\",\"\"))))","v":""}]
[null,"　",null,null,null,null,null,{"$f":"IF(L7=\"F\",\"社内加工\",VLOOKUP(L7,仕入先登録!$B$3:$C$499,2))","v":0},{"$f":"L7","v":0},null,null,null,null,null,null,null,"注文DT用"]
[null,null,null,null,null,null,null," ",null,null,null,null,null,null,null,null,{"$f":"IF(R6=0,\"D7:F7\",\"D7:F\"&R6+6)","v":"D7:F7"},{"$f":"IF(R6=0,\"D7:G7\",\"D7:G\"&R6+6)","v":"D7:G7"},{"$f":"IF(R6=0,\"H7:H7\",\"H7:H\"&R6+6)","v":"H7:H7"},{"$f":"IF(R6=0,\"I7:L7\",\"I7:L\"&R6+6)","v":"I7:L7"},1,{"$f":"D4","v":0},{"$f":"仕入入力済!G5","v":1},0]
[null," ","　","製番"," 品番",null,"納入日","品名","数量","単価","金額","ｺｰﾄﾞNO",null,null,null,null,{"$f":"IF(R6=0,\"H7:H7\",\"H7:H\"&R6+6)","v":"H7:H7"},{"$f":"SUM(R7:R14)","v":0},null,"　","=LEN(D7)","=TRIM(D7)","=LEN(V7)","=U7-W7"]
[null," ",null,null,null,null,null,null,null,null,{"$f":"IF(J7=\"\",\"\",I7*J7)","v":""},null,null,null,null,null,{"$f":"IF(R6=0,\"I7:K7\",\"I7:K\"&R6+6)","v":"I7:K7"},{"$f":"IF(L7<1,0,1)","v":0},null,null,{"$f":"LEN(D7)","v":0},{"$f":"TRIM(D7)","v":""},{"$f":"LEN(V7)","v":0},{"$f":"U7-W7","v":0}]
[{"$f":"IF(D8=\"\",\"\",IF(D7=\"\",\"ERR\",IF(CODE(D7)=32,\"ERR\",\"\")))","v":""}," ",null,null,null,null,null,null,null,null,{"$f":"IF(J8=\"\",\"\",I8*J8)","v":""},null,null,null,null,null,{"$f":"IF(R6=0,\"L7\",\"L7:L\"&R6+6)","v":"L7"},{"$f":"IF(L8<1,0,1)","v":0},null,null,0,"",{"$f":"LEN(V8)","v":0},{"$f":"U8-W8","v":0}]
[""," ",null,null,null,null,null,null,null,null,"",null,null,null,null,null,null,{"$f":"IF(L9<1,0,1)","v":0},null,null,0,"",0,0]
[""," ",null,null,null,null,null,null,null,null,"",null,null,null,null,null,null,{"$f":"IF(L10<1,0,1)","v":0},null,null,0,"",0,0]
[""," ",null,null,null,null,null,null,null,null,"",null,null,null,null,null,null,{"$f":"IF(L11<1,0,1)","v":0},null,null,0,"",0,0]
[""," ",null,null,null,null,null,null,null,null,"",null,null,null,null,null,null,0,null,null,0,"",0,0]
[""," ",null,null,null,null,null,null,null,null,"",null,null,null,null,null,null,0,null,null,0,"",0,0]
[""," ",null,null,null,null,null,null,null,null,"",null,null,null,null,null,null,0,null,null,0,"",0,0]
[null," ",null,"　",null," ",null,"本日処理した一覧を見るか？",null,"合計",{"$f":"SUM(K7:K14)","v":0}]
[null,null,null,null,"　","　",null,{"$f":"IF(K16>0,\"登録未処理あり。\",\"\")","v":"登録未処理あり。"},"　","本日入力合計",{"$f":"+部品本日入力!M2","v":3600},null," "]
[]
[]
[]
[]
[]
[null,null,null,null,null,null,null,null,null,null,null," "]
[]
[]
[null,null,null,null,null,null,null,null,null,null,null,null,null,null," "]
[null,null,null,null,null,null,null,null,null,null,null,null,null,null,null,null,null,null,null," "," "," "," "," "," "," "," "," "," "]
[]
[null,null,null,null,null,null,null,null,null,null,null,null,null,null,null,null,null,null,null,null,null,null,null,null,null,null,null," "]
[]
[]
[]
[]
[]
[]
[null,null,null,null,null,null,null,null,null,null,null,null,null,null,null,null,null,null,null,null,null,"コードチェックの列を抜くために転記"]
[]
[null,null,null,null,null,null,null,null,null,null,null,null,null,null,null,null,null,null,null,"製番","品番１","品番２","月","日","品名","数量","単価","金額","ｺｰﾄﾞNO"]
[null,null,null,null,null,null,null,null,null,null,null,null,null,null,null,null,null,null,null,{"$f":"+D7","v":0},{"$f":"+E7","v":0},{"$f":"+F7","v":0},{"$f":"+G7","v":0},{"$f":"+#REF!","v":{"$error":"#REF!"}},{"$f":"+H7","v":0},{"$f":"+I7","v":0},0,"",0]
[null,null,null,null,null,null,null,null,null,null,null,null,null,null,null,null,null,null,null,{"$f":"+D8","v":0},0,{"$f":"+F10","v":0},{"$f":"+G8","v":0},{"$f":"+#REF!","v":{"$error":"#REF!"}},{"$f":"+H8","v":0},0,0,"",0]
[null,null,null,null,null,null,null,null,null,null,null,null,null,null,null,null,null,null,null,0,0,{"$f":"+F9","v":0},0,{"$f":"+#REF!","v":{"$error":"#REF!"}},0,0,0,"",0]
[null,null,null,null,null,null,null,null,null,null,null,null,null,null,null,null,null,null,null,0,0,{"$f":"+#REF!","v":{"$error":"#REF!"}},0,{"$f":"+#REF!","v":{"$error":"#REF!"}},0,0,0,"",{"$f":"+L10","v":0}]
[null,null,null,null,null,null,null,null,null,null,null,null,null,null,null,null,null,null,null,0,0,{"$f":"+F11","v":0},0,{"$f":"+#REF!","v":{"$error":"#REF!"}},0,0,0,"",{"$f":"+L11","v":0}]
[null,null,null,null,null,null,null,null,null,null,null,null,null,null,null,null,null,null,null,0,0,{"$f":"+F12","v":0},0,{"$f":"+#REF!","v":{"$error":"#REF!"}},0,0,0,"",0]
[null,null,null,null,null,null,null,null,null,null,null,null,null,null,null,null,null,null,null,0,0,{"$f":"+F13","v":0},0,{"$f":"+#REF!","v":{"$error":"#REF!"}},0,0,0,"",0]
[null,null,null,null,null,null,null,null,null,null,null,null,null,null,null,null,null,null,null,0,0,{"$f":"+F14","v":0},0,{"$f":"+#REF!","v":{"$error":"#REF!"}},0,0,0,"",0]

{"sheet":"購入仕入","index":3,"n_rows":100,"n_cols":31,"rows_kept":100,"cut":false,"hidden":false,"merged":[[15,8,15,9],[2,6,2,8],[2,1,2,2],[3,6,3,7],[2,10,3,11],[1,6,1,8],[3,1,3,2],[5,2,5,3],[14,5,14,6],[14,8,14,9]]}
[]
[null," ",null,null,null," ","当月分　購入品入力",null,null,null," ",{"$f":"Check!E42","v":"2021-02-28"}]
[null,"注文書No",null,null,null,null,"仕 入 先 名",null,null," ",{"$f":"IF(AND(I7>0,E7=\"\"),\"日付未入力\",IF(B4=\"\",\"\",IF(X5>0,\"納品書ダブリ\",IF(V5<1,\"注文書No 間違い\",\"\"))))","v":""}]
[null,null,null,null,null,null,{"$f":"VLOOKUP($L$7,仕入先登録!$B$3:$C$499,2)","v":0},null,{"$f":"L7","v":0},null,null,null,null,null,null,null,null,null,"注文DT用"]
[null," ",null,null,null,null,null,null," ",null,null,null,null,null,null,null,null,null,{"$f":"IF(T6=0,\"B7:D7\",\"B7:D\"&T6+6)","v":"B7:D7"},{"$f":"IF(T6=0,\"B7:E7\",\"B7:E\"&T6+6)","v":"B7:E7"},{"$f":"IF(T6=0,\"F7:L7\",\"F7:L\"&T6+6)","v":"F7:L7"},1,{"$f":"B4","v":0},{"$f":"仕入入力済!H5","v":0}," "]
[null,"製番"," 品番",null,"納入日","品名","形状・寸法","メーカー","数量","単価","金額","ｺｰﾄﾞNO",null,null,null,null,null,null,{"$f":"IF(T6=0,\"F7:H7\",\"F7:H\"&T6+6)","v":"F7:H7"},{"$f":"SUM(T7:T14)","v":0},null,"=LEN(B7)","=TRIM(B7)","=LEN(W7)","=V7-X7"]
[null,null,null,null,null,null,null,null,null,null,{"$f":"IF(J7=\"\",\"\",I7*J7)","v":""},null,null," "," ",null,null,null,{"$f":"IF(T6=0,\"I7:K7\",\"I7:K\"&T6+6)","v":"I7:K7"},{"$f":"IF(L7<1,0,1)","v":0},null,{"$f":"LEN(B7)","v":0},{"$f":"TRIM(B7)","v":""},{"$f":"LEN(W7)","v":0},{"$f":"V7-X7","v":0}]
[2,null,null,null,null,null,null,null,null,null,"",null,null,null,null,null,null,null,{"$f":"IF(T6=0,\"L7\",\"L7:L\"&T6+6)","v":"L7"},0,null,{"$f":"LEN(B8)","v":0},{"$f":"TRIM(B8)","v":""},{"$f":"LEN(W8)","v":0},{"$f":"V8-X8","v":0}]
[{"$f":"IF(D9=\"\",\"\",IF(D8=\"\",\"ERR\",IF(CODE(D8)=32,\"ERR\",\"\")))","v":""},null,null,null,null,null,null,null,null,null,"",null,null,null,null,null,null,null,null,0,null,{"$f":"LEN(#REF!)","v":{"$error":"#REF!"}},{"$f":"TRIM(#REF!)","v":{"$error":"#REF!"}},{"$error":"#REF!"},{"$error":"#REF!"}]
[{"$f":"IF(#REF!=\"\",\"\",IF(D9=\"\",\"ERR\",IF(CODE(D9)=32,\"ERR\",\"\")))","v":{"$error":"#REF!"}},null,null,null,null,null,null,null,null,null,{"$f":"IF(J10=\"\",\"\",I10*J10)","v":""},null,null,null,null,null,null,null,null,0,null,{"$f":"LEN(B11)","v":0},{"$f":"TRIM(B11)","v":""},0,0]
[{"$f":"IF(D11=\"\",\"\",IF(#REF!=\"\",\"ERR\",IF(CODE(#REF!)=32,\"ERR\",\"\")))","v":""},null,null,null,null,null,null,null,null,null,"",null,null,null,null,null,null,null,null,0,null,{"$f":"LEN(B12)","v":0},{"$f":"TRIM(B12)","v":""},{"$f":"LEN(W11)","v":0},0]
[{"$f":"IF(D12=\"\",\"\",IF(D11=\"\",\"ERR\",IF(CODE(D11)=32,\"ERR\",\"\")))","v":""},null,null,null,null,null,null,null,null,null,{"$f":"IF(J12=\"\",\"\",I12*J12)","v":""},null,null,null,null,null,null,null,null,0,null,{"$f":"LEN(B12)","v":0},{"$f":"TRIM(B12)","v":""},0,0]
[{"$f":"IF(D13=\"\",\"\",IF(D12=\"\",\"ERR\",IF(CODE(D12)=32,\"ERR\",\"\")))","v":""},null,null,null,null,null,null,null,null,null,"",null,null,null,null,null,null,null,null,0,null,{"$f":"LEN(B13)","v":0},{"$f":"TRIM(B13)","v":""},0,0]
[{"$f":"IF(D10=\"\",\"\",IF(D13=\"\",\"ERR\",IF(CODE(D13)=32,\"ERR\",\"\")))","v":""},null,null,null,null,null,null,null,null,null,"",null,"　",null,null,null,null,null,null,0,null,{"$f":"LEN(B14)","v":0},{"$f":"TRIM(B14)","v":""},0,0]
[null," ",null,"　"," ","本日処理した一覧を見るか ？",null,null,"合計",null,{"$f":"SUM(K7:K14)","v":0}]
[null,null,null,null,"　"," ",{"$f":"IF(K16>0,\"登録未処理あり。\",\"\")","v":"登録未処理あり。"},null,"本日入力合計",null,{"$f":"+部品本日入力!M2","v":3600},null," "]
[]
[]
[]
[]
[]
[null,null,null,null,null,null,null,null,null,null,null,null,null," "]
[]
[]
[null,null,null,null,null,null,null,null,null,null,null,null,null,null,null,null," "]
[null,null,null,null,null,null,null,null,null,null,null,null,null,null,null,null,null,null,null,null,null," "," "," "," "," "," "," "," "," "," "]
[]
[null,null,null,null,null,null,null,null,null,null,null,null,null,null,null,null,null,null,null,null,null,null,null,null,null,null,null,null,null," "]
[]
[]
[]
[]
[]
[]
[null,null,null,null,null,null,null,null,null,null,null,null,null,null,null,null,null,null,null,null,null,null,null,"コードチェックの列を抜くために転記"]
[]
[null,null,null,null,null,null,null,null,null,null,null,null,null,null,null,null,null,null,null,null,null,"製番","品番１","品番２","月","日","品名","数量","単価","金額","ｺｰﾄﾞNO"]
[null,null,null,null,null,null,null,null,null,null,null,null,null,null,null,null,null,null,null,null,null,{"$f":"+D7","v":0},0,0,{"$f":"+#REF!","v":{"$error":"#REF!"}},{"$f":"+H7","v":0},{"$f":"+#REF!","v":{"$error":"#REF!"}},{"$f":"+I7","v":0},{"$f":"+J7","v":0},{"$f":"+K7","v":""},{"$f":"+L7","v":0}]
[null,null,null,null,null,null,null,null,null,null,null,null,null,null,null,null,null,null,null,null,null,0,0,0,{"$f":"+G9","v":0},0,{"$f":"+#REF!","v":{"$error":"#REF!"}},{"$f":"+I8","v":0},0,"",{"$f":"+L14","v":0}]
[null,null,null,null,null,null,null,null,null,null,null,null,null,null,null,null,null,null,null,null,null,0,0,0,{"$f":"+#REF!","v":{"$error":"#REF!"}},0,{"$f":"+#REF!","v":{"$error":"#REF!"}},0,0,"",{"$f":"+L9","v":0}]
[null,null,null,null,null,null,null,null,null,null,null,null,null,null,null,null,null,null,null,null,null,{"$f":"+#REF!","v":{"$error":"#REF!"}},{"$f":"+E10","v":0},{"$f":"+F14","v":0},{"$f":"+G10","v":0},0,{"$f":"+#REF!","v":{"$error":"#REF!"}},0,0,"",{"$f":"+L10","v":0}]
[null,null,null,null,null,null,null,null,null,null,null,null,null,null,null,null,null,null,null,null,null,{"$f":"+D11","v":0},{"$f":"+E11","v":0},{"$f":"+F11","v":0},{"$f":"+G11","v":0},0,{"$f":"+#REF!","v":{"$error":"#REF!"}},0,0,"",{"$f":"+L11","v":0}]
[null,null,null,null,null,null,null,null,null,null,null,null,null,null,null,null,null,null,null,null,null,{"$f":"+D12","v":0},{"$f":"+E12","v":0},{"$f":"+F12","v":0},{"$f":"+G12","v":0},0,{"$f":"+#REF!","v":{"$error":"#REF!"}},0,0,"",{"$f":"+L12","v":0}]
[null,null,null,null,null,null,null,null,null,null,null,null,null,null,null,null,null,null,null,null,null,{"$f":"+D13","v":0},{"$f":"+E13","v":0},{"$f":"+F13","v":0},{"$f":"+G13","v":0},0,{"$f":"+#REF!","v":{"$error":"#REF!"}},0,0,"",{"$f":"+L13","v":0}]
[null,null,null,null,null,null,null,null,null,null,null,null,null,null,null,null,null,null,null,null,null,{"$f":"+D10","v":0},{"$f":"+E14","v":0},{"$f":"+F7","v":0},{"$f":"+G7","v":0},{"$f":"+H7","v":0},{"$f":"+#REF!","v":{"$error":"#REF!"}},0,0,"",{"$f":"+#REF!","v":{"$error":"#REF!"}}]
[]
[]
[]
[]
[]
[]
[]
[]
[]
[]
[]
[]
[]
[]
[]
[]
[]
[]
[]
[]
[]
[]
[]
[]
[]
[]
[]
[]
[]
[]
[]
[]
[]
[]
[]
[]
[]
[]
[]
[]
[]
[]
[]
[]
[]
[]
[]
[]
[]
[]
[]
[]
[]
[]
[null,{"$f":"VLOOKUP($L$7,仕入先登録!$B$3:$C$395,2)","v":0}]

{"sheet":"材料仕入","index":4,"n_rows":45,"n_cols":31,"rows_kept":45,"cut":false,"hidden":false,"merged":[[15,8,15,9],[1,6,1,7],[3,6,3,7],[15,4,15,6],[2,6,2,8],[5,2,5,3],[2,1,2,2],[3,1,3,2],[2,10,3,11],[14,8,14,9]]}
[80]
[null," ",null,null," ",null,"当月分　材料入力",null,null," "," ",{"$f":"Check!E42","v":"2021-02-28"}]
[null,"注文書No",null,null,null,null,"仕 入 先 名",null,null," ",{"$f":"IF(AND(I7>0,E7=\"\"),\"日付未入力\",IF(B4=\"\",\"\",IF(X5>0,\"納品書ダブリ\",IF(V5<1,\"注文書No 間違い\",\"\"))))","v":""}]
[null,null,null,null,null,null,{"$f":"VLOOKUP(L7,仕入先登録!B3:C395,2)","v":0},null,{"$f":"L7","v":0},null,null,null,null,null,null,null,null,null,"注文DT用"]
[null," ",null,null,null,null,null," ",null,null,null,null,null,null,null,null,null,null,{"$f":"IF(T6=0,\"B7:D7\",\"B7:D\"&T6+6)","v":"B7:D7"},{"$f":"IF(T6=0,\"B7:H7\",\"B7:H\"&T6+6)","v":"B7:H7"},{"$f":"IF(T6=0,\"I7:L7\",\"I7:L\"&T6+6)","v":"I7:L7"},1,{"$f":"B4","v":0},{"$f":"仕入入力済!I5","v":0}," "]
[null,"製番"," 品番",null,"納入日","細　　品番","材質","材料取り","数量","単価","金額","ｺｰﾄﾞNO",null,null,null,null,null,null,{"$f":"IF(T6=0,\"F7:H7\",\"F7:H\"&T6+6)","v":"F7:H7"},{"$f":"SUM(T7:T14)","v":0},null,"=LEN(B7)","=TRIM(B7)","=LEN(W7)","=V7-X7"]
[null,null,null,null,null,null,null,null,null,null,{"$f":"IF(J7=\"\",\"\",I7*J7)","v":""},null,null,null,null,null,null,null,{"$f":"IF(T6=0,\"I7:K7\",\"I7:K\"&T6+6)","v":"I7:K7"},{"$f":"IF(L7<1,0,1)","v":0},null,{"$f":"LEN(B7)","v":0},{"$f":"TRIM(B7)","v":""},{"$f":"LEN(W7)","v":0},{"$f":"V7-X7","v":0}]
[{"$f":"IF(D8=\"\",\"\",IF(D7=\"\",\"ERR\",IF(CODE(D7)=32,\"ERR\",\"\")))","v":""},null,null,null,null,null,null,null,null,null,{"$f":"IF(J8=\"\",\"\",I8*J8)","v":""},null,null,null,null,null,null,null,{"$f":"IF(T6=0,\"L7\",\"L7:L\"&T6+6)","v":"L7"},0,null,{"$f":"LEN(B8)","v":0},{"$f":"TRIM(B8)","v":""},{"$f":"LEN(W8)","v":0},{"$f":"V8-X8","v":0}]
[{"$f":"IF(D9=\"\",\"\",IF(D8=\"\",\"ERR\",IF(CODE(D8)=32,\"ERR\",\"\")))","v":""},null,null,null,null,null,null,null,null,null,"",null,null,null,null,null,null,null,null,0,null,0,"",0,0]
["",null,null,null,null,null,null,null,null,null,"",null,null,null,null,null,null,null,null,0,null,0,"",0,0]
["",null,null,null,null,null,null,null,null,null,"",null,null,null,null,null,null,null,null,0,null,0,"",0,0]
["",null,null,null,null,null,null,null,null,null,"",null,null,null,null,null,null,null,null,0,null,0,"",0,0]
["",null,null,null,null,null,null,null,null,null,"",null,null,null,null,null,null,null,null,0,null,0,"",0,0]
["",null,null,null,null,null,null,null,null,null,"",null,null,null,null,null,null,null,null,0,null,0,"",0,0]
[null,"　",null,"　","本日処理した一覧を見るか ？",null,null,null,"合計",null,{"$f":"SUM(K7:K14)","v":0},"　",null,null,null,{"$f":"IF(B15=\"ERR\",1,\"\")","v":""}]
[null,null,null,null,{"$f":"IF(K16>0,\"登録未処理あり。\",\"\")","v":"登録未処理あり。"},null,null,null,"本日入力合計",null,{"$f":"+部品本日入力!M2","v":3600},null," "]
[]
[]
[]
[]
[]
[null,null,null,null,null,null,null,null,null,null,null," "]
[]
[]
[null,null,null,null,null,null,null,null,null,null,null,null,null,null,null," "]
[null,null,null,null,null,null,null,null,null,null,null,null,null,null,null,null,null,null,null,null,null," "," "," "," "," "," "," "," "," "," "]
[]
[null,null,null,null,null,null,null,null,null,null,null,null,null,null,null,null,null,null,null,null,null,null,null,null,null,null,null,null,null," "]
[]
[]
[]
[]
[]
[]
[null,null,null,null,null,null,null,null,null,null,null,null,null,null,null,null,null,null,null,null,null,null,null,"コードチェックの列を抜くために転記"]
[]
[null,null,null,null,null,null,null,null,null,null,null,null,null,null,null,null,null,null,null,null,null,"製番","品番１","品番２","月","日","品名","数量","単価","金額","ｺｰﾄﾞNO"]
[null,null,null,null,null,null,null,null,null,null,null,null,null,null,null,null,null,null,null,null,null,{"$f":"+D7","v":0},{"$f":"+#REF!","v":{"$error":"#REF!"}},{"$f":"+E7","v":0},0,0,{"$f":"+#REF!","v":{"$error":"#REF!"}},{"$f":"+I7","v":0},0,"",0]
[null,null,null,null,null,null,null,null,null,null,null,null,null,null,null,null,null,null,null,null,null,0,{"$f":"+#REF!","v":{"$error":"#REF!"}},0,0,0,{"$f":"+#REF!","v":{"$error":"#REF!"}},0,0,"",0]
[null,null,null,null,null,null,null,null,null,null,null,null,null,null,null,null,null,null,null,null,null,0,{"$f":"+#REF!","v":{"$error":"#REF!"}},0,0,0,{"$f":"+#REF!","v":{"$error":"#REF!"}},0,0,"",0]
[null,null,null,null,null,null,null,null,null,null,null,null,null,null,null,null,null,null,null,null,null,0,{"$f":"+#REF!","v":{"$error":"#REF!"}},0,0,0,{"$f":"+#REF!","v":{"$error":"#REF!"}},0,0,"",0]
[null,null,null,null,null,null,null,null,null,null,null,null,null,null,null,null,null,null,null,null,null,0,{"$f":"+#REF!","v":{"$error":"#REF!"}},0,0,0,{"$f":"+#REF!","v":{"$error":"#REF!"}},0,0,"",0]
[null,null,null,null,null,null,null,null,null,null,null,null,null,null,null,null,null,null,null,null,null,0,{"$f":"+#REF!","v":{"$error":"#REF!"}},0,0,0,{"$f":"+#REF!","v":{"$error":"#REF!"}},0,0,"",0]
[null,null,null,null,null,null,null,null,null,null,null,null,null,null,null,null,null,null,null,null,null,0,{"$f":"+#REF!","v":{"$error":"#REF!"}},0,0,0,{"$f":"+#REF!","v":{"$error":"#REF!"}},0,0,"",0]
[null,null,null,null,null,null,null,null,null,null,null,null,null,null,null,null,null,null,null,null,null,0,{"$f":"+#REF!","v":{"$error":"#REF!"}},0,0,0,{"$f":"+#REF!","v":{"$error":"#REF!"}},0,0,"",0]

{"sheet":"経費仕入","index":5,"n_rows":45,"n_cols":30,"rows_kept":45,"cut":false,"hidden":false,"merged":[[2,10,3,11],[1,6,1,8],[2,6,2,8],[2,2,2,3],[3,2,3,3],[3,6,3,7]]}
[]
[" ",null,null,null,null,null," 経費 入力画面 ",null,null," "," ",{"$f":"Check!E42","v":"2021-02-28"}]
[" ",null,"注文書No",null,null,null,"仕 入 先 名",null,null," ",{"$f":"IF(AND(I7>0,E7=\"\"),\"日付未入力\",IF(C4=\"\",\"\",IF(X5>0,\"納品書ダブリ\",IF(V5<1,\"注文書No 間違い\",\"\"))))","v":""}]
[" ",null,null,null," ",null,{"$f":"VLOOKUP(L7,仕入先登録!B3:C395,2)","v":0},null,{"$f":"L7","v":0}]
[null,null,null,null,null,null," ",null,null,null,null,null,null,null,null,null,null,null,null,{"$f":"IF(T6=0,\"C7:L7\",\"C7:L\"&T6+6)","v":"C7:L7"},{"$f":"IF(T6=0,\"F7:L7\",\"F7:L\"&T6+6)","v":"F7:L7"},1,{"$f":"C4","v":0},{"$f":"仕入入力済!J5","v":0}," "]
[" ",null,"科目","科目No","納入日","品名","形状・寸法","メーカー","数量","単価","金額","ｺｰﾄﾞNO",null,null,null,null,null,null,null,{"$f":"SUM(T7:T14)","v":0}]
[null,null,{"$f":"IF(D7=\"\",\"\",VLOOKUP(D7,$N$7:$O$11,2))","v":""},null,null,null,null,null,null,null,{"$f":"IF(J7=\"\",\"\",I7*J7)","v":""},null,null,"P-1","加工用刃具",null,null,null,null,{"$f":"IF(L7<1,0,1)","v":0}]
[{"$f":"IF(D8=\"\",\"\",IF(D7=\"\",\"ERR\",IF(CODE(D7)=32,\"ERR\",\"\")))","v":""},null,"",null,null,null,null,null,null,null,{"$f":"IF(J8=\"\",\"\",I8*J8)","v":""},null,null,"P-2","加工用工具",null,null,null,null,{"$f":"IF(L8<1,0,1)","v":0}]
[{"$f":"IF(D9=\"\",\"\",IF(D8=\"\",\"ERR\",IF(CODE(D8)=32,\"ERR\",\"\")))","v":""},null,"",null,null,null,null,null,null,null,"",null,null,"P-3","消耗品",null,null,null,null,0]
["",null,"",null,null,null,null,null,null,null,"",null,null,"P-4","改善５Ｓ用",null,null,null,null,0]
["",null,"",null,null,null,null,null,null,null,"",null,null,"P5","ERR",null,null,null,null,0]
["",null,"",null,null,null,null,null,null,null,"",null,null,null,null,null,null,null,null,0]
["",null,"",null,null,null,null,null,null,null,"",null,null,null,null,null,null,null,null,0]
["",null,"",null,null,null,null,null,null,null,"",null,null,null,null,null,null,null,null,0]
[null,null," ","　",null," ","本日処理した一覧を見るか ？",null,null,"合計",{"$f":"SUM(K7:K14)","v":0}]
[null,null,null,"　",null," ",{"$f":"IF(K16>0,\"登録未処理あり。\",\"\")","v":""},null," ","本日入力合計",{"$f":"+経費本日入力!J2","v":0}]
[]
[]
[]
[]
[]
[]
[]
[]
[]
[]
[]
[]
[]
[]
[]
[]
[]
[]
[null,null,null,null,null,null,null,null,null,null,null,null,null,null,null,null,null,null,null,null,null,null,null,"コードチェックの列を抜くために転記"]
[]
[null,null,null,null,null,null,null,null,null,null,null,null,null,null,null,null,null,null,null,null,null,"科目","科目Ｎｏ","月","日","品名","数量","単価","金額","ｺｰﾄﾞNO"]
[null,null,null,null,null,null,null,null,null,null,null,null,null,null,null,null,null,null,null,null,null,{"$f":"+C7","v":""},0,0,0,0,{"$f":"+I7","v":0},0,"",0]
[null,null,null,null,null,null,null,null,null,null,null,null,null,null,null,null,null,null,null,null,null,"",0,0,0,0,0,0,"",0]
[null,null,null,null,null,null,null,null,null,null,null,null,null,null,null,null,null,null,null,null,null,"",0,0,0,0,0,0,"",0]
[null,null,null,null,null,null,null,null,null,null,null,null,null,null,null,null,null,null,null,null,null,"",0,0,0,0,0,0,"",0]
[null,null,null,null,null,null,null,null,null,null,null,null,null,null,null,null,null,null,null,null,null,"",0,0,0,0,0,0,"",0]
[null,null,null,null,null,null,null,null,null,null,null,null,null,null,null,null,null,null,null,null,null,"",0,0,0,0,0,0,"",0]
[null,null,null,null,null,null,null,null,null,null,null,null,null,null,null,null,null,null,null,null,null,"",0,0,0,0,0,0,"",0]
[null,null,null,null,null,null,null,null,null,null,null,null,null,null,null,null,null,null,null,null,null,"",0,0,0,0,0,0,"",0]

{"sheet":"加工DT抽出","index":6,"n_rows":23,"n_cols":18,"rows_kept":23,"cut":false,"hidden":false,"merged":[[4,13,4,14],[14,13,14,14]]}
[]
[]
[]
[null,"注番",null,null,null,null,null,null,null,null,"月","日",null,null,null,{"$f":"SUM(P5:P12)","v":129231}]
[null,"製番","品番1","品番2","　　　　品名","　　　　形状  寸法","　メーカ","備考","数量","単価","金額","仕入先名","仕入先コード","納期",null,"納入印","注文書No","DT行番号"]
[null,"A-3544","A1","09","ガイドフランジ",null,null,"A-900",1,1000,1000,"㈱モリ",166,11,30,"2017-12-08","OZ19570",14]
[null,"A-3544","A1","10","ガイドフランジ",null,null,"A-900",1,1000,1000,"㈱モリ",166,11,30,"2017-12-08","OZ19570",15]
[null,"A-3544","A1","11","ガイドフランジ",null,null,"A-900",1,1500,1500,"㈱モリ",166,11,30,"2017-12-08","OZ19570",16]
[]
[]
[]
[]
[]
[]
[null,"製番","品番1","品番2","　　　　品名","　　　　形状  寸法","　メーカ","備考","数量","単価","金額","仕入先名","仕入先コード","納期",null,"納入印","注文書No","DT行番号"]
[null,{"$f":"IF(B6=\"\",\"\",B6)","v":"A-3544"}]
[null,{"$f":"IF(B7=\"\",\"\",B7)","v":"A-3544"}]
[null,"A-3544",null,null,null,null,"B16:B23はB6:B13の製番を取り出すための処理。"]
[null,"",null,null,null,null,"関数が入っている。"]
[null,""]
[null,""]
[null,""]
[null,""]

{"sheet":"購入DT抽出","index":7,"n_rows":23,"n_cols":19,"rows_kept":23,"cut":false,"hidden":false,"merged":[[4,13,4,14],[14,13,14,14]]}
[]
[]
[]
[null,"注番",null,null,null,null,null,null,null,null,null,null,"月","日",null,null,null,{"$f":"SUM(R6:R13)","v":0}]
[null,"製番","品番1","品番2","　　　　品名","　　　　形状  寸法","　メーカ","備考","数量","単価","金額","仕入先名","仕入先コード","納期",null,"納入印","注文書No","チェック値","DT行番号"]
[null,null,null,null,null,null,null,null,null,null,null,null,null,null,null,null,null,{"$f":"IF(I6<1,0,1)","v":0}]
[null,null,null,null,null,null,null,null,null,null,null,null,null,null,null,null,null,0]
[null,null,null,null,null,null,null,null,null,null,null,null,null,null,null,null,null,0]
[null,null,null,null,null,null,null,null,null,null,null,null,null,null,null,null,null,0]
[null,null,null,null,null,null,null,null,null,null,null,null,null,null,null,null,null,0]
[null,null,null,null,null,null,null,null,null,null,null,null,null,null,null,null,null,0]
[null,null,null,null,null,null,null,null,null,null,null,null,null,null,null,null,null,0]
[null,null,null,null,null,null,null,null,null,null,null,null,null,null,null,null,null,0]
[]
[null,"製番","品番1","品番2","　　　　品名","　　　　形状  寸法","　メーカ","備考","数量","単価","金額","仕入先名","仕入先コード","納期",null,"納入印","注文書No","チェック値","DT行番号"]
[null,{"$f":"IF(B6=\"\",\"\",B6)","v":""}]
[null,{"$f":"IF(B7=\"\",\"\",B7)","v":""}]
[null,"",null,null,null,"B16:B23はB6:B13の製番を取り出すための処理。"]
[null,"",null,null,null,"関数が入っている。"]
[null,""]
[null,""]
[null,""]
[null,""]

{"sheet":"材料DT抽出","index":8,"n_rows":23,"n_cols":18,"rows_kept":23,"cut":false,"hidden":false,"merged":[[4,12,4,13],[14,12,14,13]]}
[]
[]
[]
[null,"注番",null,null,null,null,null,null,null,null,null,null,"月","日",null,null,{"$f":"SUM(Q6:Q13)","v":0}]
[null,"製番","品番1","品番2","細品番","材質","材料取り","数量","単価","金額","仕入先名","仕入先コード","納期",null,"納入印","注文書No","チェック値","行番号"]
[null,null,null,null,null,null,null,null,null,null,null,null,null,null,null,null,{"$f":"IF(H6<1,0,1)","v":0}]
[null,null,null,null,null,null,null,null,null,null,null,null,null,null,null,null,{"$f":"IF(H7<1,0,1)","v":0}]
[null,null,null,null,null,null,null,null,null,null,null,null,null,null,null,null,0]
[null,null,null,null,null,null,null,null,null,null,null,null,null,null,null,null,0]
[null,null,null,null,null,null,null,null,null,null,null,null,null,null,null,null,0]
[null,null,null,null,null,null,null,null,null,null,null,null,null,null,null,null,0]
[null,null,null,null,null,null,null,null,null,null,null,null,null,null,null,null,0]
[null,null,null,null,null,null,null,null,null,null,null,null,null,null,null,null,0]
[]
[null,"製番","品番1","品番2","細品番","材質","材料取り","数量","単価","金額","仕入先名","仕入先コード","納期",null,"納入印","注文書No","チェック値"]
[null,{"$f":"IF(B6=\"\",\"\",B6)","v":""}]
[null,{"$f":"IF(B7=\"\",\"\",B7)","v":""}]
[null,"",null,null,null,null,"B16:B23はB6:B13の製番を取り出すための処理。"]
[null,"",null,null,null,null,"関数が入っている。"]
[null,""]
[null,""]
[null,""]
[null,""]

{"sheet":"経費DT抽出","index":9,"n_rows":5,"n_cols":17,"rows_kept":5,"cut":false,"hidden":false,"merged":[]}
[]
[]
[]
[null,null,"注番",null,null,null,null,null,null,null,null,"月","日"]
[null,"製　番","品番1","品番2","　　　　品名","形状  寸法","　メーカ","備考","数量","単価","金額","仕入先名","仕入先コード","納","期","納入印","注文書No"]

{"sheet":"仕入入力済","index":10,"n_rows":6,"n_cols":15,"rows_kept":6,"cut":false,"hidden":false,"merged":[[3,1,3,4],[2,1,2,4]]}
[null,{"$f":"\"B\"&COUNTA(B6:B3829)+6","v":"B7"},{"$f":"\"C\"&COUNTA(B6:B3829)+6","v":"C7"},{"$f":"\"D\"&COUNTA(D6:D7993)+6","v":"D6"},{"$f":"\"E\"&COUNTA(E6:E7207)+6","v":"E6"},null,"　",null,null,null,null,"B6","C6","D6","E6"]
[null,null,null,null,null,null,null," ",null,null,null,{"$f":"COUNTA(#REF!)+5","v":6},{"$f":"COUNTA(#REF!)+5","v":6},{"$f":"COUNTA(D6:D6786)+5","v":5},{"$f":"COUNTA(E6:E7207)+5","v":5}]
[null,"納品書の重複入力チェック",null,null,null,null,"加工チェック","購入チェック","材料チェック","経費チェック",null,"値引きデータベースの注文書Ｎｏの行を削除するために"]
[null,"仕入入力済の注文書N0",null,null,null,null,{"$f":"加工仕入!V5","v":0},{"$f":"購入仕入!W5","v":0},{"$f":"材料仕入!W5","v":0},{"$f":"経費仕入!W5","v":0},null,"上記のセルの注文書Ｎｏを削除する。"]
[null,"加工品","購入品","材料","経費",null,{"$f":"COUNTIF(B6:B7294,G4)","v":1},{"$f":"COUNTIF(C6:C5200,H4)","v":0},{"$f":"COUNTIF(D6:D7993,I4)","v":0},{"$f":"COUNTIF(E6:E7206,J4)","v":0}]
[null,0]

{"sheet":"仕入先登録","index":11,"n_rows":363,"n_cols":13,"rows_kept":363,"cut":false,"hidden":false,"merged":[]}
["　",null,"仕入先登録"]
[null,"コードNO","仕入先名","　","　",null,null,null,null,null,0,null,2]
[null,0,null,"　"]
[null,1,"AAAA","コードNOの付けかた"]
[null,2,"BBBB","材料","1から21"]
[null,3,"CCCC","外注加工","101から200"]
[null,4,"DDDD","購入品","201から300"]
[null,5,"EEEE","外注設計","301から334"]
[null,6,"FFFF","外注電装","401から426"]
[null,7,"GGGG","外注組立","501から543"]
[null,8,"HHHH"]
[null,9,"JJJJ"]
[null,10,"KKKK"]
[null,11,"LLLL"]
[null,12,"MMMM"]
[null,13,"NNNN"]
[null,14,"PPPP"]
[null,15,"QQQQ"]
[null,16,"RRRR"]
[null,17,"SSSS"]
[null,18,"TTTT"]
[null,19,"UUUU"]
[null,20,"VVVV"]
[null,21,"WWWW"]
[null,101,"AAA"]
[null,102,"BBB"]
[null,103,"CCC"]
[null,104,"DDD"]
[null,105,"EEE"]
[null,106,"FFF"]
[null,107,"GGG"]
[null,108,"HHH"]
[null,109,"LLL"]
[null,110,"MMM"]
[null,111,"NNN"]
[null,112,"PPP"]
[null,113,"QQQ"]
[null,114,"RRR"]
[null,115,"SSS"]
[null,116,"TTT"]
[null,117,"UUU"]
[null,118,"VVV"]
[null,119,"WWW"]
[null,120,"XXX"]
[null,121,"YYY"]
[null,122,"ZZZ"]
[null,123,"AA1"]
[null,124,"BB1"]
[null,125,"CC1"]
[null,126,"DD1"]
[null,127,"EE1"]
[null,128,"FF1"]
[null,129,"GG1"]
[null,130,"HH1"]
[null,131,"LL1"]
[null,132,"MM1"]
[null,133,"NN1"]
[null,134,"PP1"]
[null,135,"QQ1"]
[null,136,"RR1"]
[null,137,"SS1"]
[null,138,"TT1"]
[null,139,"UU1"]
[null,140,"VV1"]
[null,141,"WW1"]
[null,142,"XX1"]
[null,143,"YY1"]
[null,144,"ZZ1"]
[null,145,"AA2"]
[null,146,"BB2"]
[null,147,"CC2"]
[null,148,"DD2"]
[null,149,"EE2"]
[null,150,"FF2"]
[null,151,"GG2"]
[null,152,"HH2"]
[null,153,"LL2"]
[null,154,"MM2"]
[null,155,"NN2"]
[null,156,"PP2"]
[null,157,"QQ2"]
[null,158,"RR2"]
[null,159,"SS2"]
[null,160,"TT2"]
[null,161,"UU2"]
[null,162,"VV2"]
[null,163,"WW2"," "," "]
[null,164,"XX2"]
[null,165,"YY2"]
[null,166,"ZZ2"]
[null,167,"AA3"]
[null,168,"BB3"]
[null,169,"CC3"]
[null,170,"DD3"]
[null,171,"EE3"]
[null,172,"FF3"]
[null,173,"GG3"]
[null,174,"HH3"]
[null,175,"LL3"]
[null,176,"MM3"]
[null,177,"NN3"]
[null,178,"PP3"]
[null,179,"QQ3"]
[null,180,"RR3"]
[null,181,"SS3"]
[null,182,"TT3"]
[null,183,"UU3"]
[null,184,"VV3"]
[null,185,"WW3"]
[null,186,"XX3"]
[null,187,"YY3"]
[null,188,"ZZ3"]
[null,189,"AA4"]
[null,190,"BB4"]
[null,191,"CC4"]
[null,192,"DD4"]
[null,193,"EE4"]
[null,194,"FF4"]
[null,195,"GG4"]
[null,196,"HH4"]
[null,197,"LL4"]
[null,198,"MM4"]
[null,199,"NN4"]
[null,200,"PP4"]
[null,201,"QQ4"]
[null,202,"RR4"]
[null,203,"SS4"]
[null,204,"TT4"]
[null,205,"UU4"]
[null,206,"VV4"]
[null,207,"WW4"]
[null,208,"XX4"]
[null,209,"YY4"]
[null,210,"ZZ4"]
[null,211,"AA5"]
[null,212,"BB5"]
[null,213,"CC5"]
[null,214,"DD5"]
[null,215,"EE5"]
[null,216,"FF5"]
[null,217,"GG5"]
[null,218,"HH5"]
[null,219,"LL5"]
[null,220,"MM5"]
[null,221,"NN5"]
[null,222,"PP5"]
[null,223,"QQ5"]
[null,224,"RR5"]
[null,225,"SS5"]
[null,226,"TT5"]
[null,227,"UU5"]
[null,228,"VV5"]
[null,229,"WW5"]
[null,230,"XX5"]
[null,231,"YY5"]
[null,232,"ZZ5"]
[null,233,"AA6"]
[null,234,"BB6"]
[null,235,"CC6"]
[null,236,"DD6"]
[null,237,"EE6"]
[null,238,"FF6"]
[null,239,"GG6"]
[null,240,"HH6"]
[null,241,"LL6"]
[null,242,"MM6"]
[null,243,"NN6"]
[null,244,"PP6"]
[null,245,"QQ6"]
[null,246,"RR6"]
[null,247,"SS6"]
[null,248,"TT6"]
[null,249,"UU6"]
[null,250,"VV6"]
[null,251,"WW6"]
[null,252,"XX6"]
[null,253,"YY6"]
[null,254,"ZZ6"]
[null,255,"AA7"]
[null,256,"BB7"]
[null,257,"CC7"]
[null,258,"DD7"]
[null,259,"EE7"]
[null,260,"FF7"]
[null,261,"GG7"]
[null,262,"HH7"]
[null,263,"LL7"]
[null,264,"MM7"]
[null,265,"NN7"]
[null,266,"PP7"]
[null,267,"QQ7"]
[null,268,"RR7"]
[null,269,"SS7"]
[null,270,"TT7"]
[null,271,"UU7"]
[null,272,"VV7"]
[null,273,"WW7"]
[null,274,"XX7"]
[null,275,"YY7"]
[null,276,"ZZ7"]
[null,277,"AA8"]
[null,278,"BB8"]
[null,279,"CC8"]
[null,280,"DD8"]
[null,281,"EE8"]
[null,282,"FF8"]
[null,283,"GG8"]
[null,284,"HH8"]
[null,285,"LL8"]
[null,286,"MM8"]
[null,287,"NN8"]
[null,288,"PP8"]
[null,289,"QQ8"]
[null,290,"RR8"]
[null,291,"SS8"]
[null,292,"TT8"]
[null,293,"UU8"]
[null,294,"VV8"]
[null,295,"WW8"]
[null,296,"XX8"]
[null,297,"YY8"]
[null,298,"ZZ8"]
[null,299,"AA9"]
[null,300,"BB9"]
[null,301,"CC9"]
[null,302,"DD9"]
[null,303,"EE9"]
[null,304,"FF9"]
[null,305,"GG9"]
[null,306,"HH9"]
[null,307,"LL9"]
[null,308,"MM9"]
[null,309,"NN9"]
[null,310,"PP9"]
[null,311,"QQ9"]
[null,312,"RR9"]
[null,313,"SS9"]
[null,314,"TT9"]
[null,315,"UU9"]
[null,316,"VV9"]
[null,317,"WW9"]
[null,318,"XX9"]
[null,319,"YY9"]
[null,320,"ZZ9"]
[null,321,"Aa1"]
[null,322,"Bb1"]
[null,323,"Cc1"]
[null,324,"Dd1"]
[null,325,"Ee1"]
[null,326,"Ff1"]
[null,327,"Gg1"]
[null,328,"Hh1"]
[null,329,"Ll1"]
[null,330,"Mm1"]
[null,331,"Nn1"]
[null,332,"Pp1"]
[null,333,"Qq1"]
[null,334,"Rr1"]
[null,400,"Ss1"]
[null,401,"Tt1"]
[null,402,"Uu1"]
[null,403,"Vv1"]
[null,404,"Ww1"]
[null,405,"Xx1"]
[null,406,"Yy1"]
[null,407,"Zz1"]
[null,408,"Aa2"]
[null,409,"Bb2"]
[null,410,"Cc2"]
[null,411,"Dd2"]
[null,412,"Ee2"]
[null,413,"Ff2"]
[null,414,"Gg2"]
[null,415,"Hh2"]
[null,416,"Ll2"]
[null,417,"Mm2"]
[null,418,"Nn2"]
[null,419,"Pp2"]
[null,420,"Qq2"]
[null,421,"Rr2"]
[null,422,"Ss2"]
[null,423,"Tt2"]
[null,424,"Uu2"]
[null,425,"Vv2"]
[null,426,"Ww2"]
[null,501,"Xx2"]
[null,502,"Yy2"]
[null,503,"Zz2"]
[null,504,"Aa3"]
[null,505,"Bb3"]
[null,506,"Cc3"]
[null,507,"Dd3"]
[null,508,"Ee3"]
[null,509,"Ff3"]
[null,510,"Gg3"]
[null,511,"Hh3"]
[null,512,"Ll3"]
[null,513,"Mm3"]
[null,514,"Nn3"]
[null,515,"Pp3"]
[null,516,"Qq3"]
[null,517,"Rr3"]
[null,518,"Ss3"]
[null,519,"Tt3"]
[null,520,"Uu3"]
[null,521,"Vv3"]
[null,522,"Ww3"]
[null,523,"Xx3"]
[null,524,"Yy3"]
[null,525,"Zz3"]
[null,526,"Aa4"]
[null,527,"Bb4"]
[null,528,"Cc4"]
[null,529,"Dd4"]
[null,530,"Ee4"]
[null,531,"Ff4"]
[null,532,"Gg4"]
[null,533,"Hh4"]
[null,534,"Ll4"]
[null,535,"Mm4"]
[null,536,"Nn4"]
[null,537,"Pp4"]
[null,538,"Qq4"]
[null,539,"Rr4"]
[null,540,"Ss4"]
[null,541,"Tt4"]
[null,542,"Uu4"]
[null,543,"v4"]
[null,601,"Ww4"]
[null,602,"Xx4"]
[null,603,"Yy4"]
[null,604,"Zz4"]
[null,605,"Aa5"]
[null,606,"Bb5"]
[null,607,"Cc5"]
[null,608,"Dd5"]
[null,609,"Ee5"]
[null,610,"Ff5"]
[null,611,"Gg5"]
[null,612,"Hh5"]
[null,613,"Ll5"]
[null,614,"Mm5"]
[null,615,"Nn5"]
[null,616,"Pp5"]
[null,617,"Qq5"]
[null,618,"Rr5"]
[null,619,"Ss5"]
[null,620,"Tt5"]
[null,621,"Uu5"]
[null,622,"Vv5"]
[null,623,"Ww5"]
[null,624,"Xx5"]
[null,625,"Yy5"]
[null,626,"Zz5"]
[null,627,"Aa6"]
[null,628,"Bb6"]
[null,629,"Cc6"]
[null,630,"Dd6"]
[null,631,"Ee6"]
[null,632,"Ff6"]
[null,633,"Gg6"]
[null,634,"Hh6"]
[null,635,"Ll6"]

{"sheet":"仕入先別金額","index":12,"n_rows":373,"n_cols":9,"rows_kept":373,"cut":false,"hidden":false,"merged":[[278,16,278,17],[1,18,1,20],[2,16,3,16],[2,17,3,17],[2,18,2,19],[2,20,2,21],[1,3,1,5],[365,1,365,2],[2,5,2,6],[2,1,3,1],[2,2,3,2],[2,3,2,4]]}
[]
[null,null,null,"仕入先別 仕入金額",null,null,null,{"$f":"TODAY()","v":"2021-07-01"}]
[null,"No","仕入先","本日仕入額　",null,"前日仕入額",null,"当月仕入額"]
[null,null,null,"部品仕入","経費仕入","部品仕入","経費仕入","累計額"]
[null,{"$f":"+仕入先登録!B3","v":0},{"$f":"+仕入先登録!C3","v":0},{"$f":"+計算2!D5","v":0},{"$f":"+計算2!S5","v":0},{"$f":"+計算1!S5","v":0},{"$f":"+計算1!AH5","v":0},{"$f":"SUM(D5:G5)","v":0}]
[null,{"$f":"+仕入先登録!B4","v":1},{"$f":"+仕入先登録!C4","v":"AAAA"},{"$f":"+計算2!D7","v":0},{"$f":"+計算2!S7","v":0},{"$f":"+計算1!S7","v":0},{"$f":"+計算1!AH7","v":0},{"$f":"SUM(D6:G6)","v":0}]
[null,{"$f":"+仕入先登録!B5","v":2},{"$f":"+仕入先登録!C5","v":"BBBB"},{"$f":"+計算2!D9","v":0},{"$f":"+計算2!S9","v":0},{"$f":"+計算1!S9","v":0},{"$f":"+計算1!AH9","v":0},{"$f":"SUM(D7:G7)","v":0}]
[null,{"$f":"+仕入先登録!B6","v":3},{"$f":"+仕入先登録!C6","v":"CCCC"},{"$f":"+計算2!D11","v":0},{"$f":"+計算2!S11","v":0},{"$f":"+計算1!S11","v":0},{"$f":"+計算1!AH11","v":0},0]
[null,{"$f":"+仕入先登録!B7","v":4},{"$f":"+仕入先登録!C7","v":"DDDD"},{"$f":"+計算2!D13","v":0},{"$f":"+計算2!S13","v":0},{"$f":"+計算1!S13","v":0},{"$f":"+計算1!AH13","v":200},200]
[null,{"$f":"+仕入先登録!B8","v":5},{"$f":"+仕入先登録!C8","v":"EEEE"},{"$f":"+計算2!D15","v":100},{"$f":"+計算2!S15","v":0},{"$f":"+計算1!S15","v":0},{"$f":"+計算1!AH15","v":800},900]
[null,{"$f":"+仕入先登録!B9","v":6},{"$f":"+仕入先登録!C9","v":"FFFF"},{"$f":"+計算2!D17","v":0},{"$f":"+計算2!S17","v":0},{"$f":"+計算1!S17","v":0},{"$f":"+計算1!AH17","v":1800},1800]
[null,{"$f":"+仕入先登録!B10","v":7},{"$f":"+仕入先登録!C10","v":"GGGG"},{"$f":"+計算2!D19","v":0},{"$f":"+計算2!S19","v":0},{"$f":"+計算1!S19","v":0},{"$f":"+計算1!AH19","v":3200},{"$f":"SUM(D12:G12)","v":3200}]
[null,{"$f":"+仕入先登録!B11","v":8},{"$f":"+仕入先登録!C11","v":"HHHH"},{"$f":"+計算2!D21","v":0},{"$f":"+計算2!S21","v":0},{"$f":"+計算1!S21","v":0},{"$f":"+計算1!AH21","v":0},0]
[null,{"$f":"+仕入先登録!B12","v":9},{"$f":"+仕入先登録!C12","v":"JJJJ"},{"$f":"+計算2!D23","v":0},{"$f":"+計算2!S23","v":0},{"$f":"+計算1!S23","v":0},{"$f":"+計算1!AH23","v":0},0]
[null,{"$f":"+仕入先登録!B13","v":10},{"$f":"+仕入先登録!C13","v":"KKKK"},{"$f":"+計算2!D25","v":0},{"$f":"+計算2!S25","v":0},{"$f":"+計算1!S25","v":0},{"$f":"+計算1!AH25","v":0},0]
[null,{"$f":"+仕入先登録!B14","v":11},{"$f":"+仕入先登録!C14","v":"LLLL"},{"$f":"+計算2!D27","v":0},{"$f":"+計算2!S27","v":0},{"$f":"+計算1!S27","v":0},{"$f":"+計算1!AH27","v":0},0]
[null,{"$f":"+仕入先登録!B15","v":12},{"$f":"+仕入先登録!C15","v":"MMMM"},{"$f":"+計算2!D29","v":0},{"$f":"+計算2!S29","v":0},{"$f":"+計算1!S29","v":0},{"$f":"+計算1!AH29","v":0},{"$f":"SUM(D17:G17)","v":0}]
[null,{"$f":"+仕入先登録!B16","v":13},{"$f":"+仕入先登録!C16","v":"NNNN"},{"$f":"+計算2!D31","v":0},{"$f":"+計算2!S31","v":0},{"$f":"+計算1!S31","v":0},{"$f":"+計算1!AH31","v":0},{"$f":"SUM(D18:F18)","v":0}]
[null,{"$f":"+仕入先登録!B17","v":14},{"$f":"+仕入先登録!C17","v":"PPPP"},{"$f":"+計算2!D33","v":0},{"$f":"+計算2!S33","v":0},{"$f":"+計算1!S33","v":0},{"$f":"+計算1!AH31","v":0},0]
[null,{"$f":"+仕入先登録!B18","v":15},{"$f":"+仕入先登録!C18","v":"QQQQ"},{"$f":"+計算2!D35","v":0},{"$f":"+計算2!S35","v":0},{"$f":"+計算1!S35","v":435},{"$f":"+計算1!AH35","v":0},435]
[null,{"$f":"+仕入先登録!B19","v":16},{"$f":"+仕入先登録!C19","v":"RRRR"},{"$f":"+計算2!D37","v":0},{"$f":"+計算2!S37","v":0},{"$f":"+計算1!S37","v":0},{"$f":"+計算1!AH37","v":0},{"$f":"SUM(D21:F21)","v":0}]
[null,{"$f":"+仕入先登録!B20","v":17},{"$f":"+仕入先登録!C20","v":"SSSS"},{"$f":"+計算2!D39","v":0},{"$f":"+計算2!S39","v":0},{"$f":"+計算1!S39","v":0},{"$f":"+計算1!AH39","v":0},0]
[null,{"$f":"+仕入先登録!B21","v":18},{"$f":"+仕入先登録!C21","v":"TTTT"},{"$f":"+計算2!D41","v":0},{"$f":"+計算2!S41","v":0},{"$f":"+計算1!S41","v":0},{"$f":"+計算1!AH41","v":0},0]
[null,{"$f":"+仕入先登録!B22","v":19},{"$f":"+仕入先登録!C22","v":"UUUU"},{"$f":"+計算2!D43","v":0},{"$f":"+計算2!S43","v":0},{"$f":"+計算1!S43","v":2235},{"$f":"+計算1!AH43","v":0},2235]
[null,{"$f":"+仕入先登録!B23","v":20},{"$f":"+仕入先登録!C23","v":"VVVV"},{"$f":"+計算2!D45","v":0},{"$f":"+計算2!S45","v":0},{"$f":"+計算1!S45","v":0},{"$f":"+計算1!AH45","v":0},{"$f":"SUM(D25:F25)","v":0}]
[null,{"$f":"+仕入先登録!B24","v":21},{"$f":"+仕入先登録!C24","v":"WWWW"},{"$f":"+計算2!D47","v":0},{"$f":"+計算2!S47","v":0},{"$f":"+計算1!S47","v":0},{"$f":"+計算1!AH47","v":0},0]
[null,{"$f":"+仕入先登録!B25","v":101},{"$f":"+仕入先登録!C25","v":"AAA"},{"$f":"+計算2!D49","v":0},{"$f":"+計算2!S49","v":0},{"$f":"+計算1!S49","v":0},{"$f":"+計算1!AH49","v":0},0]
[null,{"$f":"+仕入先登録!B26","v":102},{"$f":"+仕入先登録!C26","v":"BBB"},{"$f":"+計算2!D51","v":0},{"$f":"+計算2!S51","v":0},{"$f":"+計算1!S51","v":0},{"$f":"+計算1!AH51","v":0},0]
[null,{"$f":"+仕入先登録!B27","v":103},{"$f":"+仕入先登録!C27","v":"CCC"},{"$f":"+計算2!D53","v":0},{"$f":"+計算2!S53","v":0},{"$f":"+計算1!S53","v":0},{"$f":"+計算1!AH53","v":0},0]
[null,{"$f":"+仕入先登録!B28","v":104},{"$f":"+仕入先登録!C28","v":"DDD"},{"$f":"+計算2!D55","v":0},{"$f":"+計算2!S55","v":0},{"$f":"+計算1!S55","v":0},{"$f":"+計算1!AH55","v":0},0]
[null,{"$f":"+仕入先登録!B29","v":105},{"$f":"+仕入先登録!C29","v":"EEE"},{"$f":"+計算2!D57","v":0},{"$f":"+計算2!S57","v":0},{"$f":"+計算1!S57","v":0},{"$f":"+計算1!AH57","v":0},0]
[null,{"$f":"+仕入先登録!B30","v":106},{"$f":"+仕入先登録!C30","v":"FFF"},{"$f":"+計算2!D59","v":0},{"$f":"+計算2!S59","v":0},{"$f":"+計算1!S59","v":0},{"$f":"+計算1!AH59","v":0},0]
[null,{"$f":"+仕入先登録!B31","v":107},{"$f":"+仕入先登録!C31","v":"GGG"},{"$f":"+計算2!D61","v":0},{"$f":"+計算2!S61","v":0},{"$f":"+計算1!S61","v":0},{"$f":"+計算1!AH61","v":0},0]
[null,{"$f":"+仕入先登録!B32","v":108},{"$f":"+仕入先登録!C32","v":"HHH"},{"$f":"+計算2!D63","v":0},{"$f":"+計算2!S63","v":0},{"$f":"+計算1!S63","v":0},{"$f":"+計算1!AH63","v":0},0]
[null,{"$f":"+仕入先登録!B33","v":109},{"$f":"+仕入先登録!C33","v":"LLL"},{"$f":"+計算2!D65","v":0},{"$f":"+計算2!S65","v":0},{"$f":"+計算1!S65","v":735},{"$f":"+計算1!AH65","v":0},735]
[null,{"$f":"+仕入先登録!B34","v":110},{"$f":"+仕入先登録!C34","v":"MMM"},{"$f":"+計算2!D67","v":0},{"$f":"+計算2!S67","v":0},{"$f":"+計算1!S67","v":0},{"$f":"+計算1!AH67","v":0},0]
[null,{"$f":"+仕入先登録!B35","v":111},{"$f":"+仕入先登録!C35","v":"NNN"},{"$f":"+計算2!D69","v":0},{"$f":"+計算2!S69","v":0},{"$f":"+計算1!S69","v":0},{"$f":"+計算1!AH69","v":0},0]
[null,{"$f":"+仕入先登録!B36","v":112},{"$f":"+仕入先登録!C36","v":"PPP"},{"$f":"+計算2!D71","v":0},{"$f":"+計算2!S71","v":0},{"$f":"+計算1!S71","v":0},{"$f":"+計算1!AH71","v":0},0]
[null,{"$f":"+仕入先登録!B37","v":113},{"$f":"+仕入先登録!C37","v":"QQQ"},{"$f":"+計算2!D73","v":0},{"$f":"+計算2!S73","v":0},{"$f":"+計算1!S73","v":0},{"$f":"+計算1!AH73","v":0},0]
[null,{"$f":"+仕入先登録!B38","v":114},{"$f":"+仕入先登録!C38","v":"RRR"},{"$f":"+計算2!D75","v":0},{"$f":"+計算2!S75","v":0},{"$f":"+計算1!S75","v":0},{"$f":"+計算1!AH75","v":0},0]
[null,{"$f":"+仕入先登録!B39","v":115},{"$f":"+仕入先登録!C39","v":"SSS"},{"$f":"+計算2!D77","v":0},{"$f":"+計算2!S77","v":0},{"$f":"+計算1!S77","v":0},{"$f":"+計算1!AH77","v":0},0]
[null,{"$f":"+仕入先登録!B40","v":116},{"$f":"+仕入先登録!C40","v":"TTT"},{"$f":"+計算2!D79","v":0},{"$f":"+計算2!S79","v":0},{"$f":"+計算1!S79","v":0},{"$f":"+計算1!AH79","v":0},0]
[null,{"$f":"+仕入先登録!B41","v":117},{"$f":"+仕入先登録!C41","v":"UUU"},{"$f":"+計算2!D81","v":0},{"$f":"+計算2!S81","v":0},{"$f":"+計算1!S81","v":0},{"$f":"+計算1!AH81","v":0},0]
[null,{"$f":"+仕入先登録!B42","v":118},{"$f":"+仕入先登録!C42","v":"VVV"},{"$f":"+計算2!D83","v":0},{"$f":"+計算2!S83","v":0},{"$f":"+計算1!S83","v":0},{"$f":"+計算1!AH83","v":0},0]
[null,{"$f":"+仕入先登録!B43","v":119},{"$f":"+仕入先登録!C43","v":"WWW"},{"$f":"+計算2!D85","v":0},{"$f":"+計算2!S85","v":0},{"$f":"+計算1!S85","v":735},{"$f":"+計算1!AH85","v":0},735]
[null,{"$f":"+仕入先登録!B44","v":120},{"$f":"+仕入先登録!C44","v":"XXX"},{"$f":"+計算2!D87","v":0},{"$f":"+計算2!S87","v":0},{"$f":"+計算1!S87","v":0},{"$f":"+計算1!AH87","v":0},0]
[null,{"$f":"+仕入先登録!B45","v":121},{"$f":"+仕入先登録!C45","v":"YYY"},{"$f":"+計算2!D89","v":0},{"$f":"+計算2!S89","v":0},{"$f":"+計算1!S89","v":0},{"$f":"+計算1!AH89","v":0},{"$f":"SUM(D47:G47)","v":0}]
[null,{"$f":"+仕入先登録!B46","v":122},{"$f":"+仕入先登録!C46","v":"ZZZ"},{"$f":"+計算2!D91","v":0},{"$f":"+計算2!S91","v":0},{"$f":"+計算1!S91","v":0},{"$f":"+計算1!AH91","v":0},0]
[null,{"$f":"+仕入先登録!B47","v":123},{"$f":"+仕入先登録!C47","v":"AA1"},{"$f":"+計算2!D93","v":0},{"$f":"+計算2!S93","v":0},{"$f":"+計算1!S93","v":0},{"$f":"+計算1!AH93","v":0},0]
[null,{"$f":"+仕入先登録!B48","v":124},{"$f":"+仕入先登録!C48","v":"BB1"},{"$f":"+計算2!D95","v":0},{"$f":"+計算2!S95","v":0},{"$f":"+計算1!S95","v":0},{"$f":"+計算1!AH95","v":0},0]
[null,{"$f":"+仕入先登録!B49","v":125},{"$f":"+仕入先登録!C49","v":"CC1"},{"$f":"+計算2!D97","v":0},{"$f":"+計算2!S97","v":0},{"$f":"+計算1!S97","v":0},{"$f":"+計算1!AH97","v":0},0]
[null,{"$f":"+仕入先登録!B50","v":126},{"$f":"+仕入先登録!C50","v":"DD1"},{"$f":"+計算2!D99","v":0},{"$f":"+計算2!S99","v":0},{"$f":"+計算1!S99","v":0},{"$f":"+計算1!AH99","v":0},0]
[null,{"$f":"+仕入先登録!B51","v":127},{"$f":"+仕入先登録!C51","v":"EE1"},{"$f":"+計算2!D101","v":0},{"$f":"+計算2!S101","v":0},{"$f":"+計算1!S101","v":0},{"$f":"+計算1!AH101","v":0},0]
[null,{"$f":"+仕入先登録!B52","v":128},{"$f":"+仕入先登録!C52","v":"FF1"},{"$f":"+計算2!D103","v":0},{"$f":"+計算2!S103","v":0},{"$f":"+計算1!S103","v":0},{"$f":"+計算1!AH103","v":0},0]
[null,{"$f":"+仕入先登録!B53","v":129},{"$f":"+仕入先登録!C53","v":"GG1"},{"$f":"+計算2!D105","v":0},{"$f":"+計算2!S105","v":0},{"$f":"+計算1!S105","v":0},{"$f":"+計算1!AH105","v":0},0]
[null,{"$f":"+仕入先登録!B54","v":130},{"$f":"+仕入先登録!C54","v":"HH1"},{"$f":"+計算2!D107","v":0},{"$f":"+計算2!S107","v":0},{"$f":"+計算1!S107","v":0},{"$f":"+計算1!AH107","v":0},0]
[null,{"$f":"+仕入先登録!B55","v":131},{"$f":"+仕入先登録!C55","v":"LL1"},{"$f":"+計算2!D109","v":0},{"$f":"+計算2!S109","v":0},{"$f":"+計算1!S109","v":0},{"$f":"+計算1!AH109","v":0},0]
[null,{"$f":"+仕入先登録!B56","v":132},{"$f":"+仕入先登録!C56","v":"MM1"},{"$f":"+計算2!D111","v":0},{"$f":"+計算2!S111","v":0},{"$f":"+計算1!S111","v":0},{"$f":"+計算1!AH111","v":0},0]
[null,{"$f":"+仕入先登録!B57","v":133},{"$f":"+仕入先登録!C57","v":"NN1"},{"$f":"+計算2!D113","v":0},{"$f":"+計算2!S113","v":0},{"$f":"+計算1!S113","v":0},{"$f":"+計算1!AH113","v":0},0]
[null,{"$f":"+仕入先登録!B58","v":134},{"$f":"+仕入先登録!C58","v":"PP1"},{"$f":"+計算2!D115","v":0},{"$f":"+計算2!S115","v":0},{"$f":"+計算1!S115","v":0},{"$f":"+計算1!AH115","v":0},0]
[null,{"$f":"+仕入先登録!B59","v":135},{"$f":"+仕入先登録!C59","v":"QQ1"},{"$f":"+計算2!D117","v":0},{"$f":"+計算2!S117","v":0},{"$f":"+計算1!S117","v":0},{"$f":"+計算1!AH117","v":0},0]
[null,{"$f":"+仕入先登録!B60","v":136},{"$f":"+仕入先登録!C60","v":"RR1"},{"$f":"+計算2!D119","v":0},{"$f":"+計算2!S119","v":0},{"$f":"+計算1!S119","v":0},{"$f":"+計算1!AH119","v":0},0]
[null,{"$f":"+仕入先登録!B61","v":137},{"$f":"+仕入先登録!C61","v":"SS1"},{"$f":"+計算2!D121","v":0},{"$f":"+計算2!S121","v":0},{"$f":"+計算1!S121","v":0},{"$f":"+計算1!AH121","v":0},0]
[null,{"$f":"+仕入先登録!B62","v":138},{"$f":"+仕入先登録!C62","v":"TT1"},{"$f":"+計算2!D123","v":0},{"$f":"+計算2!S123","v":0},{"$f":"+計算1!S123","v":0},{"$f":"+計算1!AH123","v":0},0]
[null,{"$f":"+仕入先登録!B63","v":139},{"$f":"+仕入先登録!C63","v":"UU1"},{"$f":"+計算2!D125","v":0},{"$f":"+計算2!S125","v":0},{"$f":"+計算1!S125","v":0},{"$f":"+計算1!AH125","v":0},0]
[null,{"$f":"+仕入先登録!B64","v":140},{"$f":"+仕入先登録!C64","v":"VV1"},{"$f":"+計算2!D127","v":0},{"$f":"+計算2!S127","v":0},{"$f":"+計算1!S127","v":0},{"$f":"+計算1!AH127","v":0},0]
[null,{"$f":"+仕入先登録!B65","v":141},{"$f":"+仕入先登録!C65","v":"WW1"},{"$f":"+計算2!D129","v":0},{"$f":"+計算2!S129","v":0},{"$f":"+計算1!S129","v":0},{"$f":"+計算1!AH129","v":0},0]
[null,{"$f":"+仕入先登録!B66","v":142},{"$f":"+仕入先登録!C66","v":"XX1"},{"$f":"+計算2!D131","v":0},{"$f":"+計算2!S131","v":0},{"$f":"+計算1!S131","v":0},{"$f":"+計算1!AH131","v":0},{"$f":"SUM(D68:G68)","v":0}]
[null,{"$f":"+仕入先登録!B67","v":143},{"$f":"+仕入先登録!C67","v":"YY1"},{"$f":"+計算2!D133","v":0},{"$f":"+計算2!S133","v":0},{"$f":"+計算1!S133","v":0},{"$f":"+計算1!AH133","v":0},{"$f":"SUM(D69:G69)","v":0}]
[null,{"$f":"+仕入先登録!B68","v":144},{"$f":"+仕入先登録!C68","v":"ZZ1"},{"$f":"+計算2!D135","v":0},{"$f":"+計算2!S135","v":0},{"$f":"+計算1!S135","v":0},{"$f":"+計算1!AH135","v":0},0]
[null,{"$f":"+仕入先登録!B69","v":145},{"$f":"+仕入先登録!C69","v":"AA2"},{"$f":"+計算2!D137","v":0},{"$f":"+計算2!S137","v":0},{"$f":"+計算1!S137","v":0},{"$f":"+計算1!AH137","v":0},0]
[null,{"$f":"+仕入先登録!B70","v":146},{"$f":"+仕入先登録!C70","v":"BB2"},{"$f":"+計算2!D139","v":0},{"$f":"+計算2!S139","v":0},{"$f":"+計算1!S139","v":0},{"$f":"+計算1!AH139","v":0},0]
[null,{"$f":"+仕入先登録!B71","v":147},{"$f":"+仕入先登録!C71","v":"CC2"},{"$f":"+計算2!D141","v":0},{"$f":"+計算2!S141","v":0},{"$f":"+計算1!S141","v":0},{"$f":"+計算1!AH141","v":0},0]
[null,{"$f":"+仕入先登録!B72","v":148},{"$f":"+仕入先登録!C72","v":"DD2"},{"$f":"+計算2!D143","v":0},{"$f":"+計算2!S143","v":0},{"$f":"+計算1!S143","v":0},{"$f":"+計算1!AH143","v":0},0]
[null,{"$f":"+仕入先登録!B73","v":149},{"$f":"+仕入先登録!C73","v":"EE2"},{"$f":"+計算2!D145","v":0},{"$f":"+計算2!S145","v":0},{"$f":"+計算1!S145","v":0},{"$f":"+計算1!AH145","v":0},0]
[null,{"$f":"+仕入先登録!B74","v":150},{"$f":"+仕入先登録!C74","v":"FF2"},{"$f":"+計算2!G5","v":0},{"$f":"+計算2!V5","v":0},{"$f":"+計算1!V5","v":0},{"$f":"+計算1!AK5","v":0},0]
[null,{"$f":"+仕入先登録!B75","v":151},{"$f":"+仕入先登録!C75","v":"GG2"},{"$f":"+計算2!G7","v":0},{"$f":"+計算2!V7","v":0},{"$f":"+計算1!V7","v":0},{"$f":"+計算1!AK7","v":0},0]
[null,{"$f":"+仕入先登録!B76","v":152},{"$f":"+仕入先登録!C76","v":"HH2"},{"$f":"+計算2!G9","v":0},{"$f":"+計算2!V9","v":0},{"$f":"+計算1!V9","v":0},{"$f":"+計算1!AK9","v":0},{"$f":"SUM(D78:G78)","v":0}]
[null,{"$f":"+仕入先登録!B77","v":153},{"$f":"+仕入先登録!C77","v":"LL2"},{"$f":"+計算2!G11","v":0},{"$f":"+計算2!V11","v":0},{"$f":"+計算1!V11","v":0},{"$f":"+計算1!AK11","v":0},0]
[null,{"$f":"+仕入先登録!B78","v":154},{"$f":"+仕入先登録!C78","v":"MM2"},{"$f":"+計算2!G13","v":0},{"$f":"+計算2!V13","v":0},{"$f":"+計算1!V13","v":0},{"$f":"+計算1!AK13","v":0},0]
[null,{"$f":"+仕入先登録!B79","v":155},{"$f":"+仕入先登録!C79","v":"NN2"},{"$f":"+計算2!G15","v":0},{"$f":"+計算2!V15","v":0},{"$f":"+計算1!V15","v":0},{"$f":"+計算1!AK15","v":0},0]
[null,{"$f":"+仕入先登録!B80","v":156},{"$f":"+仕入先登録!C80","v":"PP2"},{"$f":"+計算2!G17","v":0},{"$f":"+計算2!V17","v":0},{"$f":"+計算1!V17","v":0},{"$f":"+計算1!AK17","v":0},0]
[null,{"$f":"+仕入先登録!B81","v":157},{"$f":"+仕入先登録!C81","v":"QQ2"},{"$f":"+計算2!G19","v":0},{"$f":"+計算2!V19","v":0},{"$f":"+計算1!V19","v":0},{"$f":"+計算1!AK19","v":0},0]
[null,{"$f":"+仕入先登録!B82","v":158},{"$f":"+仕入先登録!C82","v":"RR2"},{"$f":"+計算2!G21","v":0},{"$f":"+計算2!V21","v":0},{"$f":"+計算1!V21","v":0},{"$f":"+計算1!AK21","v":0},0]
[null,{"$f":"+仕入先登録!B83","v":159},{"$f":"+仕入先登録!C83","v":"SS2"},{"$f":"+計算2!G23","v":0},{"$f":"+計算2!V23","v":0},{"$f":"+計算1!V23","v":0},{"$f":"+計算1!AK23","v":0},0]
[null,{"$f":"+仕入先登録!B84","v":160},{"$f":"+仕入先登録!C84","v":"TT2"},{"$f":"+計算2!G25","v":0},{"$f":"+計算2!V25","v":0},{"$f":"+計算1!V25","v":0},{"$f":"+計算1!AK25","v":0},0]
[null,{"$f":"+仕入先登録!B85","v":161},{"$f":"+仕入先登録!C85","v":"UU2"},{"$f":"+計算2!G27","v":0},{"$f":"+計算2!V27","v":0},{"$f":"+計算1!V27","v":0},{"$f":"+計算1!AK27","v":0},0]
[null,{"$f":"+仕入先登録!B86","v":162},{"$f":"+仕入先登録!C86","v":"VV2"},{"$f":"+計算2!G29","v":0},{"$f":"+計算2!V29","v":0},{"$f":"+計算1!V29","v":0},{"$f":"+計算1!AK29","v":0},0]
[null,{"$f":"+仕入先登録!B87","v":163},{"$f":"+仕入先登録!C87","v":"WW2"},{"$f":"+計算2!G31","v":0},{"$f":"+計算2!V31","v":0},{"$f":"+計算1!V31","v":0},{"$f":"+計算1!AK31","v":0},0]
[null,{"$f":"+仕入先登録!B88","v":164},{"$f":"+仕入先登録!C88","v":"XX2"},{"$f":"+計算2!G33","v":0},{"$f":"+計算2!V33","v":0},{"$f":"+計算1!V33","v":0},{"$f":"+計算1!AK33","v":0},0]
[null,{"$f":"+仕入先登録!B89","v":165},{"$f":"+仕入先登録!C89","v":"YY2"},{"$f":"+計算2!G35","v":3500},{"$f":"+計算2!V35","v":0},{"$f":"+計算1!V35","v":3500},{"$f":"+計算1!AK35","v":0},7000]
[null,{"$f":"+仕入先登録!B90","v":166},{"$f":"+仕入先登録!C90","v":"ZZ2"},{"$f":"+計算2!G37","v":0},{"$f":"+計算2!V37","v":0},{"$f":"+計算1!V37","v":0},{"$f":"+計算1!AK37","v":0},0]
[null,{"$f":"+仕入先登録!B91","v":167},{"$f":"+仕入先登録!C91","v":"AA3"},{"$f":"+計算2!G39","v":0},{"$f":"+計算2!V39","v":0},{"$f":"+計算1!V39","v":0},{"$f":"+計算1!AK39","v":0},0]
[null,{"$f":"+仕入先登録!B92","v":168},{"$f":"+仕入先登録!C92","v":"BB3"},{"$f":"+計算2!G41","v":0},{"$f":"+計算2!V41","v":0},{"$f":"+計算1!V41","v":0},{"$f":"+計算1!AK41","v":0},0]
[null,{"$f":"+仕入先登録!B93","v":169},{"$f":"+仕入先登録!C93","v":"CC3"},{"$f":"+計算2!G43","v":0},{"$f":"+計算2!V43","v":0},{"$f":"+計算1!V43","v":0},{"$f":"+計算1!AK43","v":0},0]
[null,{"$f":"+仕入先登録!B94","v":170},{"$f":"+仕入先登録!C94","v":"DD3"},{"$f":"+計算2!G45","v":0},{"$f":"+計算2!V45","v":0},{"$f":"+計算1!V45","v":0},{"$f":"+計算1!AK45","v":0},0]
[null,{"$f":"+仕入先登録!B95","v":171},{"$f":"+仕入先登録!C95","v":"EE3"},{"$f":"+計算2!G47","v":0},{"$f":"+計算2!V47","v":0},{"$f":"+計算1!V47","v":0},{"$f":"+計算1!AK47","v":0},0]
[null,{"$f":"+仕入先登録!B96","v":172},{"$f":"+仕入先登録!C96","v":"FF3"},{"$f":"+計算2!G49","v":0},{"$f":"+計算2!V49","v":0},{"$f":"+計算1!V49","v":0},{"$f":"+計算1!AK49","v":0},0]
[null,{"$f":"+仕入先登録!B97","v":173},{"$f":"+仕入先登録!C97","v":"GG3"},{"$f":"+計算2!G51","v":0},{"$f":"+計算2!V51","v":0},{"$f":"+計算1!V51","v":0},{"$f":"+計算1!AK51","v":0},0]
[null,{"$f":"+仕入先登録!B98","v":174},{"$f":"+仕入先登録!C98","v":"HH3"},{"$f":"+計算2!G53","v":0},{"$f":"+計算2!V53","v":0},{"$f":"+計算1!V53","v":0},{"$f":"+計算1!AK53","v":0},0]
[null,{"$f":"+仕入先登録!B99","v":175},{"$f":"+仕入先登録!C99","v":"LL3"},{"$f":"+計算2!G55","v":0},{"$f":"+計算2!V55","v":0},{"$f":"+計算1!V55","v":0},{"$f":"+計算1!AK55","v":0},0]
[null,{"$f":"+仕入先登録!B100","v":176},{"$f":"+仕入先登録!C100","v":"MM3"},{"$f":"+計算2!G57","v":0},{"$f":"+計算2!V57","v":0},{"$f":"+計算1!V57","v":0},{"$f":"+計算1!AK57","v":0},0]
[null,{"$f":"+仕入先登録!B101","v":177},{"$f":"+仕入先登録!C101","v":"NN3"},{"$f":"+計算2!G59","v":0},{"$f":"+計算2!V59","v":0},{"$f":"+計算1!V59","v":0},{"$f":"+計算1!AK59","v":0},0]
[null,{"$f":"+仕入先登録!B102","v":178},{"$f":"+仕入先登録!C102","v":"PP3"},{"$f":"+計算2!G61","v":0},{"$f":"+計算2!V61","v":0},{"$f":"+計算1!V61","v":0},{"$f":"+計算1!AK61","v":0},0]
[null,{"$f":"+仕入先登録!B103","v":179},{"$f":"+仕入先登録!C103","v":"QQ3"},{"$f":"+計算2!G63","v":0},{"$f":"+計算2!V63","v":0},{"$f":"+計算1!V63","v":0},{"$f":"+計算1!AK63","v":0},0]
[null,{"$f":"+仕入先登録!B104","v":180},{"$f":"+仕入先登録!C104","v":"RR3"},{"$f":"+計算2!G65","v":0},{"$f":"+計算2!V65","v":0},{"$f":"+計算1!V65","v":0},{"$f":"+計算1!AK65","v":0},0]
[null,{"$f":"+仕入先登録!B105","v":181},{"$f":"+仕入先登録!C105","v":"SS3"},{"$f":"+計算2!G67","v":0},{"$f":"+計算2!V67","v":0},{"$f":"+計算1!V67","v":0},{"$f":"+計算1!AK67","v":0},0]
[null,{"$f":"+仕入先登録!B106","v":182},{"$f":"+仕入先登録!C106","v":"TT3"},{"$f":"+計算2!G69","v":0},{"$f":"+計算2!V69","v":0},{"$f":"+計算1!V69","v":0},{"$f":"+計算1!AK69","v":0},0]
[null,{"$f":"+仕入先登録!B107","v":183},{"$f":"+仕入先登録!C107","v":"UU3"},{"$f":"+計算2!G71","v":0},{"$f":"+計算2!V71","v":0},{"$f":"+計算1!V71","v":0},{"$f":"+計算1!AK71","v":0},0]
[null,{"$f":"+仕入先登録!B108","v":184},{"$f":"+仕入先登録!C108","v":"VV3"},{"$f":"+計算2!G73","v":0},{"$f":"+計算2!V73","v":0},{"$f":"+計算1!V73","v":0},{"$f":"+計算1!AK73","v":0},0]
[null,{"$f":"+仕入先登録!B109","v":185},{"$f":"+仕入先登録!C109","v":"WW3"},{"$f":"+計算2!G75","v":0},{"$f":"+計算2!V75","v":0},{"$f":"+計算1!V75","v":0},{"$f":"+計算1!AK75","v":0},0]
[null,{"$f":"+仕入先登録!B110","v":186},{"$f":"+仕入先登録!C110","v":"XX3"},{"$f":"+計算2!G77","v":0},{"$f":"+計算2!V77","v":0},{"$f":"+計算1!V77","v":0},{"$f":"+計算1!AK77","v":0},0]
[null,{"$f":"+仕入先登録!B111","v":187},{"$f":"+仕入先登録!C111","v":"YY3"},{"$f":"+計算2!G79","v":0},{"$f":"+計算2!V79","v":0},{"$f":"+計算1!V79","v":0},{"$f":"+計算1!AK79","v":0},0]
[null,{"$f":"+仕入先登録!B112","v":188},{"$f":"+仕入先登録!C112","v":"ZZ3"},{"$f":"+計算2!G81","v":0},{"$f":"+計算2!V81","v":0},{"$f":"+計算1!V81","v":0},{"$f":"+計算1!AK81","v":0},0]
[null,{"$f":"+仕入先登録!B113","v":189},{"$f":"+仕入先登録!C113","v":"AA4"},{"$f":"+計算2!G83","v":0},{"$f":"+計算2!V83","v":0},{"$f":"+計算1!V83","v":0},{"$f":"+計算1!AK83","v":0},0]
[null,{"$f":"+仕入先登録!B114","v":190},{"$f":"+仕入先登録!C114","v":"BB4"},{"$f":"+計算2!G85","v":0},{"$f":"+計算2!V85","v":0},{"$f":"+計算1!V85","v":0},{"$f":"+計算1!AK85","v":0},0]
[null,{"$f":"+仕入先登録!B115","v":191},{"$f":"+仕入先登録!C115","v":"CC4"},{"$f":"+計算2!G87","v":0},{"$f":"+計算2!V87","v":0},{"$f":"+計算1!V87","v":0},{"$f":"+計算1!AK87","v":0},0]
[null,{"$f":"+仕入先登録!B116","v":192},{"$f":"+仕入先登録!C116","v":"DD4"},{"$f":"+計算2!G89","v":0},{"$f":"+計算2!V89","v":0},{"$f":"+計算1!V89","v":0},{"$f":"+計算1!AK89","v":0},0]
[null,{"$f":"+仕入先登録!B117","v":193},{"$f":"+仕入先登録!C117","v":"EE4"},{"$f":"+計算2!G91","v":0},{"$f":"+計算2!V91","v":0},{"$f":"+計算1!V91","v":0},{"$f":"+計算1!AK91","v":0},0]
[null,{"$f":"+仕入先登録!B118","v":194},{"$f":"+仕入先登録!C118","v":"FF4"},{"$f":"+計算2!G93","v":0},{"$f":"+計算2!V93","v":0},{"$f":"+計算1!V93","v":0},{"$f":"+計算1!AK93","v":0},0]
[null,{"$f":"+仕入先登録!B119","v":195},{"$f":"+仕入先登録!C119","v":"GG4"},{"$f":"+計算2!G95","v":0},{"$f":"+計算2!V95","v":0},{"$f":"+計算1!V95","v":0},{"$f":"+計算1!AK95","v":0},0]
[null,{"$f":"+仕入先登録!B120","v":196},{"$f":"+仕入先登録!C120","v":"HH4"},{"$f":"+計算2!G97","v":0},{"$f":"+計算2!V97","v":0},{"$f":"+計算1!V97","v":0},{"$f":"+計算1!AK97","v":0},0]
[null,{"$f":"+仕入先登録!B121","v":197},{"$f":"+仕入先登録!C121","v":"LL4"},{"$f":"+計算2!G99","v":0},{"$f":"+計算2!V99","v":0},{"$f":"+計算1!V99","v":0},{"$f":"+計算1!AK99","v":0},0]
[null,{"$f":"+仕入先登録!B122","v":198},{"$f":"+仕入先登録!C122","v":"MM4"},{"$f":"+計算2!G101","v":0},{"$f":"+計算2!V101","v":0},{"$f":"+計算1!V101","v":0},{"$f":"+計算1!AK101","v":0},0]
[null,{"$f":"+仕入先登録!B123","v":199},{"$f":"+仕入先登録!C123","v":"NN4"},{"$f":"+計算2!G103","v":0},{"$f":"+計算2!V103","v":0},{"$f":"+計算1!V103","v":0},{"$f":"+計算1!AK103","v":0},0]
[null,{"$f":"+仕入先登録!B124","v":200},{"$f":"+仕入先登録!C124","v":"PP4"},{"$f":"+計算2!G105","v":0},{"$f":"+計算2!V105","v":0},{"$f":"+計算1!V105","v":0},{"$f":"+計算1!AK105","v":0},0]
[null,{"$f":"+仕入先登録!B125","v":201},{"$f":"+仕入先登録!C125","v":"QQ4"},{"$f":"+計算2!G107","v":0},{"$f":"+計算2!V107","v":0},{"$f":"+計算1!V107","v":0},{"$f":"+計算1!AK107","v":0},0]
[null,{"$f":"+仕入先登録!B126","v":202},{"$f":"+仕入先登録!C126","v":"RR4"},{"$f":"+計算2!G109","v":0},{"$f":"+計算2!V109","v":0},{"$f":"+計算1!V109","v":0},{"$f":"+計算1!AK109","v":0},0]
[null,{"$f":"+仕入先登録!B127","v":203},{"$f":"+仕入先登録!C127","v":"SS4"},{"$f":"+計算2!G111","v":0},{"$f":"+計算2!V111","v":0},{"$f":"+計算1!V111","v":0},{"$f":"+計算1!AK111","v":0},0]
[null,{"$f":"+仕入先登録!B128","v":204},{"$f":"+仕入先登録!C128","v":"TT4"},{"$f":"+計算2!G113","v":0},{"$f":"+計算2!V113","v":0},{"$f":"+計算1!V113","v":0},{"$f":"+計算1!AK113","v":0},0]
[null,{"$f":"+仕入先登録!B129","v":205},{"$f":"+仕入先登録!C129","v":"UU4"},{"$f":"+計算2!G115","v":0},{"$f":"+計算2!V115","v":0},{"$f":"+計算1!V115","v":0},{"$f":"+計算1!AK115","v":0},0]
[null,{"$f":"+仕入先登録!B130","v":206},{"$f":"+仕入先登録!C130","v":"VV4"},{"$f":"+計算2!G117","v":0},{"$f":"+計算2!V117","v":0},{"$f":"+計算1!V117","v":0},{"$f":"+計算1!AK117","v":0},0]
[null,{"$f":"+仕入先登録!B131","v":207},{"$f":"+仕入先登録!C131","v":"WW4"},{"$f":"+計算2!G119","v":0},{"$f":"+計算2!V119","v":0},{"$f":"+計算1!V119","v":0},{"$f":"+計算1!AK119","v":0},0]
[null,{"$f":"+仕入先登録!B132","v":208},{"$f":"+仕入先登録!C132","v":"XX4"},{"$f":"+計算2!G121","v":0},{"$f":"+計算2!V121","v":0},{"$f":"+計算1!V121","v":0},{"$f":"+計算1!AK121","v":0},0]
[null,{"$f":"+仕入先登録!B133","v":209},{"$f":"+仕入先登録!C133","v":"YY4"},{"$f":"+計算2!G123","v":0},{"$f":"+計算2!V123","v":0},{"$f":"+計算1!V123","v":0},{"$f":"+計算1!AK123","v":0},0]
[null,{"$f":"+仕入先登録!B134","v":210},{"$f":"+仕入先登録!C134","v":"ZZ4"},{"$f":"+計算2!G125","v":0},{"$f":"+計算2!V125","v":0},{"$f":"+計算1!V125","v":0},{"$f":"+計算1!AK125","v":0},0]
[null,{"$f":"+仕入先登録!B135","v":211},{"$f":"+仕入先登録!C135","v":"AA5"},{"$f":"+計算2!G127","v":0},{"$f":"+計算2!V127","v":0},{"$f":"+計算1!V127","v":0},{"$f":"+計算1!AK127","v":0},0]
[null,{"$f":"+仕入先登録!B136","v":212},{"$f":"+仕入先登録!C136","v":"BB5"},{"$f":"+計算2!G129","v":0},{"$f":"+計算2!V129","v":0},{"$f":"+計算1!V129","v":0},{"$f":"+計算1!AK129","v":0},0]
[null,{"$f":"+仕入先登録!B137","v":213},{"$f":"+仕入先登録!C137","v":"CC5"},{"$f":"+計算2!G131","v":0},{"$f":"+計算2!V131","v":0},{"$f":"+計算1!V131","v":0},{"$f":"+計算1!AK131","v":0},0]
[null,{"$f":"+仕入先登録!B138","v":214},{"$f":"+仕入先登録!C138","v":"DD5"},{"$f":"+計算2!G133","v":0},{"$f":"+計算2!V133","v":0},{"$f":"+計算1!V133","v":0},{"$f":"+計算1!AK133","v":0},0]
[null,{"$f":"+仕入先登録!B139","v":215},{"$f":"+仕入先登録!C139","v":"EE5"},{"$f":"+計算2!G135","v":0},{"$f":"+計算2!V135","v":0},{"$f":"+計算1!V135","v":0},{"$f":"+計算1!AK135","v":0},0]
[null,{"$f":"+仕入先登録!B140","v":216},{"$f":"+仕入先登録!C140","v":"FF5"},{"$f":"+計算2!G137","v":0},{"$f":"+計算2!V137","v":0},{"$f":"+計算1!V137","v":0},{"$f":"+計算1!AK137","v":0},0]
[null,{"$f":"+仕入先登録!B141","v":217},{"$f":"+仕入先登録!C141","v":"GG5"},{"$f":"+計算2!G139","v":0},{"$f":"+計算2!V139","v":0},{"$f":"+計算1!V139","v":0},{"$f":"+計算1!AK139","v":0},0]
[null,{"$f":"+仕入先登録!B142","v":218},{"$f":"+仕入先登録!C142","v":"HH5"},{"$f":"+計算2!G141","v":0},{"$f":"+計算2!V141","v":0},{"$f":"+計算1!V141","v":0},{"$f":"+計算1!AK141","v":0},0]
[null,{"$f":"+仕入先登録!B143","v":219},{"$f":"+仕入先登録!C143","v":"LL5"},{"$f":"+計算2!G143","v":0},{"$f":"+計算2!V143","v":0},{"$f":"+計算1!V143","v":1035},{"$f":"+計算1!AK143","v":0},1035]
[null,{"$f":"+仕入先登録!B144","v":220},{"$f":"+仕入先登録!C144","v":"MM5"},{"$f":"+計算2!G145","v":0},{"$f":"+計算2!V145","v":0},{"$f":"+計算1!V145","v":0},{"$f":"+計算1!AK145","v":0},0]
[null,{"$f":"+仕入先登録!B145","v":221},{"$f":"+仕入先登録!C145","v":"NN5"},{"$f":"+計算2!G147","v":0},{"$f":"+計算2!V147","v":0},{"$f":"+計算1!V147","v":0},{"$f":"+計算1!AK147","v":0},0]
[null,{"$f":"+仕入先登録!B146","v":222},{"$f":"+仕入先登録!C146","v":"PP5"},{"$f":"+計算2!G149","v":0},{"$f":"+計算2!V149","v":0},{"$f":"+計算1!V149","v":0},{"$f":"+計算1!AK149","v":0},0]
[null,{"$f":"+仕入先登録!B147","v":223},{"$f":"+仕入先登録!C147","v":"QQ5"},{"$f":"+計算2!G151","v":0},{"$f":"+計算2!V151","v":0},{"$f":"+計算1!V151","v":0},{"$f":"+計算1!AK151","v":0},0]
[null,{"$f":"+仕入先登録!B148","v":224},{"$f":"+仕入先登録!C148","v":"RR5"},{"$f":"+計算2!G153","v":0},{"$f":"+計算2!V153","v":0},{"$f":"+計算1!V153","v":0},{"$f":"+計算1!AK153","v":0},0]
[null,{"$f":"+仕入先登録!B149","v":225},{"$f":"+仕入先登録!C149","v":"SS5"},{"$f":"+計算2!J5","v":0},{"$f":"+計算2!Y5","v":0},{"$f":"+計算1!Y5","v":0},{"$f":"+計算1!AN5","v":0},0]
[null,{"$f":"+仕入先登録!B150","v":226},{"$f":"+仕入先登録!C150","v":"TT5"},{"$f":"+計算2!J7","v":0},{"$f":"+計算2!Y7","v":0},{"$f":"+計算1!Y7","v":0},{"$f":"+計算1!AN7","v":0},{"$f":"SUM(D152:G152)","v":0}]
[null,{"$f":"+仕入先登録!B151","v":227},{"$f":"+仕入先登録!C151","v":"UU5"},{"$f":"+計算2!J9","v":0},{"$f":"+計算2!Y9","v":0},{"$f":"+計算1!Y9","v":0},{"$f":"+計算1!AN9","v":0},0]
[null,{"$f":"+仕入先登録!B152","v":228},{"$f":"+仕入先登録!C152","v":"VV5"},{"$f":"+計算2!J11","v":0},{"$f":"+計算2!Y11","v":0},{"$f":"+計算1!Y11","v":0},{"$f":"+計算1!AN11","v":0},0]
[null,{"$f":"+仕入先登録!B153","v":229},{"$f":"+仕入先登録!C153","v":"WW5"},{"$f":"+計算2!J13","v":0},{"$f":"+計算2!Y13","v":0},{"$f":"+計算1!Y13","v":825},{"$f":"+計算1!AN13","v":0},825]
[null,{"$f":"+仕入先登録!B154","v":230},{"$f":"+仕入先登録!C154","v":"XX5"},{"$f":"+計算2!J15","v":0},{"$f":"+計算2!Y15","v":0},{"$f":"+計算1!Y15","v":0},{"$f":"+計算1!AN15","v":0},0]
[null,{"$f":"+仕入先登録!B155","v":231},{"$f":"+仕入先登録!C155","v":"YY5"},{"$f":"+計算2!J17","v":0},{"$f":"+計算2!Y17","v":0},{"$f":"+計算1!Y17","v":0},{"$f":"+計算1!AN17","v":0},0]
[null,{"$f":"+仕入先登録!B156","v":232},{"$f":"+仕入先登録!C156","v":"ZZ5"},{"$f":"+計算2!J19","v":0},{"$f":"+計算2!Y19","v":0},{"$f":"+計算1!Y19","v":0},{"$f":"+計算1!AN19","v":0},0]
[null,{"$f":"+仕入先登録!B157","v":233},{"$f":"+仕入先登録!C157","v":"AA6"},{"$f":"+計算2!J21","v":0},{"$f":"+計算2!Y21","v":0},{"$f":"+計算1!Y21","v":0},{"$f":"+計算1!AN21","v":0},0]
[null,{"$f":"+仕入先登録!B158","v":234},{"$f":"+仕入先登録!C158","v":"BB6"},{"$f":"+計算2!J23","v":0},{"$f":"+計算2!Y23","v":0},{"$f":"+計算1!Y23","v":0},{"$f":"+計算1!AN23","v":0},0]
[null,{"$f":"+仕入先登録!B159","v":235},{"$f":"+仕入先登録!C159","v":"CC6"},{"$f":"+計算2!J25","v":0},{"$f":"+計算2!Y25","v":0},{"$f":"+計算1!Y25","v":0},{"$f":"+計算1!AN25","v":0},0]
[null,{"$f":"+仕入先登録!B160","v":236},{"$f":"+仕入先登録!C160","v":"DD6"},{"$f":"+計算2!J27","v":0},{"$f":"+計算2!Y27","v":0},{"$f":"+計算1!Y27","v":0},{"$f":"+計算1!AN27","v":0},0]
[null,{"$f":"+仕入先登録!B161","v":237},{"$f":"+仕入先登録!C161","v":"EE6"},{"$f":"+計算2!J29","v":0},{"$f":"+計算2!Y29","v":0},{"$f":"+計算1!Y29","v":0},{"$f":"+計算1!AN29","v":0},0]
[null,{"$f":"+仕入先登録!B162","v":238},{"$f":"+仕入先登録!C162","v":"FF6"},{"$f":"+計算2!J31","v":0},{"$f":"+計算2!Y31","v":0},{"$f":"+計算1!Y31","v":0},{"$f":"+計算1!AN31","v":0},0]
[null,{"$f":"+仕入先登録!B163","v":239},{"$f":"+仕入先登録!C163","v":"GG6"},{"$f":"+計算2!J33","v":0},{"$f":"+計算2!Y33","v":0},{"$f":"+計算1!Y33","v":0},{"$f":"+計算1!AN33","v":0},0]
[null,{"$f":"+仕入先登録!B164","v":240},{"$f":"+仕入先登録!C164","v":"HH6"},{"$f":"+計算2!J35","v":0},{"$f":"+計算2!Y35","v":0},{"$f":"+計算1!Y35","v":0},{"$f":"+計算1!AN35","v":0},0]
[null,{"$f":"+仕入先登録!B165","v":241},{"$f":"+仕入先登録!C165","v":"LL6"},{"$f":"+計算2!J37","v":0},{"$f":"+計算2!Y37","v":0},{"$f":"+計算1!Y37","v":0},{"$f":"+計算1!AN37","v":0},0]
[null,{"$f":"+仕入先登録!B166","v":242},{"$f":"+仕入先登録!C166","v":"MM6"},{"$f":"+計算2!J39","v":0},{"$f":"+計算2!Y39","v":0},{"$f":"+計算1!Y39","v":0},{"$f":"+計算1!AN39","v":0},0]
[null,{"$f":"+仕入先登録!B167","v":243},{"$f":"+仕入先登録!C167","v":"NN6"},{"$f":"+計算2!J41","v":0},{"$f":"+計算2!Y41","v":0},{"$f":"+計算1!Y41","v":0},{"$f":"+計算1!AN41","v":0},0]
[null,{"$f":"+仕入先登録!B168","v":244},{"$f":"+仕入先登録!C168","v":"PP6"},{"$f":"+計算2!J43","v":0},{"$f":"+計算2!Y43","v":0},{"$f":"+計算1!Y43","v":0},{"$f":"+計算1!AN43","v":0},0]
[null,{"$f":"+仕入先登録!B169","v":245},{"$f":"+仕入先登録!C169","v":"QQ6"},{"$f":"+計算2!J45","v":0},{"$f":"+計算2!Y45","v":0},{"$f":"+計算1!Y45","v":0},{"$f":"+計算1!AN45","v":0},0]
[null,{"$f":"+仕入先登録!B170","v":246},{"$f":"+仕入先登録!C170","v":"RR6"},{"$f":"+計算2!J47","v":0},{"$f":"+計算2!Y47","v":0},{"$f":"+計算1!Y47","v":0},{"$f":"+計算1!AN47","v":0},0]
[null,{"$f":"+仕入先登録!B171","v":247},{"$f":"+仕入先登録!C171","v":"SS6"},{"$f":"+計算2!J49","v":0},{"$f":"+計算2!Y49","v":0},{"$f":"+計算1!Y49","v":0},{"$f":"+計算1!AN49","v":0},0]
[null,{"$f":"+仕入先登録!B172","v":248},{"$f":"+仕入先登録!C172","v":"TT6"},{"$f":"+計算2!J51","v":0},{"$f":"+計算2!Y51","v":0},{"$f":"+計算1!Y51","v":0},{"$f":"+計算1!AN51","v":0},0]
[null,{"$f":"+仕入先登録!B173","v":249},{"$f":"+仕入先登録!C173","v":"UU6"},{"$f":"+計算2!J53","v":0},{"$f":"+計算2!Y53","v":0},{"$f":"+計算1!Y53","v":0},{"$f":"+計算1!AN53","v":0},0]
[null,{"$f":"+仕入先登録!B174","v":250},{"$f":"+仕入先登録!C174","v":"VV6"},{"$f":"+計算2!J55","v":0},{"$f":"+計算2!Y55","v":0},{"$f":"+計算1!Y55","v":0},{"$f":"+計算1!AN55","v":0},0]
[null,{"$f":"+仕入先登録!B175","v":251},{"$f":"+仕入先登録!C175","v":"WW6"},{"$f":"+計算2!J57","v":0},{"$f":"+計算2!Y57","v":0},{"$f":"+計算1!Y57","v":0},{"$f":"+計算1!AN57","v":0},0]
[null,{"$f":"+仕入先登録!B176","v":252},{"$f":"+仕入先登録!C176","v":"XX6"},{"$f":"+計算2!J59","v":0},{"$f":"+計算2!Y59","v":0},{"$f":"+計算1!Y59","v":0},{"$f":"+計算1!AN59","v":0},0]
[null,{"$f":"+仕入先登録!B177","v":253},{"$f":"+仕入先登録!C177","v":"YY6"},{"$f":"+計算2!J61","v":0},{"$f":"+計算2!Y61","v":0},{"$f":"+計算1!Y61","v":0},{"$f":"+計算1!AN61","v":0},0]
[null,{"$f":"+仕入先登録!B178","v":254},{"$f":"+仕入先登録!C178","v":"ZZ6"},{"$f":"+計算2!J63","v":0},{"$f":"+計算2!Y63","v":0},{"$f":"+計算1!Y63","v":0},{"$f":"+計算1!AN63","v":0},0]
[null,{"$f":"+仕入先登録!B179","v":255},{"$f":"+仕入先登録!C179","v":"AA7"},{"$f":"+計算2!J65","v":0},{"$f":"+計算2!Y65","v":0},{"$f":"+計算1!Y65","v":0},{"$f":"+計算1!AN65","v":0},0]
[null,{"$f":"+仕入先登録!B180","v":256},{"$f":"+仕入先登録!C180","v":"BB7"},{"$f":"+計算2!J67","v":0},{"$f":"+計算2!Y67","v":0},{"$f":"+計算1!Y67","v":0},{"$f":"+計算1!AN67","v":0},0]
[null,{"$f":"+仕入先登録!B181","v":257},{"$f":"+仕入先登録!C181","v":"CC7"},{"$f":"+計算2!J69","v":0},{"$f":"+計算2!Y69","v":0},{"$f":"+計算1!Y69","v":0},{"$f":"+計算1!AN69","v":0},0]
[null,{"$f":"+仕入先登録!B182","v":258},{"$f":"+仕入先登録!C182","v":"DD7"},{"$f":"+計算2!J71","v":0},{"$f":"+計算2!Y71","v":0},{"$f":"+計算1!Y71","v":0},{"$f":"+計算1!AN71","v":0},0]
[null,{"$f":"+仕入先登録!B183","v":259},{"$f":"+仕入先登録!C183","v":"EE7"},{"$f":"+計算2!J73","v":0},{"$f":"+計算2!Y73","v":0},{"$f":"+計算1!Y73","v":0},{"$f":"+計算1!AN73","v":0},0]
[null,{"$f":"+仕入先登録!B184","v":260},{"$f":"+仕入先登録!C184","v":"FF7"},{"$f":"+計算2!J75","v":0},{"$f":"+計算2!Y75","v":0},{"$f":"+計算1!Y75","v":0},{"$f":"+計算1!AN75","v":0},0]
[null,{"$f":"+仕入先登録!B185","v":261},{"$f":"+仕入先登録!C185","v":"GG7"},{"$f":"+計算2!J77","v":0},{"$f":"+計算2!Y77","v":0},{"$f":"+計算1!Y77","v":0},{"$f":"+計算1!AN77","v":0},0]
[null,{"$f":"+仕入先登録!B186","v":262},{"$f":"+仕入先登録!C186","v":"HH7"},{"$f":"+計算2!J79","v":0},{"$f":"+計算2!Y79","v":0},{"$f":"+計算1!Y79","v":0},{"$f":"+計算1!AN79","v":0},0]
[null,{"$f":"+仕入先登録!B187","v":263},{"$f":"+仕入先登録!C187","v":"LL7"},{"$f":"+計算2!J81","v":0},{"$f":"+計算2!Y81","v":0},{"$f":"+計算1!Y81","v":0},{"$f":"+計算1!AN81","v":0},0]
[null,{"$f":"+仕入先登録!B188","v":264},{"$f":"+仕入先登録!C188","v":"MM7"},{"$f":"+計算2!J83","v":0},{"$f":"+計算2!Y83","v":0},{"$f":"+計算1!Y83","v":0},{"$f":"+計算1!AN83","v":0},0]
[null,{"$f":"+仕入先登録!B189","v":265},{"$f":"+仕入先登録!C189","v":"NN7"},{"$f":"+計算2!J85","v":0},{"$f":"+計算2!Y85","v":0},{"$f":"+計算1!Y85","v":0},{"$f":"+計算1!AN85","v":0},0]
[null,{"$f":"+仕入先登録!B190","v":266},{"$f":"+仕入先登録!C190","v":"PP7"},{"$f":"+計算2!J87","v":0},{"$f":"+計算2!Y87","v":0},{"$f":"+計算1!Y87","v":0},{"$f":"+計算1!AN87","v":0},0]
[null,{"$f":"+仕入先登録!B191","v":267},{"$f":"+仕入先登録!C191","v":"QQ7"},{"$f":"+計算2!J89","v":0},{"$f":"+計算2!Y89","v":0},{"$f":"+計算1!Y89","v":0},{"$f":"+計算1!AN89","v":0},0]
[null,{"$f":"+仕入先登録!B192","v":268},{"$f":"+仕入先登録!C192","v":"RR7"},{"$f":"+計算2!J91","v":0},{"$f":"+計算2!Y91","v":0},{"$f":"+計算1!Y91","v":0},{"$f":"+計算1!AN91","v":0},0]
[null,{"$f":"+仕入先登録!B193","v":269},{"$f":"+仕入先登録!C193","v":"SS7"},{"$f":"+計算2!J93","v":0},{"$f":"+計算2!Y93","v":0},{"$f":"+計算1!Y93","v":0},{"$f":"+計算1!AN93","v":0},0]
[null,{"$f":"+仕入先登録!B194","v":270},{"$f":"+仕入先登録!C194","v":"TT7"},{"$f":"+計算2!J95","v":0},{"$f":"+計算2!Y95","v":0},{"$f":"+計算1!Y95","v":0},{"$f":"+計算1!AN95","v":0},0]
[null,{"$f":"+仕入先登録!B195","v":271},{"$f":"+仕入先登録!C195","v":"UU7"},{"$f":"+計算2!J97","v":0},{"$f":"+計算2!Y97","v":0},{"$f":"+計算1!Y97","v":0},{"$f":"+計算1!AN97","v":0},0]
[null,{"$f":"+仕入先登録!B196","v":272},{"$f":"+仕入先登録!C196","v":"VV7"},{"$f":"+計算2!J99","v":0},{"$f":"+計算2!Y99","v":0},{"$f":"+計算1!Y99","v":0},{"$f":"+計算1!AN99","v":0},0]
[null,{"$f":"+仕入先登録!B197","v":273},{"$f":"+仕入先登録!C197","v":"WW7"},{"$f":"+計算2!J101","v":0},{"$f":"+計算2!Y101","v":0},{"$f":"+計算1!Y101","v":0},{"$f":"+計算1!AN101","v":0},0]
[null,{"$f":"+仕入先登録!B198","v":274},{"$f":"+仕入先登録!C198","v":"XX7"},{"$f":"+計算2!J103","v":0},{"$f":"+計算2!Y103","v":0},{"$f":"+計算1!Y103","v":0},{"$f":"+計算1!AN103","v":0},0]
[null,{"$f":"+仕入先登録!B199","v":275},{"$f":"+仕入先登録!C199","v":"YY7"},{"$f":"+計算2!J105","v":0},{"$f":"+計算2!Y105","v":0},{"$f":"+計算1!Y105","v":0},{"$f":"+計算1!AN105","v":0},0]
[null,{"$f":"+仕入先登録!B200","v":276},{"$f":"+仕入先登録!C200","v":"ZZ7"},{"$f":"+計算2!J107","v":0},{"$f":"+計算2!Y107","v":0},{"$f":"+計算1!Y107","v":0},{"$f":"+計算1!AN107","v":0},0]
[null,{"$f":"+仕入先登録!B201","v":277},{"$f":"+仕入先登録!C201","v":"AA8"},{"$f":"+計算2!J109","v":0},{"$f":"+計算2!Y109","v":0},{"$f":"+計算1!Y109","v":0},{"$f":"+計算1!AN109","v":0},0]
[null,{"$f":"+仕入先登録!B202","v":278},{"$f":"+仕入先登録!C202","v":"BB8"},{"$f":"+計算2!J111","v":0},{"$f":"+計算2!Y111","v":0},{"$f":"+計算1!Y111","v":0},{"$f":"+計算1!AN111","v":0},0]
[null,{"$f":"+仕入先登録!B203","v":279},{"$f":"+仕入先登録!C203","v":"CC8"},{"$f":"+計算2!J113","v":0},{"$f":"+計算2!Y113","v":0},{"$f":"+計算1!Y113","v":0},{"$f":"+計算1!AN113","v":0},0]
[null,{"$f":"+仕入先登録!B204","v":280},{"$f":"+仕入先登録!C204","v":"DD8"},{"$f":"+計算2!J115","v":0},{"$f":"+計算2!Y115","v":0},{"$f":"+計算1!Y115","v":0},{"$f":"+計算1!AN115","v":0},0]
[null,{"$f":"+仕入先登録!B205","v":281},{"$f":"+仕入先登録!C205","v":"EE8"},{"$f":"+計算2!J117","v":0},{"$f":"+計算2!Y117","v":0},{"$f":"+計算1!Y117","v":0},{"$f":"+計算1!AN117","v":0},0]
[null,{"$f":"+仕入先登録!B206","v":282},{"$f":"+仕入先登録!C206","v":"FF8"},{"$f":"+計算2!J119","v":0},{"$f":"+計算2!Y119","v":0},{"$f":"+計算1!Y119","v":0},{"$f":"+計算1!AN119","v":0},0]
[null,{"$f":"+仕入先登録!B207","v":283},{"$f":"+仕入先登録!C207","v":"GG8"},{"$f":"+計算2!J121","v":0},{"$f":"+計算2!Y121","v":0},{"$f":"+計算1!Y121","v":0},{"$f":"+計算1!AN121","v":0},0]
[null,{"$f":"+仕入先登録!B208","v":284},{"$f":"+仕入先登録!C208","v":"HH8"},{"$f":"+計算2!J123","v":0},{"$f":"+計算2!Y123","v":0},{"$f":"+計算1!Y123","v":0},{"$f":"+計算1!AN123","v":0},0]
[null,{"$f":"+仕入先登録!B209","v":285},{"$f":"+仕入先登録!C209","v":"LL8"},{"$f":"+計算2!J125","v":0},{"$f":"+計算2!Y125","v":0},{"$f":"+計算1!Y125","v":0},{"$f":"+計算1!AN125","v":0},0]
[null,{"$f":"+仕入先登録!B210","v":286},{"$f":"+仕入先登録!C210","v":"MM8"},{"$f":"+計算2!J127","v":0},{"$f":"+計算2!Y127","v":0},{"$f":"+計算1!Y127","v":0},{"$f":"+計算1!AN127","v":0},0]
[null,{"$f":"+仕入先登録!B211","v":287},{"$f":"+仕入先登録!C211","v":"NN8"},{"$f":"+計算2!J129","v":0},{"$f":"+計算2!Y129","v":0},{"$f":"+計算1!Y129","v":0},{"$f":"+計算1!AN129","v":0},0]
[null,{"$f":"+仕入先登録!B212","v":288},{"$f":"+仕入先登録!C212","v":"PP8"},{"$f":"+計算2!J131","v":0},{"$f":"+計算2!Y131","v":0},{"$f":"+計算1!Y131","v":0},{"$f":"+計算1!AN131","v":0},0]
[null,{"$f":"+仕入先登録!B213","v":289},{"$f":"+仕入先登録!C213","v":"QQ8"},{"$f":"+計算2!J133","v":0},{"$f":"+計算2!Y133","v":0},{"$f":"+計算1!Y133","v":0},{"$f":"+計算1!AN133","v":0},0]
[null,{"$f":"+仕入先登録!B214","v":290},{"$f":"+仕入先登録!C214","v":"RR8"},{"$f":"+計算2!M5","v":0},{"$f":"+計算2!AB5","v":0},{"$f":"+計算1!AB5","v":0},{"$f":"+計算1!AQ5","v":0},{"$f":"SUM(D216:G216)","v":0}]
[null,{"$f":"+仕入先登録!B215","v":291},{"$f":"+仕入先登録!C215","v":"SS8"},{"$f":"+計算2!M7","v":0},{"$f":"+計算2!AB7","v":0},{"$f":"+計算1!AB7","v":0},{"$f":"+計算1!AQ7","v":0},0]
[null,{"$f":"+仕入先登録!B216","v":292},{"$f":"+仕入先登録!C216","v":"TT8"},{"$f":"+計算2!M9","v":0},{"$f":"+計算2!AB9","v":0},{"$f":"+計算1!AB9","v":0},{"$f":"+計算1!AQ9","v":0},0]
[null,{"$f":"+仕入先登録!B217","v":293},{"$f":"+仕入先登録!C217","v":"UU8"},{"$f":"+計算2!M11","v":0},{"$f":"+計算2!AB11","v":0},{"$f":"+計算1!AB11","v":0},{"$f":"+計算1!AQ11","v":0},0]
[null,{"$f":"+仕入先登録!B218","v":294},{"$f":"+仕入先登録!C218","v":"VV8"},{"$f":"+計算2!M13","v":0},{"$f":"+計算2!AB13","v":0},{"$f":"+計算1!AB13","v":0},{"$f":"+計算1!AQ13","v":0},0]
[null,{"$f":"+仕入先登録!B219","v":295},{"$f":"+仕入先登録!C219","v":"WW8"},{"$f":"+計算2!M15","v":0},{"$f":"+計算2!AB15","v":0},{"$f":"+計算1!AB15","v":0},{"$f":"+計算1!AQ15","v":0},0]
[null,{"$f":"+仕入先登録!B220","v":296},{"$f":"+仕入先登録!C220","v":"XX8"},{"$f":"+計算2!M17","v":0},{"$f":"+計算2!AB17","v":0},{"$f":"+計算1!AB17","v":0},{"$f":"+計算1!AQ17","v":0},0]
[null,{"$f":"+仕入先登録!B221","v":297},{"$f":"+仕入先登録!C221","v":"YY8"},{"$f":"+計算2!M19","v":0},{"$f":"+計算2!AB19","v":0},{"$f":"+計算1!AB19","v":0},{"$f":"+計算1!AQ19","v":0},0]
[null,{"$f":"+仕入先登録!B222","v":298},{"$f":"+仕入先登録!C222","v":"ZZ8"},{"$f":"+計算2!M21","v":0},{"$f":"+計算2!AB21","v":0},{"$f":"+計算1!AB21","v":0},{"$f":"+計算1!AQ21","v":0},0]
[null,{"$f":"+仕入先登録!B223","v":299},{"$f":"+仕入先登録!C223","v":"AA9"},{"$f":"+計算2!M23","v":0},{"$f":"+計算2!AB23","v":0},{"$f":"+計算1!AB23","v":0},{"$f":"+計算1!AQ23","v":0},0]
[null,{"$f":"+仕入先登録!B224","v":300},{"$f":"+仕入先登録!C224","v":"BB9"},{"$f":"+計算2!M25","v":0},{"$f":"+計算2!AB25","v":0},{"$f":"+計算1!AB25","v":0},{"$f":"+計算1!AQ25","v":0},0]
[null,{"$f":"+仕入先登録!B225","v":301},{"$f":"+仕入先登録!C225","v":"CC9"},{"$f":"+計算2!M27","v":0},{"$f":"+計算2!AB27","v":0},{"$f":"+計算1!AB27","v":0},{"$f":"+計算1!AQ27","v":0},0]
[null,{"$f":"+仕入先登録!B226","v":302},{"$f":"+仕入先登録!C226","v":"DD9"},{"$f":"+計算2!M29","v":0},{"$f":"+計算2!AB29","v":0},{"$f":"+計算1!AB29","v":0},{"$f":"+計算1!AQ29","v":0},0]
[null,{"$f":"+仕入先登録!B227","v":303},{"$f":"+仕入先登録!C227","v":"EE9"},{"$f":"+計算2!M31","v":0},{"$f":"+計算2!AB31","v":0},{"$f":"+計算1!AB31","v":0},{"$f":"+計算1!AQ31","v":0},0]
[null,{"$f":"+仕入先登録!B228","v":304},{"$f":"+仕入先登録!C228","v":"FF9"},{"$f":"+計算2!M33","v":0},{"$f":"+計算2!AB33","v":0},{"$f":"+計算1!AB33","v":0},{"$f":"+計算1!AQ33","v":0},0]
[null,{"$f":"+仕入先登録!B229","v":305},{"$f":"+仕入先登録!C229","v":"GG9"},{"$f":"+計算2!M35","v":0},{"$f":"+計算2!AB35","v":0},{"$f":"+計算1!AB35","v":0},{"$f":"+計算1!AQ35","v":0},0]
[null,{"$f":"+仕入先登録!B230","v":306},{"$f":"+仕入先登録!C230","v":"HH9"},{"$f":"+計算2!M37","v":0},{"$f":"+計算2!AB37","v":0},{"$f":"+計算1!AB37","v":0},{"$f":"+計算1!AQ37","v":0},0]
[null,{"$f":"+仕入先登録!B231","v":307},{"$f":"+仕入先登録!C231","v":"LL9"},{"$f":"+計算2!M39","v":0},{"$f":"+計算2!AB39","v":0},{"$f":"+計算1!AB39","v":0},{"$f":"+計算1!AQ39","v":0},0]
[null,{"$f":"+仕入先登録!B232","v":308},{"$f":"+仕入先登録!C232","v":"MM9"},{"$f":"+計算2!M41","v":0},{"$f":"+計算2!AB41","v":0},{"$f":"+計算1!AB41","v":0},{"$f":"+計算1!AQ41","v":0},0]
[null,{"$f":"+仕入先登録!B233","v":309},{"$f":"+仕入先登録!C233","v":"NN9"},{"$f":"+計算2!M43","v":0},{"$f":"+計算2!AB43","v":0},{"$f":"+計算1!AB43","v":0},{"$f":"+計算1!AQ43","v":0},0]
[null,{"$f":"+仕入先登録!B234","v":310},{"$f":"+仕入先登録!C234","v":"PP9"},{"$f":"+計算2!M45","v":0},{"$f":"+計算2!AB45","v":0},{"$f":"+計算1!AB45","v":0},{"$f":"+計算1!AQ45","v":0},0]
[null,{"$f":"+仕入先登録!B235","v":311},{"$f":"+仕入先登録!C235","v":"QQ9"},{"$f":"+計算2!M47","v":0},{"$f":"+計算2!AB47","v":0},{"$f":"+計算1!AB47","v":0},{"$f":"+計算1!AQ47","v":0},0]
[null,{"$f":"+仕入先登録!B236","v":312},{"$f":"+仕入先登録!C236","v":"RR9"},{"$f":"+計算2!M49","v":0},{"$f":"+計算2!AB49","v":0},{"$f":"+計算1!AB49","v":0},{"$f":"+計算1!AQ49","v":0},0]
[null,{"$f":"+仕入先登録!B237","v":313},{"$f":"+仕入先登録!C237","v":"SS9"},{"$f":"+計算2!M51","v":0},{"$f":"+計算2!AB51","v":0},{"$f":"+計算1!AB51","v":0},{"$f":"+計算1!AQ51","v":0},0]
[null,{"$f":"+仕入先登録!B238","v":314},{"$f":"+仕入先登録!C238","v":"TT9"},{"$f":"+計算2!M53","v":0},{"$f":"+計算2!AB53","v":0},{"$f":"+計算1!AB53","v":0},{"$f":"+計算1!AQ53","v":0},0]
[null,{"$f":"+仕入先登録!B239","v":315},{"$f":"+仕入先登録!C239","v":"UU9"},{"$f":"+計算2!M55","v":0},{"$f":"+計算2!AB55","v":0},{"$f":"+計算1!AB55","v":0},{"$f":"+計算1!AQ55","v":0},0]
[null,{"$f":"+仕入先登録!B240","v":316},{"$f":"+仕入先登録!C240","v":"VV9"},{"$f":"+計算2!M57","v":0},{"$f":"+計算2!AB57","v":0},{"$f":"+計算1!AB57","v":0},{"$f":"+計算1!AQ57","v":0},0]
[null,{"$f":"+仕入先登録!B241","v":317},{"$f":"+仕入先登録!C241","v":"WW9"},{"$f":"+計算2!M59","v":0},{"$f":"+計算2!AB59","v":0},{"$f":"+計算1!AB59","v":0},{"$f":"+計算1!AQ59","v":0},0]
[null,{"$f":"+仕入先登録!B242","v":318},{"$f":"+仕入先登録!C242","v":"XX9"},{"$f":"+計算2!M61","v":0},{"$f":"+計算2!AB61","v":0},{"$f":"+計算1!AB61","v":0},{"$f":"+計算1!AQ61","v":0},0]
[null,{"$f":"+仕入先登録!B243","v":319},{"$f":"+仕入先登録!C243","v":"YY9"},{"$f":"+計算2!M63","v":0},{"$f":"+計算2!AB63","v":0},{"$f":"+計算1!AB63","v":0},{"$f":"+計算1!AQ63","v":0},0]
[null,{"$f":"+仕入先登録!B244","v":320},{"$f":"+仕入先登録!C244","v":"ZZ9"},{"$f":"+計算2!M65","v":0},{"$f":"+計算2!AB65","v":0},{"$f":"+計算1!AB65","v":0},{"$f":"+計算1!AQ65","v":0},0]
[null,{"$f":"+仕入先登録!B245","v":321},{"$f":"+仕入先登録!C245","v":"Aa1"},{"$f":"+計算2!M67","v":0},{"$f":"+計算2!AB67","v":0},{"$f":"+計算1!AB67","v":0},{"$f":"+計算1!AQ67","v":0},0]
[null,{"$f":"+仕入先登録!B246","v":322},{"$f":"+仕入先登録!C246","v":"Bb1"},{"$f":"+計算2!M69","v":0},{"$f":"+計算2!AB69","v":0},{"$f":"+計算1!AB69","v":0},{"$f":"+計算1!AQ69","v":0},0]
[null,{"$f":"+仕入先登録!B247","v":323},{"$f":"+仕入先登録!C247","v":"Cc1"},{"$f":"+計算2!M71","v":0},{"$f":"+計算2!AB71","v":0},{"$f":"+計算1!AB71","v":0},{"$f":"+計算1!AQ71","v":0},0]
[null,{"$f":"+仕入先登録!B248","v":324},{"$f":"+仕入先登録!C248","v":"Dd1"},{"$f":"+計算2!M73","v":0},{"$f":"+計算2!AB73","v":0},{"$f":"+計算1!AB73","v":0},{"$f":"+計算1!AQ73","v":0},0]
[null,{"$f":"+仕入先登録!B249","v":325},{"$f":"+仕入先登録!C249","v":"Ee1"},{"$f":"+計算2!M75","v":0},{"$f":"+計算2!AB75","v":0},{"$f":"+計算1!AB75","v":0},{"$f":"+計算1!AQ75","v":0},0]
[null,{"$f":"+仕入先登録!B250","v":326},{"$f":"+仕入先登録!C250","v":"Ff1"},{"$f":"+計算2!M77","v":0},{"$f":"+計算2!AB77","v":0},{"$f":"+計算1!AB77","v":0},{"$f":"+計算1!AQ77","v":0},0]
[null,{"$f":"+仕入先登録!B251","v":327},{"$f":"+仕入先登録!C251","v":"Gg1"},{"$f":"+計算2!M79","v":0},{"$f":"+計算2!AB79","v":0},{"$f":"+計算1!AB79","v":0},{"$f":"+計算1!AQ79","v":0},0]
[null,{"$f":"+仕入先登録!B252","v":328},{"$f":"+仕入先登録!C252","v":"Hh1"},{"$f":"+計算2!M81","v":0},{"$f":"+計算2!AB81","v":0},{"$f":"+計算1!AB81","v":0},{"$f":"+計算1!AQ81","v":0},0]
[null,{"$f":"+仕入先登録!B253","v":329},{"$f":"+仕入先登録!C253","v":"Ll1"},{"$f":"+計算2!M83","v":0},{"$f":"+計算2!AB83","v":0},{"$f":"+計算1!AB83","v":1335},{"$f":"+計算1!AQ83","v":0},1335]
[null,{"$f":"+仕入先登録!B254","v":330},{"$f":"+仕入先登録!C254","v":"Mm1"},{"$f":"+計算2!M85","v":0},{"$f":"+計算2!AB85","v":0},{"$f":"+計算1!AB85","v":0},{"$f":"+計算1!AQ85","v":0},{"$f":"SUM(D256:G256)","v":0}]
[null,{"$f":"+仕入先登録!B255","v":331},{"$f":"+仕入先登録!C255","v":"Nn1"},{"$f":"+計算2!M87","v":0},{"$f":"+計算2!AB87","v":0},{"$f":"+計算1!AB87","v":0},{"$f":"+計算1!AQ87","v":0},{"$f":"SUM(D257:G257)","v":0}]
[null,{"$f":"+仕入先登録!B256","v":332},{"$f":"+仕入先登録!C256","v":"Pp1"},{"$f":"+計算2!M89","v":0},{"$f":"+計算2!AB89","v":0},{"$f":"+計算1!AB89","v":0},{"$f":"+計算1!AQ89","v":0},{"$f":"SUM(D258:G258)","v":0}]
[null,{"$f":"+仕入先登録!B257","v":333},{"$f":"+仕入先登録!C257","v":"Qq1"},{"$f":"+計算2!M91","v":0},{"$f":"+計算2!AB91","v":0},{"$f":"+計算1!AB91","v":0},{"$f":"+計算1!AQ91","v":0},{"$f":"SUM(D259:G259)","v":0}]
[null,{"$f":"+仕入先登録!B258","v":334},{"$f":"+仕入先登録!C258","v":"Rr1"},{"$f":"+計算2!M93","v":0},{"$f":"+計算2!AB93","v":0},{"$f":"+計算1!AB93","v":0},{"$f":"+計算1!AQ93","v":0},0]
[null,{"$f":"+仕入先登録!B259","v":400},{"$f":"+仕入先登録!C259","v":"Ss1"},{"$f":"+計算2!M95","v":0},{"$f":"+計算2!AB95","v":0},{"$f":"+計算1!AB95","v":0},{"$f":"+計算1!AQ95","v":0},0]
[null,{"$f":"+仕入先登録!B260","v":401},{"$f":"+仕入先登録!C260","v":"Tt1"},{"$f":"+計算2!M97","v":0},{"$f":"+計算2!AB97","v":0},{"$f":"+計算1!AB97","v":0},{"$f":"+計算1!AQ97","v":0},{"$f":"SUM(D262:G262)","v":0}]
[null,{"$f":"+仕入先登録!B261","v":402},{"$f":"+仕入先登録!C261","v":"Uu1"},{"$f":"+計算2!M99","v":0},{"$f":"+計算2!AB99","v":0},{"$f":"+計算1!AB99","v":0},{"$f":"+計算1!AQ99","v":0},0]
[null,{"$f":"+仕入先登録!B262","v":403},{"$f":"+仕入先登録!C262","v":"Vv1"},{"$f":"+計算2!M101","v":0},{"$f":"+計算2!AB101","v":0},{"$f":"+計算1!AB101","v":0},{"$f":"+計算1!AQ101","v":0},0]
[null,{"$f":"+仕入先登録!B263","v":404},{"$f":"+仕入先登録!C263","v":"Ww1"},{"$f":"+計算2!M103","v":0},{"$f":"+計算2!AB103","v":0},{"$f":"+計算1!AB103","v":0},{"$f":"+計算1!AQ103","v":0},0]
[null,{"$f":"+仕入先登録!B264","v":405},{"$f":"+仕入先登録!C264","v":"Xx1"},{"$f":"+計算2!M105","v":0},{"$f":"+計算2!AB105","v":0},{"$f":"+計算1!AB105","v":0},{"$f":"+計算1!AQ105","v":0},0]
[null,{"$f":"+仕入先登録!B265","v":406},{"$f":"+仕入先登録!C265","v":"Yy1"},{"$f":"+計算2!M107","v":0},{"$f":"+計算2!AB107","v":0},{"$f":"+計算1!AB107","v":0},{"$f":"+計算1!AQ107","v":0},0]
[null,{"$f":"+仕入先登録!B266","v":407},{"$f":"+仕入先登録!C266","v":"Zz1"},{"$f":"+計算2!M109","v":0},{"$f":"+計算2!AB109","v":0},{"$f":"+計算1!AB109","v":0},{"$f":"+計算1!AQ109","v":0},0]
[null,{"$f":"+仕入先登録!B267","v":408},{"$f":"+仕入先登録!C267","v":"Aa2"},{"$f":"+計算2!M111","v":0},{"$f":"+計算2!AB111","v":0},{"$f":"+計算1!AB111","v":0},{"$f":"+計算1!AQ111","v":0},0]
[null,{"$f":"+仕入先登録!B268","v":409},{"$f":"+仕入先登録!C268","v":"Bb2"},{"$f":"+計算2!M113","v":0},{"$f":"+計算2!AB113","v":0},{"$f":"+計算1!AB113","v":0},{"$f":"+計算1!AQ113","v":0},0]
[null,{"$f":"+仕入先登録!B269","v":410},{"$f":"+仕入先登録!C269","v":"Cc2"},{"$f":"+計算2!M115","v":0},{"$f":"+計算2!AB115","v":0},{"$f":"+計算1!AB115","v":0},{"$f":"+計算1!AQ115","v":0},0]
[null,{"$f":"+仕入先登録!B270","v":411},{"$f":"+仕入先登録!C270","v":"Dd2"},{"$f":"+計算2!M117","v":0},{"$f":"+計算2!AB117","v":0},{"$f":"+計算1!AB117","v":0},{"$f":"+計算1!AQ117","v":0},0]
[null,{"$f":"+仕入先登録!B271","v":412},{"$f":"+仕入先登録!C271","v":"Ee2"},{"$f":"+計算2!M119","v":0},{"$f":"+計算2!AB119","v":0},{"$f":"+計算1!AB119","v":0},{"$f":"+計算1!AQ119","v":0},0]
[null,{"$f":"+仕入先登録!B272","v":413},{"$f":"+仕入先登録!C272","v":"Ff2"},{"$f":"+計算2!M121","v":0},{"$f":"+計算2!AB121","v":0},{"$f":"+計算1!AB121","v":0},{"$f":"+計算1!AQ121","v":0},0]
[null,{"$f":"+仕入先登録!B273","v":414},{"$f":"+仕入先登録!C273","v":"Gg2"},{"$f":"+計算2!M123","v":0},{"$f":"+計算2!AB123","v":0},{"$f":"+計算1!AB123","v":0},{"$f":"+計算1!AQ123","v":0},0]
[null,{"$f":"+仕入先登録!B274","v":415},{"$f":"+仕入先登録!C274","v":"Hh2"},{"$f":"+計算2!M125","v":0},{"$f":"+計算2!AB125","v":0},{"$f":"+計算1!AB125","v":0},{"$f":"+計算1!AQ125","v":0},0]
[null,{"$f":"+仕入先登録!B275","v":416},{"$f":"+仕入先登録!C275","v":"Ll2"},{"$f":"+計算2!M127","v":0},{"$f":"+計算2!AB127","v":0},{"$f":"+計算1!AB127","v":0},{"$f":"+計算1!AQ127","v":0},0]
[null,{"$f":"+仕入先登録!B276","v":417},{"$f":"+仕入先登録!C276","v":"Mm2"},{"$f":"+計算2!M129","v":0},{"$f":"+計算2!AB129","v":0},{"$f":"+計算1!AB129","v":0},{"$f":"+計算1!AQ129","v":0},0]
[null,{"$f":"+仕入先登録!B277","v":418},{"$f":"+仕入先登録!C277","v":"Nn2"},{"$f":"+計算2!M131","v":0},{"$f":"+計算2!AB131","v":0},{"$f":"+計算1!AB131","v":0},{"$f":"+計算1!AQ131","v":0},0,"　"]
[null,{"$f":"+仕入先登録!B278","v":419},{"$f":"+仕入先登録!C278","v":"Pp2"},{"$f":"+計算2!M133","v":0},{"$f":"+計算2!AB133","v":0},{"$f":"+計算1!AB133","v":0},{"$f":"+計算1!AQ133","v":0},0]
[null,{"$f":"+仕入先登録!B279","v":420},{"$f":"+仕入先登録!C279","v":"Qq2"},{"$f":"+計算2!M135","v":0},{"$f":"+計算2!AB135","v":0},{"$f":"+計算1!AB135","v":0},{"$f":"+計算1!AQ135","v":0},0]
[null,{"$f":"+仕入先登録!B280","v":421},{"$f":"+仕入先登録!C280","v":"Rr2"},{"$f":"+計算2!M137","v":0},{"$f":"+計算2!AB137","v":0},{"$f":"+計算1!AB137","v":0},{"$f":"+計算1!AQ137","v":0},0]
[null,{"$f":"+仕入先登録!B281","v":422},{"$f":"+仕入先登録!C281","v":"Ss2"},{"$f":"+計算2!M139","v":0},{"$f":"+計算2!AB139","v":0},{"$f":"+計算1!AB139","v":0},{"$f":"+計算1!AQ139","v":0},0]
[null,{"$f":"+仕入先登録!B282","v":423},{"$f":"+仕入先登録!C282","v":"Tt2"},{"$f":"+計算2!M141","v":0},{"$f":"+計算2!AB141","v":0},{"$f":"+計算1!AB141","v":1635},{"$f":"+計算1!AQ141","v":0},1635]
[null,{"$f":"+仕入先登録!B283","v":424},{"$f":"+仕入先登録!C283","v":"Uu2"},{"$f":"+計算2!M143","v":0},{"$f":"+計算2!AB143","v":0},{"$f":"+計算1!AB143","v":0},{"$f":"+計算1!AQ143","v":0},0]
[null,{"$f":"+仕入先登録!B284","v":425},{"$f":"+仕入先登録!C284","v":"Vv2"},{"$f":"+計算2!P5","v":0},{"$f":"+計算2!AE5","v":0},{"$f":"+計算1!AE5","v":0},{"$f":"+計算1!AT5","v":0},0]
[null,{"$f":"+仕入先登録!B285","v":426},{"$f":"+仕入先登録!C285","v":"Ww2"},{"$f":"+計算2!P7","v":0},{"$f":"+計算2!AE7","v":0},{"$f":"+計算1!AE7","v":0},{"$f":"+計算1!AT7","v":0},0]
[null,{"$f":"+仕入先登録!B286","v":501},{"$f":"+仕入先登録!C286","v":"Xx2"},{"$f":"+計算2!P9","v":0},{"$f":"+計算2!AE9","v":0},{"$f":"+計算1!AE9","v":0},{"$f":"+計算1!AT9","v":0},0]
[null,{"$f":"+仕入先登録!B287","v":502},{"$f":"+仕入先登録!C287","v":"Yy2"},{"$f":"+計算2!P11","v":0},{"$f":"+計算2!AE11","v":0},{"$f":"+計算1!AE11","v":0},{"$f":"+計算1!AT11","v":0},0]
[null,{"$f":"+仕入先登録!B288","v":503},{"$f":"+仕入先登録!C288","v":"Zz2"},{"$f":"+計算2!P13","v":0},{"$f":"+計算2!AE13","v":0},{"$f":"+計算1!AE13","v":0},{"$f":"+計算1!AT13","v":0},0]
[null,{"$f":"+仕入先登録!B289","v":504},{"$f":"+仕入先登録!C289","v":"Aa3"},{"$f":"+計算2!P15","v":0},{"$f":"+計算2!AE15","v":0},{"$f":"+計算1!AE15","v":0},{"$f":"+計算1!AT15","v":0},0]
[null,{"$f":"+仕入先登録!B290","v":505},{"$f":"+仕入先登録!C290","v":"Bb3"},{"$f":"+計算2!P17","v":0},{"$f":"+計算2!AE17","v":0},{"$f":"+計算1!AE17","v":0},{"$f":"+計算1!AT17","v":0},0]
[null,{"$f":"+仕入先登録!B291","v":506},{"$f":"+仕入先登録!C291","v":"Cc3"},{"$f":"+計算2!P19","v":0},{"$f":"+計算2!AE19","v":0},{"$f":"+計算1!AE19","v":0},{"$f":"+計算1!AT19","v":0},0]
[null,{"$f":"+仕入先登録!B292","v":507},{"$f":"+仕入先登録!C292","v":"Dd3"},{"$f":"+計算2!P21","v":0},{"$f":"+計算2!AE21","v":0},{"$f":"+計算1!AE21","v":0},{"$f":"+計算1!AT21","v":0},0]
[null,{"$f":"+仕入先登録!B293","v":508},{"$f":"+仕入先登録!C293","v":"Ee3"},{"$f":"+計算2!P23","v":0},{"$f":"+計算2!AE23","v":0},{"$f":"+計算1!AE23","v":0},{"$f":"+計算1!AT23","v":0},0]
[null,{"$f":"+仕入先登録!B294","v":509},{"$f":"+仕入先登録!C294","v":"Ff3"},{"$f":"+計算2!P25","v":0},{"$f":"+計算2!AE25","v":0},{"$f":"+計算1!AE25","v":0},{"$f":"+計算1!AT25","v":0},0]
[null,{"$f":"+仕入先登録!B295","v":510},{"$f":"+仕入先登録!C295","v":"Gg3"},{"$f":"+計算2!P27","v":0},{"$f":"+計算2!AE27","v":0},{"$f":"+計算1!AE27","v":0},{"$f":"+計算1!AT27","v":0},0]
[null,{"$f":"+仕入先登録!B296","v":511},{"$f":"+仕入先登録!C296","v":"Hh3"},{"$f":"+計算2!P29","v":0},{"$f":"+計算2!AE29","v":0},{"$f":"+計算1!AE29","v":0},{"$f":"+計算1!AT29","v":0},0]
[null,{"$f":"+仕入先登録!B297","v":512},{"$f":"+仕入先登録!C297","v":"Ll3"},{"$f":"+計算2!P31","v":0},{"$f":"+計算2!AE31","v":0},{"$f":"+計算1!AE31","v":0},{"$f":"+計算1!AT31","v":0},0]
[null,{"$f":"+仕入先登録!B298","v":513},{"$f":"+仕入先登録!C298","v":"Mm3"},{"$f":"+計算2!P33","v":0},{"$f":"+計算2!AE33","v":0},{"$f":"+計算1!AE33","v":0},{"$f":"+計算1!AT33","v":0},0]
[null,{"$f":"+仕入先登録!B299","v":514},{"$f":"+仕入先登録!C299","v":"Nn3"},{"$f":"+計算2!P35","v":0},{"$f":"+計算2!AE35","v":0},{"$f":"+計算1!AE35","v":0},{"$f":"+計算1!AT35","v":0},0]
[null,{"$f":"+仕入先登録!B300","v":515},{"$f":"+仕入先登録!C300","v":"Pp3"},{"$f":"+計算2!P37","v":0},{"$f":"+計算2!AE37","v":0},{"$f":"+計算1!AE37","v":0},{"$f":"+計算1!AT37","v":0},0]
[null,{"$f":"+仕入先登録!B301","v":516},{"$f":"+仕入先登録!C301","v":"Qq3"},{"$f":"+計算2!P39","v":0},{"$f":"+計算2!AE39","v":0},{"$f":"+計算1!AE39","v":0},{"$f":"+計算1!AT39","v":0},0]
[null,{"$f":"+仕入先登録!B302","v":517},{"$f":"+仕入先登録!C302","v":"Rr3"},{"$f":"+計算2!P41","v":0},{"$f":"+計算2!AE41","v":0},{"$f":"+計算1!AE41","v":0},{"$f":"+計算1!AT41","v":0},0]
[null,{"$f":"+仕入先登録!B303","v":518},{"$f":"+仕入先登録!C303","v":"Ss3"},{"$f":"+計算2!P43","v":0},{"$f":"+計算2!AE43","v":0},{"$f":"+計算1!AE43","v":0},{"$f":"+計算1!AT43","v":0},0]
[null,{"$f":"+仕入先登録!B304","v":519},{"$f":"+仕入先登録!C304","v":"Tt3"},{"$f":"+計算2!P45","v":0},{"$f":"+計算2!AE45","v":0},{"$f":"+計算1!AE45","v":0},{"$f":"+計算1!AT45","v":0},0]
[null,{"$f":"+仕入先登録!B305","v":520},{"$f":"+仕入先登録!C305","v":"Uu3"},{"$f":"+計算2!P47","v":0},{"$f":"+計算2!AE47","v":0},{"$f":"+計算1!AE47","v":0},{"$f":"+計算1!AT47","v":0},0]
[null,{"$f":"+仕入先登録!B306","v":521},{"$f":"+仕入先登録!C306","v":"Vv3"},{"$f":"+計算2!P49","v":0},{"$f":"+計算2!AE49","v":0},{"$f":"+計算1!AE49","v":0},{"$f":"+計算1!AT49","v":0},{"$f":"SUM(D308:G308)","v":0}]
[null,{"$f":"+仕入先登録!B307","v":522},{"$f":"+仕入先登録!C307","v":"Ww3"},{"$f":"+計算2!P51","v":0},{"$f":"+計算2!AE51","v":0},{"$f":"+計算1!AE51","v":0},{"$f":"+計算1!AT51","v":0},{"$f":"SUM(D309:G309)","v":0}]
[null,{"$f":"+仕入先登録!B308","v":523},{"$f":"+仕入先登録!C308","v":"Xx3"},{"$f":"+計算2!P53","v":0},{"$f":"+計算2!AE53","v":0},{"$f":"+計算1!AE53","v":0},{"$f":"+計算1!AT53","v":0},{"$f":"SUM(D310:G310)","v":0}]
[null,{"$f":"+仕入先登録!B309","v":524},{"$f":"+仕入先登録!C309","v":"Yy3"},{"$f":"+計算2!P55","v":0},{"$f":"+計算2!AE55","v":0},{"$f":"+計算1!AE55","v":0},{"$f":"+計算1!AT55","v":0},0]
[null,{"$f":"+仕入先登録!B310","v":525},{"$f":"+仕入先登録!C310","v":"Zz3"},{"$f":"+計算2!P57","v":0},{"$f":"+計算2!AE57","v":0},{"$f":"+計算1!AE57","v":0},{"$f":"+計算1!AT57","v":0},0]
[null,{"$f":"+仕入先登録!B311","v":526},{"$f":"+仕入先登録!C311","v":"Aa4"},{"$f":"+計算2!P59","v":0},{"$f":"+計算2!AE59","v":0},{"$f":"+計算1!AE59","v":0},{"$f":"+計算1!AT59","v":0},0]
[null,{"$f":"+仕入先登録!B312","v":527},{"$f":"+仕入先登録!C312","v":"Bb4"},{"$f":"+計算2!P61","v":0},{"$f":"+計算2!AE61","v":0},{"$f":"+計算1!AE61","v":0},{"$f":"+計算1!AT61","v":0},0]
[null,{"$f":"+仕入先登録!B313","v":528},{"$f":"+仕入先登録!C313","v":"Cc4"},{"$f":"+計算2!P63","v":0},{"$f":"+計算2!AE63","v":0},{"$f":"+計算1!AE63","v":0},{"$f":"+計算1!AT63","v":0},0]
[null,{"$f":"+仕入先登録!B314","v":529},{"$f":"+仕入先登録!C314","v":"Dd4"},{"$f":"+計算2!P65","v":0},{"$f":"+計算2!AE65","v":0},{"$f":"+計算1!AE65","v":0},{"$f":"+計算1!AT65","v":0},0]
[null,{"$f":"+仕入先登録!B315","v":530},{"$f":"+仕入先登録!C315","v":"Ee4"},{"$f":"+計算2!P67","v":0},{"$f":"+計算2!AE67","v":0},{"$f":"+計算1!AE67","v":0},{"$f":"+計算1!AT67","v":0},0]
[null,{"$f":"+仕入先登録!B316","v":531},{"$f":"+仕入先登録!C316","v":"Ff4"},{"$f":"+計算2!P69","v":0},{"$f":"+計算2!AE69","v":0},{"$f":"+計算1!AE69","v":0},{"$f":"+計算1!AT69","v":0},0]
[null,{"$f":"+仕入先登録!B317","v":532},{"$f":"+仕入先登録!C317","v":"Gg4"},{"$f":"+計算2!P71","v":0},{"$f":"+計算2!AE71","v":0},{"$f":"+計算1!AE71","v":0},{"$f":"+計算1!AT71","v":0},0]
[null,{"$f":"+仕入先登録!B318","v":533},{"$f":"+仕入先登録!C318","v":"Hh4"},{"$f":"+計算2!P73","v":0},{"$f":"+計算2!AE73","v":0},{"$f":"+計算1!AE73","v":0},{"$f":"+計算1!AT73","v":0},0]
[null,{"$f":"+仕入先登録!B319","v":534},{"$f":"+仕入先登録!C319","v":"Ll4"},{"$f":"+計算2!P75","v":0},{"$f":"+計算2!AE75","v":0},{"$f":"+計算1!AE75","v":0},{"$f":"+計算1!AT75","v":0},0]
[null,{"$f":"+仕入先登録!B320","v":535},{"$f":"+仕入先登録!C320","v":"Mm4"},{"$f":"+計算2!P77","v":0},{"$f":"+計算2!AE77","v":0},{"$f":"+計算1!AE77","v":0},{"$f":"+計算1!AT77","v":0},0]
[null,{"$f":"+仕入先登録!B321","v":536},{"$f":"+仕入先登録!C321","v":"Nn4"},{"$f":"+計算2!P79","v":0},{"$f":"+計算2!AE79","v":0},{"$f":"+計算1!AE79","v":0},{"$f":"+計算1!AT79","v":0},0]
[null,{"$f":"+仕入先登録!B322","v":537},{"$f":"+仕入先登録!C322","v":"Pp4"},{"$f":"+計算2!P81","v":0},{"$f":"+計算2!AE81","v":0},{"$f":"+計算1!AE81","v":1875},{"$f":"+計算1!AT81","v":0},1875]
[null,{"$f":"+仕入先登録!B323","v":538},{"$f":"+仕入先登録!C323","v":"Qq4"},{"$f":"+計算2!P83","v":0},{"$f":"+計算2!AE83","v":0},{"$f":"+計算1!AE83","v":0},{"$f":"+計算1!AT83","v":0},0]
[null,{"$f":"+仕入先登録!B324","v":539},{"$f":"+仕入先登録!C324","v":"Rr4"},{"$f":"+計算2!P85","v":0},{"$f":"+計算2!AE85","v":0},{"$f":"+計算1!AE85","v":0},{"$f":"+計算1!AT85","v":0},0]
[null,{"$f":"+仕入先登録!B325","v":540},{"$f":"+仕入先登録!C325","v":"Ss4"},{"$f":"+計算2!P87","v":0},{"$f":"+計算2!AE87","v":0},{"$f":"+計算1!AE87","v":0},{"$f":"+計算1!AT87","v":0},{"$f":"SUM(D327:G327)","v":0}]
[null,{"$f":"+仕入先登録!B326","v":541},{"$f":"+仕入先登録!C326","v":"Tt4"},{"$f":"+計算2!P89","v":0},{"$f":"+計算2!AE89","v":0},{"$f":"+計算1!AE89","v":0},{"$f":"+計算1!AT89","v":0},0]
[null,{"$f":"+仕入先登録!B327","v":542},{"$f":"+仕入先登録!C327","v":"Uu4"},{"$f":"+計算2!P91","v":0},{"$f":"+計算2!AE91","v":0},{"$f":"+計算1!AE91","v":0},{"$f":"+計算1!AT91","v":0},0]
[null,{"$f":"+仕入先登録!B328","v":543},{"$f":"+仕入先登録!C328","v":"v4"},{"$f":"+計算2!P93","v":0},{"$f":"+計算2!AE93","v":0},{"$f":"+計算1!AE93","v":0},{"$f":"+計算1!AT93","v":0},0]
[null,{"$f":"+仕入先登録!B329","v":601},{"$f":"+仕入先登録!C329","v":"Ww4"},{"$f":"+計算2!P95","v":0},{"$f":"+計算2!AE95","v":0},{"$f":"+計算1!AE95","v":0},{"$f":"+計算1!AT95","v":0},0]
[null,{"$f":"+仕入先登録!B330","v":602},{"$f":"+仕入先登録!C330","v":"Xx4"},{"$f":"+計算2!P97","v":0},{"$f":"+計算2!AE97","v":0},{"$f":"+計算1!AE97","v":0},{"$f":"+計算1!AT97","v":0},0]
[null,{"$f":"+仕入先登録!B331","v":603},{"$f":"+仕入先登録!C331","v":"Yy4"},{"$f":"+計算2!P99","v":0},{"$f":"+計算2!AE99","v":0},{"$f":"+計算1!AE99","v":0},{"$f":"+計算1!AT99","v":0},0]
[null,{"$f":"+仕入先登録!B332","v":604},{"$f":"+仕入先登録!C332","v":"Zz4"},{"$f":"+計算2!P101","v":0},{"$f":"+計算2!AE101","v":0},{"$f":"+計算1!AE101","v":0},{"$f":"+計算1!AT101","v":0},0]
[null,{"$f":"+仕入先登録!B333","v":605},{"$f":"+仕入先登録!C333","v":"Aa5"},{"$f":"+計算2!P103","v":0},{"$f":"+計算2!AE103","v":0},{"$f":"+計算1!AE103","v":0},{"$f":"+計算1!AT103","v":0},0]
[null,{"$f":"+仕入先登録!B334","v":606},{"$f":"+仕入先登録!C334","v":"Bb5"},{"$f":"+計算2!P105","v":0},{"$f":"+計算2!AE105","v":0},{"$f":"+計算1!AE105","v":0},{"$f":"+計算1!AT105","v":0},0]
[null,{"$f":"+仕入先登録!B335","v":607},{"$f":"+仕入先登録!C335","v":"Cc5"},{"$f":"+計算2!P107","v":0},{"$f":"+計算2!AE107","v":0},{"$f":"+計算1!AE107","v":0},{"$f":"+計算1!AT107","v":0},{"$f":"SUM(D337:G337)","v":0}]
[null,{"$f":"+仕入先登録!B336","v":608},{"$f":"+仕入先登録!C336","v":"Dd5"},{"$f":"+計算2!P109","v":0},{"$f":"+計算2!AE109","v":0},{"$f":"+計算1!AE109","v":0},{"$f":"+計算1!AT109","v":0},0]
[null,{"$f":"+仕入先登録!B337","v":609},{"$f":"+仕入先登録!C337","v":"Ee5"},{"$f":"+計算2!P111","v":0},{"$f":"+計算2!AE111","v":0},{"$f":"+計算1!AE111","v":0},{"$f":"+計算1!AT111","v":0},0]
[null,{"$f":"+仕入先登録!B338","v":610},{"$f":"+仕入先登録!C338","v":"Ff5"},{"$f":"+計算2!P113","v":0},{"$f":"+計算2!AE113","v":0},{"$f":"+計算1!AE113","v":0},{"$f":"+計算1!AT113","v":0},0]
[null,{"$f":"+仕入先登録!B339","v":611},{"$f":"+仕入先登録!C339","v":"Gg5"},{"$f":"+計算2!P115","v":0},{"$f":"+計算2!AE115","v":0},{"$f":"+計算1!AE115","v":0},{"$f":"+計算1!AT115","v":0},0]
[null,{"$f":"+仕入先登録!B340","v":612},{"$f":"+仕入先登録!C340","v":"Hh5"},{"$f":"+計算2!P117","v":0},{"$f":"+計算2!AE117","v":0},{"$f":"+計算1!AE117","v":0},{"$f":"+計算1!AT117","v":0},0]
[null,{"$f":"+仕入先登録!B341","v":613},{"$f":"+仕入先登録!C341","v":"Ll5"},{"$f":"+計算2!P119","v":0},{"$f":"+計算2!AE119","v":0},{"$f":"+計算1!AE119","v":0},{"$f":"+計算1!AT119","v":0},0]
[null,{"$f":"+仕入先登録!B342","v":614},{"$f":"+仕入先登録!C342","v":"Mm5"},{"$f":"+計算2!P121","v":0},{"$f":"+計算2!AE121","v":0},{"$f":"+計算1!AE121","v":0},{"$f":"+計算1!AT121","v":0},0]
[null,{"$f":"+仕入先登録!B343","v":615},{"$f":"+仕入先登録!C343","v":"Nn5"},{"$f":"+計算2!P123","v":0},{"$f":"+計算2!AE123","v":0},{"$f":"+計算1!AE123","v":0},{"$f":"+計算1!AT123","v":0},0]
[null,{"$f":"+仕入先登録!B344","v":616},{"$f":"+仕入先登録!C344","v":"Pp5"},{"$f":"+計算2!P125","v":0},{"$f":"+計算2!AE125","v":0},{"$f":"+計算1!AE125","v":0},{"$f":"+計算1!AT125","v":0},0]
[null,{"$f":"+仕入先登録!B345","v":617},{"$f":"+仕入先登録!C345","v":"Qq5"},{"$f":"+計算2!P127","v":0},{"$f":"+計算2!AE127","v":0},{"$f":"+計算1!AE127","v":0},{"$f":"+計算1!AT127","v":0},0]
[null,{"$f":"+仕入先登録!B346","v":618},{"$f":"+仕入先登録!C346","v":"Rr5"},{"$f":"+計算2!P129","v":0},{"$f":"+計算2!AE129","v":0},{"$f":"+計算1!AE129","v":0},{"$f":"+計算1!AT129","v":0},0]
[null,{"$f":"+仕入先登録!B347","v":619},{"$f":"+仕入先登録!C347","v":"Ss5"},{"$f":"+計算2!P131","v":0},{"$f":"+計算2!AE131","v":0},{"$f":"+計算1!AE131","v":0},{"$f":"+計算1!AT131","v":0},0]
[null,{"$f":"+仕入先登録!B348","v":620},{"$f":"+仕入先登録!C348","v":"Tt5"},{"$f":"+計算2!P133","v":0},{"$f":"+計算2!AE133","v":0},{"$f":"+計算1!AE133","v":0},{"$f":"+計算1!AT133","v":0},0]
[null,{"$f":"+仕入先登録!B349","v":621},{"$f":"+仕入先登録!C349","v":"Uu5"},{"$f":"+計算2!P135","v":0},{"$f":"+計算2!AE135","v":0},{"$f":"+計算1!AE135","v":0},{"$f":"+計算1!AT135","v":0},0]
[null,{"$f":"+仕入先登録!B350","v":622},{"$f":"+仕入先登録!C350","v":"Vv5"},{"$f":"+計算2!P137","v":0},{"$f":"+計算2!AE137","v":0},{"$f":"+計算1!AE137","v":0},{"$f":"+計算1!AT137","v":0},0]
[null,{"$f":"+仕入先登録!B351","v":623},{"$f":"+仕入先登録!C351","v":"Ww5"},{"$f":"+計算2!P139","v":0},{"$f":"+計算2!AE139","v":0},{"$f":"+計算1!AE139","v":0},{"$f":"+計算1!AT139","v":0},0]
[null,{"$f":"+仕入先登録!B352","v":624},{"$f":"+仕入先登録!C352","v":"Xx5"},{"$f":"+計算2!P141","v":0},{"$f":"+計算2!AE141","v":0},{"$f":"+計算1!AE141","v":0},{"$f":"+計算1!AT141","v":0},0]
[null,{"$f":"+仕入先登録!B353","v":625},{"$f":"+仕入先登録!C353","v":"Yy5"},{"$f":"+計算2!P143","v":0},{"$f":"+計算2!AE143","v":0},{"$f":"+計算1!AE143","v":0},{"$f":"+計算1!AT143","v":0},{"$f":"SUM(D355:G355)","v":0}]
[null,{"$f":"+仕入先登録!B354","v":626},{"$f":"+仕入先登録!C354","v":"Zz5"},{"$f":"+計算2!P145","v":0},{"$f":"+計算2!AE145","v":0},{"$f":"+計算1!AE145","v":0},{"$f":"+計算1!AT145","v":0},0]
[null,{"$f":"+仕入先登録!B355","v":627},{"$f":"+仕入先登録!C355","v":"Aa6"},{"$f":"+計算2!P147","v":0},{"$f":"+計算2!AE147","v":0},{"$f":"+計算1!AE147","v":0},{"$f":"+計算1!AT147","v":0},0]
[null,{"$f":"+仕入先登録!B356","v":628},{"$f":"+仕入先登録!C356","v":"Bb6"},{"$f":"+計算2!P149","v":0},{"$f":"+計算2!AE149","v":0},{"$f":"+計算1!AE149","v":0},{"$f":"+計算1!AT149","v":0},{"$f":"SUM(D358:G358)","v":0}]
[null,{"$f":"+仕入先登録!B357","v":629},{"$f":"+仕入先登録!C357","v":"Cc6"},{"$f":"+計算2!P151","v":0},{"$f":"+計算2!AE151","v":0},{"$f":"+計算1!AE151","v":0},{"$f":"+計算1!AT151","v":0},0]
[null,{"$f":"+仕入先登録!B358","v":630},{"$f":"+仕入先登録!C358","v":"Dd6"},{"$f":"+計算2!P153","v":0},{"$f":"+計算2!AE153","v":0},{"$f":"+計算1!AE153","v":0},{"$f":"+計算1!AT153","v":0},0]
[null,{"$f":"+仕入先登録!B359","v":631},{"$f":"+仕入先登録!C359","v":"Ee6"},{"$f":"+計算2!P155","v":0},{"$f":"+計算2!AE155","v":0},{"$f":"+計算1!AE155","v":0},{"$f":"+計算1!AT155","v":0},0]
[null,{"$f":"+仕入先登録!B360","v":632},{"$f":"+仕入先登録!C360","v":"Ff6"},{"$f":"+計算2!P157","v":0},{"$f":"+計算2!AE157","v":0},{"$f":"+計算1!AE157","v":0},{"$f":"+計算1!AT157","v":0},0]
[]
[]
[]
[null,"合　計",null,{"$f":"SUM(D5:D365)","v":3600},{"$f":"SUM(E5:E365)","v":0},{"$f":"SUM(F5:F365)","v":14345},{"$f":"SUM(G5:G365)","v":6000},{"$f":"SUM(H5:H365)","v":23945}]
[]
[]
[]
[]
[]
[]
[null,null,"　"]

{"sheet":"仕入日報","index":13,"n_rows":101,"n_cols":23,"rows_kept":101,"cut":false,"hidden":false,"merged":[[95,2,96,2],[86,1,87,1],[92,2,93,2],[86,2,87,2],[88,2,89,2],[90,2,91,2],[88,1,89,1],[90,1,91,1],[92,1,93,1],[77,2,78,2],[79,2,80,2],[84,2,85,2],[81,2,82,2],[84,1,85,1],[67,2,68,2],[69,2,70,2],[71,2,72,2],[73,2,74,2],[75,2,76,2],[59,3,59,4],[59,6,59,7],[61,2,62,2],[63,2,64,2],[65,2,66,2],[12,2,13,2],[2,3,2,4],[2,6,2,7],[4,2,5,2],[6,2,7,2],[8,2,9,2],[10,2,11,2],[14,2,15,2],[16,2,17,2],[18,2,19,2],[20,2,21,2],[24,2,25,2],[22,2,23,2],[38,2,39,2],[27,1,28,1],[29,1,30,1],[31,1,32,1],[33,1,34,1],[35,1,36,1],[29,2,30,2],[31,2,32,2],[33,2,34,2],[35,2,36,2],[27,2,28,2]]}
[]
[]
[null,null,null,{"$f":"TODAY()","v":"2021-07-01"},null,null,"仕  入  日  報",null,null,null,null,null,null,"材料","1から21",null,null,null,null,null,null,"仕  入  日  報"]
[null,null,"機種",null,"材料費","加工費","購入品費","外注設計費","外注電装費","外注組立費","合計",null,null,"外注加工","101から200",null,null,"機種",null,"材料費","加工費","購入品費","外注設計費"]
[null,null,"AA","日計",{"$f":"+計算1!C6","v":0},{"$f":"+計算1!C7","v":3500},{"$f":"計算1!C8","v":0},{"$f":"+計算1!C9","v":0},{"$f":"+計算1!C10","v":0},{"$f":"+計算1!C11","v":0},{"$f":"SUM(E5:J5)","v":3500},null,null,"購入品","201から300",null,null,null,"日計"]
[null,null,null,"累計",{"$f":"+計算1!C6+計算1!C18","v":240},{"$f":"+計算1!C7+計算1!C19","v":7220},{"$f":"計算1!C8+計算1!C20","v":360},{"$f":"計算1!C9+計算1!C21","v":120},{"$f":"計算1!C10+計算1!C22","v":150},{"$f":"計算1!C11+計算1!C23","v":120},8210,null,null,"外注設計","301から334",null,null,null,"累計"]
[null,null,"BB","日計",{"$f":"+計算1!D6","v":0},{"$f":"計算1!D7","v":0},{"$f":"計算1!D8","v":0},{"$f":"計算1!D9","v":0},{"$f":"+計算1!D10","v":0},{"$f":"+計算1!D11","v":0},0,null,null,"外注電装","401から426",null,null,null,"日計"]
[null,null,null,"累計",{"$f":"計算1!D6+計算1!D18","v":246},{"$f":"計算1!D7+計算1!D19","v":386},{"$f":"計算1!D8+計算1!D20","v":366},{"$f":"計算1!D9+計算1!D21","v":123},{"$f":"計算1!D10+計算1!D22","v":153},{"$f":"計算1!D11+計算1!D23","v":183},1457,null,null,"外注組立","501から543",null,null,null,"累計"]
[null,null,"CC","日計",{"$f":"+計算1!E6","v":100},{"$f":"計算1!E7","v":0},{"$f":"計算1!E8","v":0},{"$f":"計算1!E9","v":0},{"$f":"計算1!E10","v":0},{"$f":"計算1!E11","v":0},100,null,null,null,null,null,null,null,"日計"]
[null,null,null,"累計",{"$f":"計算1!E6+計算1!E18","v":352},{"$f":"計算1!E7+計算1!E19","v":66},{"$f":"計算1!E8+計算1!E20","v":96},{"$f":"計算1!E9+計算1!E21","v":126},{"$f":"計算1!E10+計算1!E22","v":156},{"$f":"計算1!E11+計算1!E23","v":186},982,null,null,null,null,null,null,null,"累計"]
[null,null,"DD","日計",{"$f":"計算1!F6","v":0},{"$f":"計算1!F7","v":0},{"$f":"計算1!F8","v":0},{"$f":"計算1!F9","v":0},{"$f":"計算1!F10","v":0},{"$f":"計算1!F11","v":0},0,null,null,null,null,null,null,null,"日計"]
[null,null,null,"累計",{"$f":"計算1!F6+計算1!F18","v":258},{"$f":"計算1!F7+計算1!F19","v":69},{"$f":"計算1!F8+計算1!F20","v":99},{"$f":"計算1!F9+計算1!F21","v":129},{"$f":"計算1!F10+計算1!F22","v":159},{"$f":"計算1!F11+計算1!F23","v":189},903,null,null,null,null,null,null,null,"累計"]
[null,null,"EE","日計",{"$f":"計算1!G6","v":0},{"$f":"計算1!G7","v":0},{"$f":"計算1!G8","v":0},{"$f":"計算1!G9","v":0},{"$f":"計算1!G10","v":0},{"$f":"計算1!G11","v":0},0,null,null,null,null,null,null,null,"日計"]
[null,null,null,"累計",{"$f":"計算1!G6+計算1!G18","v":264},{"$f":"計算1!G7+計算1!G19","v":324},{"$f":"計算1!G8+計算1!G20","v":384},{"$f":"計算1!G9+計算1!G21","v":132},{"$f":"計算1!G10+計算1!G22","v":162},{"$f":"計算1!G11+計算1!G23","v":192},1458,null,null,null,null,null,null,null,"累計"]
[null,null,"FF","日計",{"$f":"計算1!H6","v":0},{"$f":"計算1!H7","v":0},{"$f":"計算1!H8","v":0},{"$f":"計算1!H9","v":0},{"$f":"計算1!H10","v":0},{"$f":"計算1!H11","v":0},0,null,null,null,null,null,null,null,"日計"]
[null,null,null,"累計",{"$f":"計算1!H6+計算1!H18","v":270},{"$f":"計算1!H7+計算1!H19","v":75},{"$f":"計算1!H8+計算1!H20","v":105},{"$f":"計算1!H9+計算1!H21","v":135},{"$f":"計算1!H10+計算1!H22","v":165},{"$f":"計算1!H11+計算1!H23","v":195},945,null,null,null,null,null,null,null,"累計"]
[null,null,"GG","日計",{"$f":"計算1!I6","v":0},{"$f":"計算1!I7","v":0},{"$f":"計算1!I8","v":0},{"$f":"計算1!I9","v":0},{"$f":"計算1!I10","v":0},{"$f":"計算1!I11","v":0},0,null,null,null,null,null,null,null,"日計"]
[null,null,null,"累計",{"$f":"計算1!I6+計算1!I18","v":276},{"$f":"計算1!I7+計算1!I19","v":78},{"$f":"計算1!I8+計算1!I20","v":108},{"$f":"計算1!I9+計算1!I21","v":138},{"$f":"計算1!I10+計算1!I22","v":168},{"$f":"計算1!I11+計算1!I23","v":198},966,null,null,null,null,null,null,null,"累計"]
[null,null,"HH","日計",{"$f":"計算1!J6","v":0},{"$f":"計算1!J7","v":0},{"$f":"計算1!J8","v":0},{"$f":"計算1!J9","v":0},{"$f":"計算1!J10","v":0},{"$f":"計算1!J11","v":0},0,null,null,null,null,null,null,null,"日計"]
[null,null,null,"累計",{"$f":"計算1!J6+計算1!J18","v":282},{"$f":"計算1!J7+計算1!J19","v":81},{"$f":"計算1!J8+計算1!J20","v":111},{"$f":"計算1!J9+計算1!J21","v":141},{"$f":"計算1!J10+計算1!J22","v":171},{"$f":"計算1!J11+計算1!J23","v":201},987,null,null,null,null,null,null,null,"累計"]
[null,null,"LL","日計",{"$f":"計算1!K6","v":0},{"$f":"計算1!K7","v":0},{"$f":"計算1!K8","v":0},{"$f":"計算1!K9","v":0},{"$f":"計算1!K10","v":0},{"$f":"計算1!K11","v":0},0,null,null,"合計",{"$f":"SUM(O23:O24)","v":21545},null,null,null,"日計"]
[null,null,null,"累計",{"$f":"計算1!K6+計算1!K18","v":288},{"$f":"計算1!K7+計算1!K19","v":84},{"$f":"計算1!K8+計算1!K20","v":114},{"$f":"計算1!K9+計算1!K21","v":144},{"$f":"計算1!K10+計算1!K22","v":174},{"$f":"計算1!K11+計算1!K23","v":204},1008,null,null,{"$f":"IF(K26=O24,\"OK\",\"エラー\")","v":"OK"},"縦合計",null,null,null,"累計"]
[null,null,"MM","日計",{"$f":"計算1!L6","v":0},{"$f":"計算1!L7","v":0},{"$f":"計算1!L8","v":0},{"$f":"計算1!L9","v":0},{"$f":"計算1!L10","v":0},{"$f":"計算1!L11","v":0},0,null,null,"日計",{"$f":"+K5+K7+K9+K11+K13+K15+K17+K19+K21+K23","v":3600},null,null,null,"日計"]
[null,null,null,"累計",{"$f":"計算1!L6+計算1!L18","v":294},{"$f":"計算1!L7+計算1!L19","v":87},{"$f":"計算1!L8+計算1!L20","v":117},{"$f":"計算1!L9+計算1!L21","v":147},{"$f":"計算1!L10+計算1!L22","v":177},{"$f":"計算1!L11+計算1!L23","v":207},1029,null,null,"累計",{"$f":"+K6+K8+K10+K12+K14+K16+K18+K20+K22+K24","v":17945},null,null,null,"累計"]
[null,null,"部品仕入合計額","日計",{"$f":"+E5+E7+E9+E11+E13+E15+E17+E19+E21+E23","v":100},3500,0,0,0,0,{"$f":"SUM(E25:J25)","v":3600}]
[null,null,null,"累計",{"$f":"+E6+E8+E10+E12+E14+E16+E18+E20+E22+E24","v":2770},8470,1860,1335,1635,1875,17945,null,null,null,null,null,"　",null,"日計"]
[null,null,null,null,null,null,null,null,null,null,null,null,null,{"$f":"IF(K40-K39=O30,\"OK\",\"エラー\")","v":"OK"},"仕入DB値",null,null,null,"累計"]
[null,"　","加工用工具　　Ｐ1","日計",null,null,null,null,null,null,{"$f":"+計算1!O6","v":0},null,null,"部品額",{"$f":"+仕入月合計データ!M2","v":14345},null,"　",null,"日計"]
[null,null,null,"累計"," ",null,null,null,null,null,{"$f":"+計算1!O18+K28","v":200},null,null,"経費額",{"$f":"+経費月合計データ!J2","v":6000},null,null,null,"累計"]
[null,"　","組立用工具　　Ｐ2","日計",null,null,null,null,null,null,{"$f":"+計算1!O7","v":0},null,null,"合計",{"$f":"SUM(O28:O29)","v":20345},null,"　",null,"日計"]
[null,null,null,"累計",null,null,null,null,null,null,{"$f":"+計算1!O19+K30","v":800},null,null,null,null,null,null,null,"累計"]
[null,"　","消耗品　　　　　Ｐ3","日計",null,null,null,null,null,null,{"$f":"+計算1!O8","v":0},null,null,{"$f":"IF(K40-K39=O35,\"OK\",\"エラー\")","v":"OK"},"DB1値",null,"　",null,"日計"]
[null,null,null,"累計",null,null,null,null,null,null,{"$f":"+計算1!O20+K32","v":1800},null,null,"部品額",{"$f":"[1]当月仕入!$M$2","v":14345},null,null,null,"累計"]
[null,"　","改善用　　　Ｐ4","日計",null,null,null,null,null,null,{"$f":"+計算1!O9","v":0},null,null,"経費額",{"$f":"[1]当月経費!$J$2","v":6000},null,"　",null,"日計"]
[null,null,null,"累計",null,null,null,null,null,null,{"$f":"+計算1!O21+K34","v":3200},null,null,"合計",{"$f":"SUM(O33:O34)","v":20345},null,null,null,"累計"]
[null,"　","経費仕入合計額","日計",null,null,null,null,null,null,{"$f":"+K28+K30+K32+K34","v":0},null,null,null,null,null,"　　",null,"日計"]
[null,null,null,"累計",null,null,null,null,null,null,{"$f":"K29+K31+K33+K35","v":6000},null,null,null,null,null,null,null,"累計"]
[null,"　　"," "," ",null,null,null,null,null,null,"　",null,null,null,null,null,null,null,"日計"]
[null,null," 総仕入合計額","日計",null,null,null,null,null,null,{"$f":"+K25+K36","v":3600},null,null,null,null,null,null,null,"累計"]
[null,null,null,"累計",null,null,null,null,null,null,{"$f":"+K26+K37","v":23945}]
[null,null,null,null,null,null,null,null,null,null,null,null,null,null,null,null,null,null,"日計"]
[null,null,null,null,null,null,null,null,null,null,null,null,null,null,null,null,null,null,"累計"]
[]
[]
[]
[]
[]
[]
[]
[]
[]
[]
[]
[]
[]
[]
[]
[]
[]
[null,null,null,"2021-02-24",null,null,"仕  入  日  報"]
[null,null,"機種",null,"材料費","加工費","購入品費","外注設計費","外注電装費","外注組立費","合計"]
[null,null,"AA","日計",0,0,0,0,0,0,0,null,null,null,null,null,null,null,"2009-07-07",null,null,"仕  入  日  報"]
[null,null,null,"累計",240,3720,360,120,150,120,4710,null,null,null,null,null,null,"機種",null,"材料費","加工費","購入品費","外注設計費"]
[null,null,"BB","日計",0,0,0,0,0,0,0,null,null,null,null,null,null," 標準送り","日計",0,0,0,0]
[null,null,null,"累計",246,386,366,123,153,183,1457,null,null,null,null,null,null,null,"累計",2100,41900,120891,15000]
[null,null,"CC","日計",100,0,0,0,0,0,100,null,null,null,null,null,null," 特殊装置","日計",0,0,0,0]
[null,null,null,"累計",352,66,96,126,156,186,982,null,null,null,null,null,null,null,"累計",49985,981250,1437788,600000]
[null,null,"DD","日計",0,0,0,0,0,0,0,null,null,null,null,null,null," QDC","日計",0,0,0,0]
[null,null,null,"累計",258,69,99,129,159,189,903,null,null,null,null,null,null,null,"累計",172550,1765100,385356,0]
[null,null,"EE","日計",0,0,0,0,0,0,0,null,null,null,null,null,null,"  ｵｰﾄｸﾗﾝﾌﾟ","日計",0,0,0,0]
[null,null,null,"累計",264,324,384,132,162,192,1458,null,null,null,null,null,null,null,"累計",4870,2000,2462,0]
[null,null,"FF","日計",0,0,0,0,0,0,0,null,null,null,null,null,null," 付帯装置","日計",0,0,0,0]
[null,null,null,"累計",270,75,105,135,165,195,945,null,null,null,null,null,null,null,"累計",50160,686600,510101,222000]
[null,null,"GG","日計",0,0,0,0,0,0,0,null,null,null,null,null,null," ﾛｰﾀﾘｱﾝ","日計",0,0,0,0]
[null,null,null,"累計",276,78,108,138,168,198,966,null,null,null,null,null,null,null,"累計",23100,271000,176783,0]
[null,null,"HH","日計",0,0,0,0,0,0,0,null,null,null,null,null,null," 試作","日計",0,0,0,0]
[null,null,null,"累計",282,81,111,141,171,201,987,null,null,null,null,null,null,null,"累計",0,21500,190,0]
[null,null,"LL","日計",0,0,0,0,0,0,0,null,null,null,null,null,null," ﾂｰﾘﾝｸﾞ","日計",0,0,0,0]
[null,null,null,"累計",288,84,114,144,174,204,1008,null,null,null,null,null,null,null,"累計",0,0,0,0]
[null,null,"MM","日計",0,0,0,0,0,0,0,null,null,null,null,null,null," AA","日計",0,0,0,0]
[null,null,null,"累計",294,87,117,147,177,207,1029,null,null,null,null,null,null,null,"累計",33300,820600,38213.5,0]
[null,null,"部品仕入合計額","日計",100,0,0,0,0,0,100,null,null,null,null,null,null," 部品仕入合計額","日計",0,0,0,0]
[null,null,null,"累計",2770,4970,1860,1335,1635,1875,14445,null,null,null,null,null,null,null,"累計",336065,4589950,2671784.5,837000]
[]
[null,"　","加工用工具　　Ｐ1","日計",null,null,null,null,null,null,0,null,null,null,null,null,"　","加工用刃具　　Ｐ1","日計"]
[null,null,null,"累計"," ",null,null,null,null,null,200,null,null,null,null,null,null,null,"累計"," "]
[null,"　","組立用工具　　Ｐ2","日計",null,null,null,null,null,null,0,null,null,null,null,null,"　","加工用工具　　Ｐ2","日計"]
[null,null,null,"累計",null,null,null,null,null,null,800,null,null,null,null,null,null,null,"累計"]
[null,"　","消耗品　　　　　Ｐ3","日計",null,null,null,null,null,null,0,null,null,null,null,null,"　","消耗品　　　　　Ｐ3","日計"]
[null,null,null,"累計",null,null,null,null,null,null,1800,null,null,null,null,null,null,null,"累計"]
[null,"　","改善用　　　Ｐ4","日計",null,null,null,null,null,null,0,null,null,null,null,null,"　","改善５Ｓ用　　　Ｐ4","日計"]
[null,null,null,"累計",null,null,null,null,null,null,3200,null,null,null,null,null,null,null,"累計"]
[null,"　","経費仕入合計額","日計",null,null,null,null,null,null,0,null,null,null,null,null,"　"," 経費仕入合計額","日計"]
[null,null,null,"累計",null,null,null,null,null,null,6000,null,null,null,null,null,null,null,"累計"]
[null,"　　"," "," ",null,null,null,null,null,null,"　",null,null,null,null,null,"　　","　","日計"]
[null,null," 総仕入合計額","日計",null,null,null,null,null,null,100,null,null,null,null,null,null,null,"累計"]
[null,null,null,"累計",null,null,null,null,null,null,20445,null,null,null,null,null,null,"仕入商品(CV)","日計",0,0,0,0]
[null,null,null,null,null,null,null,null,null,null,null,null,null,null,null,null,null,null,"累計",0,1252390,65520,0]
[]
[null,null,null,null,null,null,null,null,null,null,null,null,null,null,null,null,null," 総仕入合計額","日計"]
[null,null,null,null,null,null,null,null,null,null,null,null,null,null,null,null,null,null,"累計"]

{"sheet":"部品本日入力","index":14,"n_rows":1497,"n_cols":109,"rows_kept":1497,"cut":false,"hidden":false,"merged":[[1,7,1,11]]}
["　",null,null," ",null,null,null,null,"行削除は不可です。数式と値のクリアを使用する。",null,null,null," "]
[null," ",null,null," ",null,null,"部品仕入　本日入力伝票分",null,null,null,null,{"$f":"SUM(M4:M5008)","v":3600},{"$f":"IF((仕入日報!O28+仕入日報!O33)/2=仕入日報!K26-仕入日報!K25,\"\",\"転記エラー\")","v":""},null,null,"N6",{"$f":"+R8+R18+R25+R35+R48+R55+R65+R75+R85+R95","v":3600},null,"DB用端末","K4",null,null,null,"K8",null,null,null,null,null,null,null,null,null,null,null,null,null,null,null,null,null,null,null,null,null,null,null,null,"昨日のデータ予備保存",null,null,null,null,null,null,null,null,null,{"$f":"SUM(BH4:BH5000)","v":100},null,null,null,null,null,null,null,null,"自動計算用",null,null,null,null,null,null,null,"仕入日報用","１日保存用",null,null,null,null,null,null,null,null,null,null,null,null,null,null,null,null,null,null,null,null,null,null,null,null,null,null,null,null,null,null,2500]
[null,"製番","品番１","品番２","納入日","細　　品番","材質","品名  (材料取り）","形状・寸法","メーカー","数量","単価","金額","CODE",null,null,"分類計算",null,null,"　","　",null,null,null,null,null,null,null,null,null,null,null,null,null,null,null,null,null,null,null,null,null,null,null,null,null,null,null,"製番","品番１","品番２","納入日","細　　品番","材質","品名  (材料取り）","形状・寸法","メーカー","数量","単価","金額","CODE",null,null,null,null,"製番","品番１","品番２","月","日","品名","数量","単価","金額","コードNO",null,"NK",null,"RE.RN",null,"SP",null,"NR",null,"QD.QS",null,"OT",null,"Z",null,"T",null,"AA",null,null,null,null,null,null,"製番","品番１","品番２","月","日","品名","数量","単価","金額","コードNO"]
[" ","A",null,null,null,null,null,null,null,null,null,null,null,null,null,201,"製番",null,"0～100",{"$f":"DSUM($B$3:$N$5008,$M$3,W4:Y5)","v":0},{"$f":"DSUM($B$3:$N$5008,$M$3,W6:Y7)","v":0},{"$f":"SUM(T4:U4)","v":0},"製番","CODE","CODE","製番","CODE","CODE","製番","CODE","CODE","製番","CODE","CODE","製番","CODE","CODE","製番","CODE","CODE","製番","CODE","CODE","製番","CODE","CODE",null,null,"A",null,null,null,null,null,null,null,null,null,null,null,null,null,null,null,"本日7入力9",0,0,0,0,0,0,0,0,0,0,"合計",0,2500,0,0,0,0,0,0,0,0,0,0,0,0,0,0,0,0,2500,null,null,null,null," ",null,null,null,null," "," "," "," "," "]
[null,"CC-1863","01","02","2021-02-17",null,null,"AAAA",null,null,1,100,100,6,null,201,"AA",{"$f":"DSUM($B$3:$N$5008,$M$3,$Q$4:$Q$5)","v":3500},"101～200",{"$f":"DSUM($B$3:$N$5008,$M$3,Z4:AB5)","v":3500},{"$f":"DSUM($B$3:$N$5008,$M$3,Z6:AB7)","v":0},3500,"AA","<101",">0","AA","<201",">100","AA","<301",">200","AA","<401",">300","AA","<501",">400","AA","<601",">500","AA","<701",">600","AA","<800",">700",null,null,"CC-1863","01","02","2021-02-17",null,null,"AAAA",null,null,1,100,100,6,null,null,null,null,0,0,0,0,0,0,0,0,0,0,"0..100",0,2500,0,0,0,0,0,0,0,0,0,0,0,0,0,0,0,0,null,null,null,null,null,"NK1",null,null,8,20,"SSS",5,100,500,1]
[null,"AA-3544","A1","09","2021-02-28",null,null,"ガイドフランジ",null,null,1,1000,1000,166,"",201,"製番",null,"201～300",{"$f":"DSUM($B$3:$N$5008,$M$3,AC4:AE5)","v":0},{"$f":"DSUM($B$3:$N$5008,$M$3,AC6:AE7)","v":0},0,"製番","CODE","CODE","製番","CODE","CODE","製番","CODE","CODE","製番","CODE","CODE","製番","CODE","CODE","製番","CODE","CODE","製番","CODE","CODE","製番","CODE","CODE",null,null,null,null,null,null,null,null,null,null,null,null,null,null,null,null,null,null,null,0,0,0,0,0,0,0,0,0,0,"101..200",0,0,0,0,0,0,0,0,0,0,0,0,0,0,0,0,0,0,null,null,null,null,null,"NK1",null,null,null,null,"SS",2,500,1000,1]
[null,"AA-3544","A1","10","2021-02-28",null,null,"ガイドフランジ",null,null,1,1000,1000,166,null,null,"AB",{"$f":"DSUM(B3:N5008,M3,Q6:Q7)","v":0},"301～400",{"$f":"DSUM($B$3:$N$5008,$M$3,AF4:AH5)","v":0},{"$f":"DSUM($B$3:$N$5008,$M$3,AF6:AH7)","v":0},0,"AB","<101",">0","AB","<201",">100","AB","<301",">200","AB","<401",">300","AB","<501",">400","AB","<601",">500","AB","<701",">600","AB","<800",">700",null,null,null,null,null,null,null,null,null,null,null,null,null,null,null,null,null,null,null,0,0,0,0,0,0,0,0,0,0,"201..300",0,0,0,0,0,0,0,0,0,0,0,0,0,0,0,0,0,0,null,null,null,null,null,"NK1",null,null,null,null,"SS",10,100,1000,1]
[null,"AA-3544","A1","11","2021-02-28",null,null,"ガイドフランジ",null,null,1,1500,1500,166,null,null,"小計",{"$f":"+R5+R7","v":3500},"401～500",{"$f":"DSUM($B$3:$N$5008,$M$3,AI4:AK5)","v":0},{"$f":"DSUM($B$3:$N$5008,$M$3,AI6:AK7)","v":0},0,null,null,null,null,null,null,null,null,null,null,null,null,null,null,null,null,null,null,null,null,null,null,null,null,null,null,null,null,null,null,null,null,null,null,null,null,null,null,null,null,null,null,null,0,0,0,0,0,0,0,0,0,0,"301..400",0,0,0,0,0,0,0,0,0,0,0,0,0,0,0,0,0,0]
[null,null,null,null,null,null,null,null,null,null,null,null,null,null,null,null,null,null,"501～600",{"$f":"DSUM($B$3:$N$5008,$M$3,AL4:AN5)","v":0},{"$f":"DSUM($B$3:$N$5008,$M$3,AL6:AN7)","v":0},0,null,null,null,null,null,null,null,null,null,null,null,null,null,null,null,null,null,null,null,null,null,null,null,null,null,null,null,null,null,null,null,null,null,null,null,null,null,null,null,null,null,null,null,0,0,0,0,0,0,0,0,0,0,"401..500",0,0,0,0,0,0,0,0,0,0,0,0,0,0,0,0,0,0]
[null,null,null,null,null,null,null,null,null,null,null,null,null,null,null,null,null,null,"601～700",{"$f":"DSUM($B$3:$N$5008,$M$3,AO4:AQ5)","v":0},{"$f":"DSUM($B$3:$N$5008,$M$3,AO6:AQ7)","v":0},{"$f":"SUM(T10:U10)","v":0},null,null,null,null,null,null,null,null,null,null,null,null,null,null,null,null,null,null,null,null,null,null,null,null,null,null,null,null,null,null,null,null,null,null,null,null,null,null,null,null,null,null,null,0,0,0,0,0,0,0,0,0,0,"501..600",0,0,0,0,0,0,0,0,0,0,0,0,0,0,0,0,0,0]
[null,null,null,null,null,null,null,null,null,null,null,null,null,null,null,null,null,null,"701～800",{"$f":"DSUM($B$3:$N$5008,$M$3,AR4:AT5)","v":0},{"$f":"DSUM($B$3:$N$5008,$M$3,AR6:AT7)","v":0},{"$f":"SUM(T11:U11)","v":0},null,null,null,null,null,null,null,null,null,null,null,null,null,null,null,null,null,null,null,null,null,null,null,null,null,null,null,null,null,null,null,null,null,null,null,null,null,null,null,null,null,null,null,0,0,0,0,0,0,0,0,0,0,null," "]
[null,null,null,null,null,null,null,null,null,null,null,null,null,null,null,null,null,null,"合計","AA","AB",{"$f":"SUM(V4:V10)","v":3500},null,null,null,null,null,null,null,null,null,null,null,null,null,null,null,null,null,null,null,null,null,null,null,null,null,null,null,null,null,null,null,null,null,null,null,null,null,null,null,null,null,null,null,0,0,0,0,0,0,0,0,0,0,0," "]
[null,null,null,null,null,null,null,null,null,null,null,null,null,null,null,null,null,null,null,null,null,null,null,null,null,null,null,null,null,null,null,null,null,null,null,null,null,null,null,null,null,null,null,null,null,null,null,null,null,null,null,null,null,null,null,null,null,null,null,null,null,null,null,null,null,0,0,0,0,0,0,0,0,0,0,0]
[null,null,null,null,null,null,null,null,null,null,null,null,null,null,null,null,"製番",null,"0～100",{"$f":"DSUM($B$3:$N$5008,$M$3,W14:Y15)","v":0},{"$f":"DSUM($B$3:$N$5008,$M$3,W16:Y17)","v":0},{"$f":"SUM(T14:U14)","v":0},"製番","CODE","CODE","製番","CODE","CODE","製番","CODE","CODE","製番","CODE","CODE","製番","CODE","CODE","製番","CODE","CODE","製番","CODE","CODE","製番","CODE","CODE",null,null,null,null,null,null,null,null,null,null,null,null,null,null,null,null,null,null,null,0,0,0,0,0,0,0,0,0,0]
[null,null,null,null,null,null,null,null,null,null,null,null,null,null,null,null,"BB",{"$f":"DSUM($B$3:N5008,\"金額\",Q14:Q15)","v":0},"101～200",{"$f":"DSUM($B$3:$N$5008,$M$3,Z14:AB15)","v":0},{"$f":"DSUM($B$3:$N$5008,$M$3,Z16:AB17)","v":0},0,"BB","<101",">0","BB","<201",">100","BB","<301",">200","BB","<401",">300","BB","<501",">400","BB","<601",">500","BB","<701",">600","BB","<800",">700",null,null,null,null,null,null,null,null,null,null,null,null,null,null,null,null,null,null,null,0,0,0,0,0,0,0,0,0,0]
[null,null,null,null,null,null,null,null,null,null,null,null,null,null,null,null,"製番",null,"201～300",{"$f":"DSUM($B$3:$N$5008,$M$3,AC14:AE15)","v":0},{"$f":"DSUM($B$3:$N$5008,$M$3,AC16:AE17)","v":0},0,"製番","CODE","CODE","製番","CODE","CODE","製番","CODE","CODE","製番","CODE","CODE","製番","CODE","CODE","製番","CODE","CODE","製番","CODE","CODE","製番","CODE","CODE",null,null,null,null,null,null,null,null,null,null,null,null,null,null,null,null,null,null,null,0,0,0,0,0,0,0,0,0,0]
[null,null,null,null,null,null,null,null,null,null,null,null,null,null,null,null,"BC",{"$f":"DSUM($B$3:N5008,$M$3,Q16:Q17)","v":0},"301～400",{"$f":"DSUM($B$3:$N$5008,$M$3,AF14:AH15)","v":0},{"$f":"DSUM($B$3:$N$5008,$M$3,AF16:AH17)","v":0},0,"BC","<101",">0","BC","<201",">100","BC","<301",">200","BC","<401",">300","BC","<501",">400","BC","<601",">500","BC","<701",">600","BC","<800",">700",null,null,null,null,null,null,null,null,null,null,null,null,null,null,null,null,null,null,null,0,0,0,0,0,0,0,0,0,0,null,"{RANGE-VALUE AR4..AR10,AQ4..AQ10}"]
[null,null,null,null,null,null,null,null,null,null,null,null,null,null,null,null,"小計",{"$f":"+R15+R17","v":0},"401～500",{"$f":"DSUM($B$3:$N$5008,$M$3,AI14:AK15)","v":0},{"$f":"DSUM($B$3:$N$5008,$M$3,AI16:AK17)","v":0},0,null,null,null,null,null,null,null,null,null,null,null,null,null,null,null,null,null,null,null,null,null,null,null,null,null,null,null,null,null,null,null,null,null,null,null,null,null,null,null,null,null,null,null,0,0,0,0,0,0,0,0,0,0,null,"{RANGE-VALUE AT4..AT10,AS4..AS10}"]
[null,null,null,null,null,null,null,null,null,null,null,null,null,null,null,null,null,null,"501～600",{"$f":"DSUM($B$3:$N$5008,$M$3,AL14:AN15)","v":0},{"$f":"DSUM($B$3:$N$5008,$M$3,AL16:AN17)","v":0},0,null,null,null,null,null,null,null,null,null,null,null,null,null,null,null,null,null,null,null,null,null,null,null,null,null,null,null,null,null,null,null,null,null,null,null,null,null,null,null,null,null,null,null,0,0,0,0,0,0,0,0,0,0,null,"{RANGE-VALUE AV4..AV10,AU4..AU10}"]
[null,null,null,null,null,null,null,null,null,null,null,null,null,null,null,null,null,null,"601～700",{"$f":"DSUM($B$3:$N$5008,$M$3,AO14:AQ15)","v":0},{"$f":"DSUM($B$3:$N$5008,$M$3,AO16:AQ17)","v":0},{"$f":"SUM(T20:U20)","v":0},null,null,null,null,null,null,null,null,null,null,null,null,null,null,null,null,null,null,null,null,null,null,null,null,null,null,null,null,null,null,null,null,null,null,null,null,null,null,null,null,null,null,null,0,0,0,0,0,0,0,0,0,0,null,"{RANGE-VALUE AX4..AX10,AW4..AW10}"]
[null,null,null,null,null,null,null,null,null,null,null,null,null,null,null,null,null,null,"701～800",{"$f":"DSUM($B$3:$N$5008,$M$3,AR14:AT15)","v":0},{"$f":"DSUM($B$3:$N$5008,$M$3,AR16:AT17)","v":0},{"$f":"SUM(T21:U21)","v":0},null,null,null,null,null,null,null,null,null,null,null,null,null,null,null,null,null,null,null,null,null,null,null,null,null,null,null,null,null,null,null,null,null,null,null,null,null,null,null,null,null,null,null,0,0,0,0,0,0,0,0,0,0,null,"{RANGE-VALUE AZ4..AZ10,AY4..AY10}"]
[null,null,null,null,null,null,null,null,null,null,null,null,null,null,null,null,null,null,"合計","BB","BC",{"$f":"SUM(V14:V21)","v":0},null,null,null,null,null,null,null,null,null,null,null,null,null,null,null,null,null,null,null,null,null,null,null,null,null,null,null,null,null,null,null,null,null,null,null,null,null,null,null,null,null,null,null,0,0,0,0,0,0,0,0,0,0,null,"{RANGE-VALUE BB4..BB10,BA4..BA10}"]
[null,null,null,null,null,null,null,null,null,null,null,null,null,null,null,null,null,null,null,null,null,null,null,null,null,null,null,null,null,null,null,null,null,null,null,null,null,null,null,null,null,null,null,null,null,null,null,null,null,null,null,null,null,null,null,null,null,null,null,null,null,null,null,null,null,0,0,0,0,0,0,0,0,0,0,null,"{RANGE-VALUE BD4..BD10,BC4..BC10}"]
[null,null,null,null,null,null,null,null,null,null,null,null,null,null,null,null,"製番",null,"0～100",{"$f":"DSUM($B$3:$N$5008,$M$3,W24:Y25)","v":100},null,{"$f":"SUM(T24:U24)","v":100},"製番","CODE","CODE","製番","CODE","CODE","製番","CODE","CODE","製番","CODE","CODE","製番","CODE","CODE","製番","CODE","CODE","製番","CODE","CODE","製番","CODE","CODE",null,null,null,null,null,null,null,null,null,null,null,null,null,null,null,null,null,null,null,0,0,0,0,0,0,0,0,0,0,null,"{RANGE-VALUE BF4..BF10,BE4..BE10}"]
[null,null,null,null,null,null,null,null,null,null,null,null,null,null,null,null,"CC",{"$f":"DSUM($B$3:N5008,$M$3,Q24:Q25)","v":100},"101～200",{"$f":"DSUM($B$3:$N$5008,$M$3,Z24:AB25)","v":0},null,0,"CC","<101",">0","CC","<201",">100","CC","<301",">200","CC","<401",">300","CC","<501",">400","CC","<601",">500","CC","<701",">600","CC","<800",">700",null,null,null,null,null,null,null,null,null,null,null,null,null,null,null,null,null,null,null,0,0,0,0,0,0,0,0,0,0,null,"{QUIT}"]
[null,null,null,null,null,null,null,null,null,null,null,null,null,null,null,null,null,null,"201～300",{"$f":"DSUM($B$3:$N$5008,$M$3,AC24:AE25)","v":0},null,0,null,null,null,null,null,null,null,null,null,null,null,null,null,null,null,null,null,null,null,null,null,null,null,null,null,null,null,null,null,null,null,null,null,null,null,null,null,null,null,null,null,null,null,0,0,0,0,0,0,0,0,0,0]
[null,null,null,null,null,null,null,null,null,null,null,null,null,null,null,null,null,null,"301～400",{"$f":"DSUM($B$3:$N$5008,$M$3,AF24:AH25)","v":0},null,0,null,null,null,null,null,null,null,null,null,null,null,null,null,null,null,null,null,null,null,null,null,null,null,null,null,null,null,null,null,null,null,null,null,null,null,null,null,null,null,null,null,null,null,0,0,0,0,0,0,0,0,0,0]
[null,null,null,null,null,null,null,null,null,null,null,null,null,null,null,null,null,null,"401～500",{"$f":"DSUM($B$3:$N$5008,$M$3,AI24:AK25)","v":0},null,0,null,null,null,null,null,null,null,null,null,null,null,null,null,null,null,null,null,null,null,null,null,null,null,null,null,null,null,null,null,null,null,null,null,null,null,null,null,null,null,null,null,null,null,0,0,0,0,0,0,0,0,0,0]
[null,null,null,null,null,null,null,null,null,null,null,null,null,null,null,null,null,null,"501～600",{"$f":"DSUM($B$3:$N$5008,$M$3,AL24:AN25)","v":0},null,0,null,null,null,null,null,null,null,null,null,null,null,null,null,null,null,null,null,null,null,null,null,null,null,null,null,null,null,null,null,null,null,null,null,null,null,null,null,null,null,null,null,null,null,0,0,0,0,0,0,0,0,0,0]
[null,null,null,null,null,null,null,null,null,null,null,null,null,null,null,null,null,null,"601～700",{"$f":"DSUM($B$3:$N$5008,$M$3,AO24:AQ25)","v":0},null,{"$f":"SUM(T30:U30)","v":0},null,null,null,null,null,null,null,null,null,null,null,null,null,null,null,null,null,null,null,null,null,null,null,null,null,null,null,null,null,null,null,null,null,null,null,null,null,null,null,null,null,null,null,0,0,0,0,0,0,0,0,0,0]
[null,null,null,null,null,null,null,null,null,null,null,null,null,null,null,null,null,null,"701～800",{"$f":"DSUM($B$3:$N$5008,$M$3,AR24:AT25)","v":0},null,{"$f":"SUM(T31:U31)","v":0},null,null,null,null,null,null,null,null,null,null,null,null,null,null,null,null,null,null,null,null,null,null,null,null,null,null,null,null,null,null,null,null,null,null,null,null,null,null,null,null,null,null,null,0,0,0,0,0,0,0,0,0,0]
[null,null,null,null,null,null,null,null,null,null,null,null,null,null,null,null,null,null,"合計","CC",null,{"$f":"SUM(V24:V31)","v":100},null,null,null,null,null,null,null,null,null,null,null,null,null,null,null,null,null,null,null,null,null,null,null,null,null,null,null,null,null,null,null,null,null,null,null,null,null,null,null,null,null,null,null,0,0,0,0,0,0,0,0,0,0]
[null,null,null,null,null,null,null,null,null,null,null,null,null,null,null,null,null,null,null,null,null,null,null,null,null,null,null,null,null,null,null,null,null,null,null,null,null,null,null,null,null,null,null,null,null,null,null,null,null,null,null,null,null,null,null,null,null,null,null,null,null,null,null,null,null,0,0,0,0,0,0,0,0,0,0]
[null,null,null,null,null,null,null,null,null,null,null,null,null,null,null,null,"製番",null,"0～100",{"$f":"DSUM($B$3:$N$5008,$M$3,W34:Y35)","v":0},null,{"$f":"SUM(T34:U34)","v":0},"製番","CODE","CODE","製番","CODE","CODE","製番","CODE","CODE","製番","CODE","CODE","製番","CODE","CODE","製番","CODE","CODE","製番","CODE","CODE","製番","CODE","CODE",null,null,null,null,null,null,null,null,null,null,null,null,null,null,null,null,null,null,null,0,0,0,0,0,0,0,0,0,0]
[null,null,null,null,null,null,null,null,null,null,null,null,null,null,null,null,"DD",{"$f":"DSUM($B$3:N5008,$M$3,Q34:Q35)","v":0},"101～200",{"$f":"DSUM($B$3:$N$5008,$M$3,Z34:AB35)","v":0},null,0,"DD","<101",">0","DD","<201",">100","DD","<301",">200","DD","<401",">300","DD","<501",">400","DD","<601",">500","DD","<701",">600","DD","<800",">700",null,null,null,null,null,null,null,null,null,null,null,null,null,null,null,null,null,null,null,0,0,0,0,0,0,0,0,0,0]
[null,null,null,null,null,null,null,null,null,null,null,null,null,null,null,null,null,null,"201～300",{"$f":"DSUM($B$3:$N$5008,$M$3,AC34:AE35)","v":0},null,0,null,null,null,null,null,null,null,null,null,null,null,null,null,null,null,null,null,null,null,null,null,null,null,null,null,null,null,null,null,null,null,null,null,null,null,null,null,null,null,null,null,null,null,0,0,0,0,0,0,0,0,0,0]
[null,null,null,null,null,null,null,null,null,null,null,null,null,null,null,null,null,null,"301～400",{"$f":"DSUM($B$3:$N$5008,$M$3,AF34:AH35)","v":0},null,0,null,null,null,null,null,null,null,null,null,null,null,null,null,null,null,null,null,null,null,null,null,null,null,null,null,null,null,null,null,null,null,null,null,null,null,null,null,null,null,null,null,null,null,0,0,0,0,0,0,0,0,0,0]
[null,null,null,null,null,null,null,null,null,null,null,null,null,null,null,null,null,null,"401～500",{"$f":"DSUM($B$3:$N$5008,$M$3,AI34:AK35)","v":0},null,0,null,null,null,null,null,null,null,null,null,null,null,null,null,null,null,null,null,null,null,null,null,null,null,null,null,null,null,null,null,null,null,null,null,null,null,null,null,null,null,null,null,null,null,0,0,0,0,0,0,0,0,0,0]
[null,null,null,null,null,null,null,null,null,null,null,null,null,null,null,null,null,null,"501～600",{"$f":"DSUM($B$3:$N$5008,$M$3,AL34:AN35)","v":0},null,0,null,null,null,null,null,null,null,null,null,null,null,null,null,null,null,null,null,null,null,null,null,null,null,null,null,null,null,null,null,null,null,null,null,null,null,null,null,null,null,null,null,null,null,0,0,0,0,0,0,0,0,0,0]
[null,null,null,null,null,null,null,null,null,null,null,null,null,null,null,null,null,null,"601～700",{"$f":"DSUM($B$3:$N$5008,$M$3,AO34:AQ35)","v":0},null,{"$f":"SUM(T40:U40)","v":0},null,null,null,null,null,null,null,null,null,null,null,null,null,null,null,null,null,null,null,null,null,null,null,null,null,null,null,null,null,null,null,null,null,null,null,null,null,null,null,null,null,null,null,0,0,0,0,0,0,0,0,0,0]
[null,null,null,null,null,null,null,null,null,null,null,null,null,null,null,null,null,null,"701～800",{"$f":"DSUM($B$3:$N$5008,$M$3,AR34:AT35)","v":0},null,{"$f":"SUM(T41:U41)","v":0},null,null,null,null,null,null,null,null,null,null,null,null,null,null,null,null,null,null,null,null,null,null,null,null,null,null,null,null,null,null,null,null,null,null,null,null,null,null,null,null,null,null,null,0,0,0,0,0,0,0,0,0,0]
[null,null,null,null,null,null,null,null,null,null,null,null,null,null,null,null,null,null,"合計","DD",null,{"$f":"SUM(V34:V41)","v":0},null,null,null,null,null,null,null,null,null,null,null,null,null,null,null,null,null,null,null,null,null,null,null,null,null,null,null,null,null,null,null,null,null,null,null,null,null,null,null,null,null,null,null,0,0,0,0,0,0,0,0,0,0]
[null,null,null,null,null,null,null,null,null,null,null,null,null,null,null,null,null,null,null,null,null,null,null,null,null,null,null,null,null,null,null,null,null,null,null,null,null,null,null,null,null,null,null,null,null,null,null,null,null,null,null,null,null,null,null,null,null,null,null,null,null,null,null,null,null,0,0,0,0,0,0,0,0,0,0]
[null,null,null,null,null,null,null,null,null,null,null,null,null,null,null,null,"製番",null,"0～100",{"$f":"DSUM($B$3:$N$5008,$M$3,W44:Y45)","v":0},{"$f":"DSUM($B$3:$N$5008,$M$3,W46:Y47)","v":0},{"$f":"SUM(T44:U44)","v":0},"製番","CODE","CODE","製番","CODE","CODE","製番","CODE","CODE","製番","CODE","CODE","製番","CODE","CODE","製番","CODE","CODE","製番","CODE","CODE","製番","CODE","CODE",null,null,null,null,null,null,null,null,null,null,null,null,null,null,null,null,null,null,null,0,0,0,0,0,0,0,0,0,0]
[null,null,null,null,null,null,null,null,null,null,null,null,null,null,null,null,"EE",{"$f":"DSUM($B$3:N5008,$M$3,Q44:Q45)","v":0},"101～200",{"$f":"DSUM($B$3:$N$5008,$M$3,Z44:AB45)","v":0},{"$f":"DSUM($B$3:$N$5008,$M$3,Z46:AB47)","v":0},0,"EE","<101",">0","EE","<201",">100","EE","<301",">200","EE","<401",">300","EE","<501",">400","EE","<601",">500","EE","<701",">600","EE","<800",">700",null,null,null,null,null,null,null,null,null,null,null,null,null,null,null,null,null,null,null,0,0,0,0,0,0,0,0,0,0]
[null,null,null,null,null,null,null,null,null,null,null,null,null,null,null,null,"製番",null,"201～300",{"$f":"DSUM($B$3:$N$5008,$M$3,AC44:AE45)","v":0},{"$f":"DSUM($B$3:$N$5008,$M$3,AC46:AE47)","v":0},0,"製番","CODE","CODE","製番","CODE","CODE","製番","CODE","CODE","製番","CODE","CODE","製番","CODE","CODE","製番","CODE","CODE","製番","CODE","CODE","製番","CODE","CODE",null,null,null,null,null,null,null,null,null,null,null,null,null,null,null,null,null,null,null,0,0,0,0,0,0,0,0,0,0]
[null,null,null,null,null,null,null,null,null,null,null,null,null,null,null,null,"EB",{"$f":"DSUM($B$3:N5008,$M$3,Q46:Q47)","v":0},"301～400",{"$f":"DSUM($B$3:$N$5008,$M$3,AF44:AH45)","v":0},{"$f":"DSUM($B$3:$N$5008,$M$3,AF46:AH47)","v":0},0,"EB","<101",">0","EB","<201",">100","EB","<301",">200","EB","<401",">300","EB","<501",">400","EB","<601",">500","EB","<701",">600","EB","<800",">700",null,null,null,null,null,null,null,null,null,null,null,null,null,null,null,null,null,null,null,0,0,0,0,0,0,0,0,0,0]
[null,null,null,null,null,null,null,null,null,null,null,null,null,null,null,null,"小計",{"$f":"+R45+R47","v":0},"401～500",{"$f":"DSUM($B$3:$N$5008,$M$3,AI44:AK45)","v":0},{"$f":"DSUM($B$3:$N$5008,$M$3,AI46:AK47)","v":0},0,null,null,null,null,null,null,null,null,null,null,null,null,null,null,null,null,null,null,null,null,null,null,null,null,null,null,null,null,null,null,null,null,null,null,null,null,null,null,null,null,null,null,null,0,0,0,0,0,0,0,0,0,0]
[null,null,null,null,null,null,null,null,null,null,null,null,null,null,null,null,null,null,"501～600",{"$f":"DSUM($B$3:$N$5008,$M$3,AL44:AN45)","v":0},{"$f":"DSUM($B$3:$N$5008,$M$3,AL46:AN47)","v":0},0,null,null,null,null,null,null,null,null,null,null,null,null,null,null,null,null,null,null,null,null,null,null,null,null,null,null,null,null,null,null,null,null,null,null,null,null,null,null,null,null,null,null,null,0,0,0,0,0,0,0,0,0,0]
[null,null,null,null,null,null,null,null,null,null,null,null,null,null,null,null,null,null,"601～700",{"$f":"DSUM($B$3:$N$5008,$M$3,AO44:AQ45)","v":0},{"$f":"DSUM($B$3:$N$5008,$M$3,AO46:AT47)","v":0},{"$f":"SUM(T50:U50)","v":0},null,null,null,null,null,null,null,null,null,null,null,null,null,null,null,null,null,null,null,null,null,null,null,null,null,null,null,null,null,null,null,null,null,null,null,null,null,null,null,null,null,null,null,0,0,0,0,0,0,0,0,0,0]
[null,null,null,null,null,null,null,null,null,null,null,null,null,null,null,null,null,null,"701～800",{"$f":"DSUM($B$3:$N$5008,$M$3,AR44:AT45)","v":0},{"$f":"DSUM($B$3:$N$5008,$M$3,AR46:AT47)","v":0},{"$f":"SUM(T51:U51)","v":0},null,null,null,null,null,null,null,null,null,null,null,null,null,null,null,null,null,null,null,null,null,null,null,null,null,null,null,null,null,null,null,null,null,null,null,null,null,null,null,null,null,null,null,0,0,0,0,0,0,0,0,0,0]
[null,null,null,null,null,null,null,null,null,null,null,null,null,null,null,null,null,null,"合計","EE","EB",{"$f":"SUM(V44:V51)","v":0},null,null,null,null,null,null,null,null,null,null,null,null,null,null,null,null,null,null,null,null,null,null,null,null,null,null,null,null,null,null,null,null,null,null,null,null,null,null,null,null,null,null,null,0,0,0,0,0,0,0,0,0,0]
[null,null,null,null,null,null,null,null,null,null,null,null,null,null,null,null,null,null,null,null,null,null,null,null,null,null,null,null,null,null,null,null,null,null,null,null,null,null,null,null,null,null,null,null,null,null,null,null,null,null,null,null,null,null,null,null,null,null,null,null,null,null,null,null,null,0,0,0,0,0,0,0,0,0,0]
[null,null,null,null,null,null,null,null,null,null,null,null,null,null,null,null,"製番",null,"0～100",{"$f":"DSUM($B$3:$N$5008,$M$3,W54:Y55)","v":0},null,{"$f":"SUM(T54:U54)","v":0},"製番","CODE","CODE","製番","CODE","CODE","製番","CODE","CODE","製番","CODE","CODE","製番","CODE","CODE","製番","CODE","CODE","製番","CODE","CODE","製番","CODE","CODE",null,null,null,null,null,null,null,null,null,null,null,null,null,null,null,null,null,null,null,0,0,0,0,0,0,0,0,0,0]
[null,null,null,null,null,null,null,null,null,null,null,null,null,null,null,null,"FF",{"$f":"DSUM($B$3:N5008,$M$3,Q54:Q55)","v":0},"101～200",{"$f":"DSUM($B$3:$N$5008,$M$3,Z54:AB55)","v":0},null,0,"FF","<101",">0","FF","<201",">100","FF","<301",">200","FF","<401",">300","FF","<501",">400","FF","<601",">500","FF","<701",">600","FF","<800",">700",null,null,null,null,null,null,null,null,null,null,null,null,null,null,null,null,null,null,null,0,0,0,0,0,0,0,0,0,0]
[null,null,null,null,null,null,null,null,null,null,null,null,null,null,null,null,null,null,"201～300",{"$f":"DSUM($B$3:$N$5008,$M$3,AC54:AE55)","v":0},null,0,null,null,null,null,null,null,null,null,null,null,null,null,null,null,null,null,null,null,null,null,null,null,null,null,null,null,null,null,null,null,null,null,null,null,null,null,null,null,null,null,null,null,null,0,0,0,0,0,0,0,0,0,0]
[null,null,null,null,null,null,null,null,null,null,null,null,null,null,null,null,null,null,"301～400",{"$f":"DSUM($B$3:$N$5008,$M$3,AF54:AH55)","v":0},null,0,null,null,null,null,null,null,null,null,null,null,null,null,null,null,null,null,null,null,null,null,null,null,null,null,null,null,null,null,null,null,null,null,null,null,null,null,null,null,null,null,null,null,null,0,0,0,0,0,0,0,0,0,0]
[null,null,null,null,null,null,null,null,null,null,null,null,null,null,null,null,null,null,"401～500",{"$f":"DSUM($B$3:$N$5008,$M$3,AI54:AK55)","v":0},null,0,null,null,null,null,null,null,null,null,null,null,null,null,null,null,null,null,null,null,null,null,null,null,null,null,null,null,null,null,null,null,null,null,null,null,null,null,null,null,null,null,null,null,null,0,0,0,0,0,0,0,0,0,0]
[null,null,null,null,null,null,null,null,null,null,null,null,null,null,null,null,null,null,"501～600",{"$f":"DSUM($B$3:$N$5008,$M$3,AL54:AN55)","v":0},null,0,null,null,null,null,null,null,null,null,null,null,null,null,null,null,null,null,null,null,null,null,null,null,null,null,null,null,null,null,null,null,null,null,null,null,null,null,null,null,null,null,null,null,null,0,0,0,0,0,0,0,0,0,0]
[null,null,null,null,null,null,null,null,null,null,null,null,null,null,null,null,null,null,"601～700",{"$f":"DSUM($B$3:$N$5008,$M$3,AO54:AQ55)","v":0},null,{"$f":"SUM(T60:U60)","v":0},null,null,null,null,null,null,null,null,null,null,null,null,null,null,null,null,null,null,null,null,null,null,null,null,null,null,null,null,null,null,null,null,null,null,null,null,null,null,null,null,null,null,null,0,0,0,0,0,0,0,0,0,0]
[null,null,null,null,null,null,null,null,null,null,null,null,null,null,null,null,null,null,"701～800",{"$f":"DSUM($B$3:$N$5008,$M$3,AR54:AT55)","v":0},null,{"$f":"SUM(T61:U61)","v":0},null,null,null,null,null,null,null,null,null,null,null,null,null,null,null,null,null,null,null,null,null,null,null,null,null,null,null,null,null,null,null,null,null,null,null,null,null,null,null,null,null,null,null,0,0,0,0,0,0,0,0,0,0]
[null,null,null,null,null,null,null,null,null,null,null,null,null,null,null,null,null,null,"合計","FF",null,{"$f":"SUM(V54:V61)","v":0},null,null,null,null,null,null,null,null,null,null,null,null,null,null,null,null,null,null,null,null,null,null,null,null,null,null,null,null,null,null,null,null,null,null,null,null,null,null,null,null,null,null,null,0,0,0,0,0,0,0,0,0,0]
[null,null,null,null,null,null,null,null,null,null,null,null,null,null,null,null,null,null,null,null,null,null,null,null,null,null,null,null,null,null,null,null,null,null,null,null,null,null,null,null,null,null,null,null,null,null,null,null,null,null,null,null,null,null,null,null,null,null,null,null,null,null,null,null,null,0,0,0,0,0,0,0,0,0,0]
[null,null,null,null,null,null,null,null,null,null,null,null,null,null,null,null,"製番",null,"0～100",{"$f":"DSUM($B$3:$N$5008,$M$3,W64:Y65)","v":0},null,{"$f":"SUM(T64:U64)","v":0},"製番","CODE","CODE","製番","CODE","CODE","製番","CODE","CODE","製番","CODE","CODE","製番","CODE","CODE","製番","CODE","CODE","製番","CODE","CODE","製番","CODE","CODE",null,null,null,null,null,null,null,null,null,null,null,null,null,null,null,null,null,null,null,0,0,0,0,0,0,0,0,0,0]
[null,null,null,null,null,null,null,null,null,null,null,null,null,null,null,null,"GG",{"$f":"DSUM($B$3:N5008,$M$3,Q64:Q65)","v":0},"101～200",{"$f":"DSUM($B$3:$N$5008,$M$3,Z64:AB65)","v":0},null,0,"GG","<101",">0","GG","<201",">100","GG","<301",">200","GG","<401",">300","GG","<501",">400","GG","<601",">500","GG","<701",">600","GG","<800",">700",null,null,null,null,null,null,null,null,null,null,null,null,null,null,null,null,null,null,null,0,0,0,0,0,0,0,0,0,0]
[null,null,null,null,null,null,null,null,null,null,null,null,null,null,null,null,null,null,"201～300",{"$f":"DSUM($B$3:$N$5008,$M$3,AC64:AE65)","v":0},null,0,null,null,null,null,null,null,null,null,null,null,null,null,null,null,null,null,null,null,null,null,null,null,null,null,null,null,null,null,null,null,null,null,null,null,null,null,null,null,null,null,null,null,null,0,0,0,0,0,0,0,0,0,0]
[null,null,null,null,null,null,null,null,null,null,null,null,null,null,null,null,null,null,"301～400",{"$f":"DSUM($B$3:$N$5008,$M$3,AF64:AH65)","v":0},null,0,null,null,null,null,null,null,null,null,null,null,null,null,null,null,null,null,null,null,null,null,null,null,null,null,null,null,null,null,null,null,null,null,null,null,null,null,null,null,null,null,null,null,null,0,0,0,0,0,0,0,0,0,0]
[null,null,null,null,null,null,null,null,null,null,null,null,null,null,null,null,null,null,"401～500",{"$f":"DSUM($B$3:$N$5008,$M$3,AI64:AK65)","v":0},null,0,null,null,null,null,null,null,null,null,null,null,null,null,null,null,null,null,null,null,null,null,null,null,null,null,null,null,null,null,null,null,null,null,null,null,null,null,null,null,null,null,null,null,null,0,0,0,0,0,0,0,0,0,0]
[null,null,null,null,null,null,null,null,null,null,null,null,null,null,null,null,null,null,"501～600",{"$f":"DSUM($B$3:$N$5008,$M$3,AL64:AN65)","v":0},null,0,null,null,null,null,null,null,null,null,null,null,null,null,null,null,null,null,null,null,null,null,null,null,null,null,null,null,null,null,null,null,null,null,null,null,null,null,null,null,null,null,null,null,null,0,0,0,0,0,0,0,0,0,0]
[null,null,null,null,null,null,null,null,null,null,null,null,null,null,null,null,null,null,"601～700",{"$f":"DSUM($B$3:$N$5008,$M$3,AO64:AQ65)","v":0},null,{"$f":"SUM(T70:U70)","v":0},null,null,null,null,null,null,null,null,null,null,null,null,null,null,null,null,null,null,null,null,null,null,null,null,null,null,null,null,null,null,null,null,null,null,null,null,null,null,null,null,null,null,null,0,0,0,0,0,0,0,0,0,0]
[null,null,null,null,null,null,null,null,null,null,null,null,null,null,null,null,null,null,"701～800",{"$f":"DSUM($B$3:$N$5008,$M$3,AR64:AT65)","v":0},null,{"$f":"SUM(T71:U71)","v":0},null,null,null,null,null,null,null,null,null,null,null,null,null,null,null,null,null,null,null,null,null,null,null,null,null,null,null,null,null,null,null,null,null,null,null,null,null,null,null,null,null,null,null,0,0,0,0,0,0,0,0,0,0]
[null,null,null,null,null,null,null,null,null,null,null,null,null,null,null,null,null,null,"合計","GG",null,{"$f":"SUM(V64:V71)","v":0},null,null,null,null,null,null,null,null,null,null,null,null,null,null,null,null,null,null,null,null,null,null,null,null,null,null,null,null,null,null,null,null,null,null,null,null,null,null,null,null,null,null,null,0,0,0,0,0,0,0,0,0,0]
[null,null,null,null,null,null,null,null,null,null,null,null,null,null,null,null,null,null,null,null,null,null,null,null,null,null,null,null,null,null,null,null,null,null,null,null,null,null,null,null,null,null,null,null,null,null,null,null,null,null,null,null,null,null,null,null,null,null,null,null,null,null,null,null,null,0,0,0,0,0,0,0,0,0,0]
[null,null,null,null,null,null,null,null,null,null,null,null,null,null,null,null,"製番",null,"0～100",{"$f":"DSUM($B$3:$N$5008,$M$3,W74:Y75)","v":0},null,{"$f":"SUM(T74:U74)","v":0},"製番","CODE","CODE","製番","CODE","CODE","製番","CODE","CODE","製番","CODE","CODE","製番","CODE","CODE","製番","CODE","CODE","製番","CODE","CODE","製番","CODE","CODE",null,null,null,null,null,null,null,null,null,null,null,null,null,null,null,null,null,null,null,0,0,0,0,0,0,0,0,0,0]
[null,null,null,null,null,null,null,null,null,null,null,null,null,null,null,null,"HH",{"$f":"DSUM($B$3:N5008,$M$3,Q74:Q75)","v":0},"101～200",{"$f":"DSUM($B$3:$N$5008,$M$3,Z74:AB75)","v":0},null,0,"HH","<101",">0","HH","<201",">100","HH","<301",">200","HH","<401",">300","HH","<501",">400","HH","<601",">500","HH","<701",">600","HH","<800",">700",null,null,null,null,null,null,null,null,null,null,null,null,null,null,null,null,null,null,null,0,0,0,0,0,0,0,0,0,0]
[null,null,null,null,null,null,null,null,null,null,null,null,null,null,null,null,null,null,"201～300",{"$f":"DSUM($B$3:$N$5008,$M$3,AC74:AE75)","v":0},null,0,null,null,null,null,null,null,null,null,null,null,null,null,null,null,null,null,null,null,null,null,null,null,null,null,null,null,null,null,null,null,null,null,null,null,null,null,null,null,null,null,null,null,null,0,0,0,0,0,0,0,0,0,0]
[null,null,null,null,null,null,null,null,null,null,null,null,null,null,null,null,null,null,"301～400",{"$f":"DSUM($B$3:$N$5008,$M$3,AF74:AH75)","v":0},null,0,null,null,null,null,null,null,null,null,null,null,null,null,null,null,null,null,null,null,null,null,null,null,null,null,null,null,null,null,null,null,null,null,null,null,null,null,null,null,null,null,null,null,null,0,0,0,0,0,0,0,0,0,0]
[null,null,null,null,null,null,null,null,null,null,null,null,null,null,null,"",null,null,"401～500",{"$f":"DSUM($B$3:$N$5008,$M$3,AI74:AK75)","v":0},null,0,null,null,null,null,null,null,null,null,null,null,null,null,null,null,null,null,null,null,null,null,null,null,null,null,null,null,null,null,null,null,null,null,null,null,null,null,null,null,null,null,null,null,null,0,0,0,0,0,0,0,0,0,0]
[null,null,null,null,null,null,null,null,null,null,null,null,null,null,null,"",null,null,"501～600",{"$f":"DSUM($B$3:$N$5008,$M$3,AL74:AN75)","v":0},null,0,null,null,null,null,null,null,null,null,null,null,null,null,null,null,null,null,null,null,null,null,null,null,null,null,null,null,null,null,null,null,null,null,null,null,null,null,null,null,null,null,null,null,null,0,0,0,0,0,0,0,0,0,0]
[null,null,null,null,null,null,null,null,null,null,null,null,null,null,null,"",null,null,"601～700",{"$f":"DSUM($B$3:$N$5008,$M$3,AO74:AQ75)","v":0},null,{"$f":"SUM(T80:U80)","v":0},null,null,null,null,null,null,null,null,null,null,null,null,null,null,null,null,null,null,null,null,null,null,null,null,null,null,null,null,null,null,null,null,null,null,null,null,null,null,null,null,null,null,null,0,0,0,0,0,0,0,0,0,0]
[null,null,null,null,null,null,null,null,null,null,null,null,null,null,null,"",null,null,"701～800",{"$f":"DSUM($B$3:$N$5008,$M$3,AR74:AT75)","v":0},null,{"$f":"SUM(T81:U81)","v":0},null,null,null,null,null,null,null,null,null,null,null,null,null,null,null,null,null,null,null,null,null,null,null,null,null,null,null,null,null,null,null,null,null,null,null,null,null,null,null,null,null,null,null,0,0,0,0,0,0,0,0,0,0]
[null,null,null,null,null,null,null,null,null,null,null,null,null,null,null,"",null,null,"合計","HH",null,{"$f":"SUM(V74:V81)","v":0},null,null,null,null,null,null,null,null,null,null,null,null,null,null,null,null,null,null,null,null,null,null,null,null,null,null,null,null,null,null,null,null,null,null,null,null,null,null,null,null,null,null,null,0,0,0,0,0,0,0,0,0,0]
[null,null,null,null,null,null,null,null,null,null,null,null,null,null,null,"",null,null,null,null,null,null,null,null,null,null,null,null,null,null,null,null,null,null,null,null,null,null,null,null,null,null,null,null,null,null,null,null,null,null,null,null,null,null,null,null,null,null,null,null,null,null,null,null,null,0,0,0,0,0,0,0,0,0,0]
[null,null,null,null,null,null,null,null,null,null,null,null,null,null,null,null,"製番",null,"0～100",{"$f":"DSUM($B$3:$N$5008,$M$3,W84:Y85)","v":0},null,{"$f":"SUM(T84:U84)","v":0},"製番","CODE","CODE","製番","CODE","CODE","製番","CODE","CODE","製番","CODE","CODE","製番","CODE","CODE","製番","CODE","CODE","製番","CODE","CODE","製番","CODE","CODE",null,null,null,null,null,null,null,null,null,null,null,null,null,null,null,null,null,null,null,0,0,0,0,0,0,0,0,0,0]
[null,null,null,null,null,null,null,null,null,null,null,null,null,null,null,null,"LL",{"$f":"DSUM($B$3:N5008,$M$3,Q84:Q85)","v":0},"101～200",{"$f":"DSUM($B$3:$N$5008,$M$3,Z84:AB85)","v":0},null,0,"LL","<101",">0","LL","<201",">100","LL","<301",">200","LL","<401",">300","LL","<501",">400","LL","<601",">500","LL","<701",">600","LL","<800",">700",null,null,null,null,null,null,null,null,null,null,null,null,null,null,null,null,null,null,null,0,0,0,0,0,0,0,0,0,0]
[null,null,null,null,null,null,null,null,null,null,null,null,null,null,null,null,null,null,"201～300",{"$f":"DSUM($B$3:$N$5008,$M$3,AC84:AE85)","v":0},null,0,null,null,null,null,null,null,null,null,null,null,null,null,null,null,null,null,null,null,null,null,null,null,null,null,null,null,null,null,null,null,null,null,null,null,null,null,null,null,null,null,null,null,null,0,0,0,0,0,0,0,0,0,0]
[null,null,null,null,null,null,null,null,null,null,null,null,null,null,null,null,null,null,"301～400",{"$f":"DSUM($B$3:$N$5008,$M$3,AF84:AH85)","v":0},null,0,null,null,null,null,null,null,null,null,null,null,null,null,null,null,null,null,null,null,null,null,null,null,null,null,null,null,null,null,null,null,null,null,null,null,null,null,null,null,null,null,null,null,null,0,0,0,0,0,0,0,0,0,0]
[null,null,null,null,null,null,null,null,null,null,null,null,null,null,null,null,null,null,"401～500",{"$f":"DSUM($B$3:$N$5008,$M$3,AI84:AK85)","v":0},null,0,null,null,null,null,null,null,null,null,null,null,null,null,null,null,null,null,null,null,null,null,null,null,null,null,null,null,null,null,null,null,null,null,null,null,null,null,null,null,null,null,null,null,null,0,0,0,0,0,0,0,0,0,0]
[null,null,null,null,null,null,null,null,null,null,null,null,null,null,null,null,null,null,"501～600",{"$f":"DSUM($B$3:$N$5008,$M$3,AL84:AN85)","v":0},null,0,null,null,null,null,null,null,null,null,null,null,null,null,null,null,null,null,null,null,null,null,null,null,null,null,null,null,null,null,null,null,null,null,null,null,null,null,null,null,null,null,null,null,null,0,0,0,0,0,0,0,0,0,0]
[null,null,null,null,null,null,null,null,null,null,null,null,null,null,null,null,null,null,"601～700",{"$f":"DSUM($B$3:$N$5008,$M$3,AO84:AQ85)","v":0},null,{"$f":"SUM(T90:U90)","v":0},null,null,null,null,null,null,null,null,null,null,null,null,null,null,null,null,null,null,null,null,null,null,null,null,null,null,null,null,null,null,null,null,null,null,null,null,null,null,null,null,null,null,null,0,0,0,0,0,0,0,0,0,0]
[null,null,null,null,null,null,null,null,null,null,null,null,null,null,null,null,null,null,"701～800",{"$f":"DSUM($B$3:$N$5008,$M$3,AR84:AT85)","v":0},null,{"$f":"SUM(T91:U91)","v":0},null,null,null,null,null,null,null,null,null,null,null,null,null,null,null,null,null,null,null,null,null,null,null,null,null,null,null,null,null,null,null,null,null,null,null,null,null,null,null,null,null,null,null,0,0,0,0,0,0,0,0,0,0]
[null,null,null,null,null,null,null,null,null,null,null,null,null,null,null,null,null,null,"合計","LL",null,{"$f":"SUM(V84:V91)","v":0},null,null,null,null,null,null,null,null,null,null,null,null,null,null,null,null,null,null,null,null,null,null,null,null,null,null,null,null,null,null,null,null,null,null,null,null,null,null,null,null,null,null,null,0,0,0,0,0,0,0,0,0,0]
[null,null,null,null,null,null,null,null,null,null,null,null,null,null,null,null,null,null,null,null,null,null,null,null,null,null,null,null,null,null,null,null,null,null,null,null,null,null,null,null,null,null,null,null,null,null,null,null,null,null,null,null,null,null,null,null,null,null,null,null,null,null,null,null,null,0,0,0,0,0,0,0,0,0,0]
[null,null,null,null,null,null,null,null,null,null,null,null,null,null,null,null,"製番",null,"0～100",{"$f":"DSUM($B$3:$N$5008,$M$3,W94:Y95)","v":0},null,{"$f":"SUM(T94:U94)","v":0},"製番","CODE","CODE","製番","CODE","CODE","製番","CODE","CODE","製番","CODE","CODE","製番","CODE","CODE","製番","CODE","CODE","製番","CODE","CODE","製番","CODE","CODE",null,null,null,null,null,null,null,null,null,null,null,null,null,null,null,null,null,null,null,0,0,0,0,0,0,0,0,0,0]
[null,null,null,null,null,null,null,null,null,null,null,null,null,null,null,null,"MM",{"$f":"DSUM($B$3:N5016,$M$3,Q94:Q95)","v":0},"101～200",{"$f":"DSUM($B$3:$N$5008,$M$3,Z94:AB95)","v":0},null,0,"MM","<101",">0","MM","<201",">100","MM","<301",">200","MM","<401",">300","MM","<501",">400","MM","<601",">500","MM","<701",">600","MM","<800",">700",null,null,null,null,null,null,null,null,null,null,null,null,null,null,null,null,null,null,null,0,0,0,0,0,0,0,0,0,0]
[null,null,null,null,null,null,null,null,null,null,null,null,null,null,null,null,null,null,"201～300",{"$f":"DSUM($B$3:$N$5008,$M$3,AC94:AE95)","v":0},null,0,null,null,null,null,null,null,null,null,null,null,null,null,null,null,null,null,null,null,null,null,null,null,null,null,null,null,null,null,null,null,null,null,null,null,null,null,null,null,null,null,null,null,null,0,0,0,0,0,0,0,0,0,0]
[null,null,null,null,null,null,null,null,null,null,null,null,null,null,null,null,null,null,"301～400",{"$f":"DSUM($B$3:$N$5008,$M$3,AF94:AH95)","v":0},null,0,null,null,null,null,null,null,null,null,null,null,null,null,null,null,null,null,null,null,null,null,null,null,null,null,null,null,null,null,null,null,null,null,null,null,null,null,null,null,null,null,null,null,null,0,0,0,0,0,0,0,0,0,0]
[null,null,null,null,null,null,null,null,null,null,null,null,null,null,null,null,null,null,"401～500",{"$f":"DSUM($B$3:$N$5008,$M$3,AI94:AK95)","v":0},null,0,null,null,null,null,null,null,null,null,null,null,null,null,null,null,null,null,null,null,null,null,null,null,null,null,null,null,null,null,null,null,null,null,null,null,null,null,null,null,null,null,null,null,null,0,0,0,0,0,0,0,0,0,0]
[null,null,null,null,null,null,null,null,null,null,null,null,null,null,null,null,null,null,"501～600",{"$f":"DSUM($B$3:$N$5008,$M$3,AL94:AN95)","v":0},null,0,null,null,null,null,null,null,null,null,null,null,null,null,null,null,null,null,null,null,null,null,null,null,null,null,null,null,null,null,null,null,null,null,null,null,null,null,null,null,null,null,null,null,null,0,0,0,0,0,0,0,0,0,0]
[null,null,null,null,null,null,null,null,null,null,null,null,null,null,null,null,null,null,"601～700",{"$f":"DSUM($B$3:$N$5008,$M$3,AO94:AQ95)","v":0},null,{"$f":"SUM(T100:U100)","v":0},null,null,null,null,null,null,null,null,null,null,null,null,null,null,null,null,null,null,null,null,null,null,null,null,null,null,null,null,null,null,null,null,null,null,null,null,null,null,null,null,null,null,null,0,0,0,0,0,0,0,0,0,0]
[null,null,null,null,null,null,null,null,null,null,null,null,null,null,null,null,null,null,"701～800",{"$f":"DSUM($B$3:$N$5008,$M$3,AR94:AT95)","v":0},null,{"$f":"SUM(T101:U101)","v":0},null,null,null,null,null,null,null,null,null,null,null,null,null,null,null,null,null,null,null,null,null,null,null,null,null,null,null,null,null,null,null,null,null,null,null,null,null,null,null,null,null,null,null,0,0,0,0,0,0,0,0,0,0]
[null,null,null,null,null,null,null,null,null,null,null,null,null,null,null,null,null,null,"合計","MM",null,{"$f":"SUM(V94:V101)","v":0},null,null,null,null,null,null,null,null,null,null,null,null,null,null,null,null,null,null,null,null,null,null,null,null,null,null,null,null,null,null,null,null,null,null,null,null,null,null,null,null,null,null,null,0,0,0,0,0,0,0,0,0,0]
[null,null,null,null,null,null,null,null,null,null,null,null,null,null,null,null,null,null,null,null,null,null,null,null,null,null,null,null,null,null,null,null,null,null,null,null,null,null,null,null,null,null,null,null,null,null,null,null,null,null,null,null,null,null,null,null,null,null,null,null,null,null,null,null,null,0,0,0,0,0,0,0,0,0,0]
[null,null,null,null,null,null,null,null,null,null,null,null,null,null,null,null,null,null,null,null,null,null,null,null,null,null,null,null,null,null,null,null,null,null,null,null,null,null,null,null,null,null,null,null,null,null,null,null,null,null,null,null,null,null,null,null,null,null,null,null,null,null,null,null,null,0,0,0,0,0,0,0,0,0,0]
[null,null,null,null,null,null,null,null,null,null,null,null,null,null,null,null,null,null,null,null,null,null,null,null,null,null,null,null,null,null,null,null,null,null,null,null,null,null,null,null,null,null,null,null,null,null,null,null,null,null,null,null,null,null,null,null,null,null,null,null,null,null,null,null,null,0,0,0,0,0,0,0,0,0,0]
[null,null,null,null,null,null,null,null,null,null,null,null,null,null,null,null,null,null,null,null,null,null,null,null,null,null,null,null,null,null,null,null,null,null,null,null,null,null,null,null,null,null,null,null,null,null,null,null,null,null,null,null,null,null,null,null,null,null,null,null,null,null,null,null,null,0,0,0,0,0,0,0,0,0,0]
[null,null,null,null,null,null,null,null,null,null,null,null,null,null,null,null,null,null,null,null,null,null,null,null,null,null,null,null,null,null,null,null,null,null,null,null,null,null,null,null,null,null,null,null,null,null,null,null,null,null,null,null,null,null,null,null,null,null,null,null,null,null,null,null,null,0,0,0,0,0,0,0,0,0,0]
[null,null,null,null,null,null,null,null,null,null,null,null,null,null,null,null,null,null,null,null,null,null,null,null,null,null,null,null,null,null,null,null,null,null,null,null,null,null,null,null,null,null,null,null,null,null,null,null,null,null,null,null,null,null,null,null,null,null,null,null,null,null,null,null,null,0,0,0,0,0,0,0,0,0,0]
[null,null,null,null,null,null,null,null,null,null,null,null,null,null,null,null,null,null,null,null,null,null,null,null,null,null,null,null,null,null,null,null,null,null,null,null,null,null,null,null,null,null,null,null,null,null,null,null,null,null,null,null,null,null,null,null,null,null,null,null,null,null,null,null,null,0,0,0,0,0,0,0,0,0,0]
[null,null,null,null,null,null,null,null,null,null,null,null,null,null,null,null,null,null,null,null,null,null,null,null,null,null,null,null,null,null,null,null,null,null,null,null,null,null,null,null,null,null,null,null,null,null,null,null,null,null,null,null,null,null,null,null,null,null,null,null,null,null,null,null,null,0,0,0,0,0,0,0,0,0,0]
[null,null,null,null,null,null,null,null,null,null,null,null,null,null,null,null,null,null,null,null,null,null,null,null,null,null,null,null,null,null,null,null,null,null,null,null,null,null,null,null,null,null,null,null,null,null,null,null,null,null,null,null,null,null,null,null,null,null,null,null,null,null,null,null,null,0,0,0,0,0,0,0,0,0,0]
[null,null,null,null,null,null,null,null,null,null,null,null,null,null,null,null,null,null,null,null,null,null,null,null,null,null,null,null,null,null,null,null,null,null,null,null,null,null,null,null,null,null,null,null,null,null,null,null,null,null,null,null,null,null,null,null,null,null,null,null,null,null,null,null,null,0,0,0,0,0,0,0,0,0,0]
[null,null,null,null,null,null,null,null,null,null,null,null,null,null,null,null,null,null,null,null,null,null,null,null,null,null,null,null,null,null,null,null,null,null,null,null,null,null,null,null,null,null,null,null,null,null,null,null,null,null,null,null,null,null,null,null,null,null,null,null,null,null,null,null,null,0,0,0,0,0,0,0,0,0,0]
[null,null,null,null,null,null,null,null,null,null,null,null,null,null,null,null,null,null,null,null,null,null,null,null,null,null,null,null,null,null,null,null,null,null,null,null,null,null,null,null,null,null,null,null,null,null,null,null,null,null,null,null,null,null,null,null,null,null,null,null,null,null,null,null,null,0,0,0,0,0,0,0,0,0,0]
[null,null,null,null,null,null,null,null,null,null,null,null,null,null,null,null,null,null,null,null,null,null,null,null,null,null,null,null,null,null,null,null,null,null,null,null,null,null,null,null,null,null,null,null,null,null,null,null,null,null,null,null,null,null,null,null,null,null,null,null,null,null,null,null,null,0,0,0,0,0,0,0,0,0,0]
[null,null,null,null,null,null,null,null,null,null,null,null,null,null,null,null,null,null,null,null,null,null,null,null,null,null,null,null,null,null,null,null,null,null,null,null,null,null,null,null,null,null,null,null,null,null,null,null,null,null,null,null,null,null,null,null,null,null,null,null,null,null,null,null,null,0,0,0,0,0,0,0,0,0,0]
[null,null,null,null,null,null,null,null,null,null,null,null,null,null,null,null,null,null,null,null,null,null,null,null,null,null,null,null,null,null,null,null,null,null,null,null,null,null,null,null,null,null,null,null,null,null,null,null,null,null,null,null,null,null,null,null,null,null,null,null,null,null,null,null,null,0,0,0,0,0,0,0,0,0,0]
[null,null,null,null,null,null,null,null,null,null,null,null,null,null,null,null,null,null,null,null,null,null,null,null,null,null,null,null,null,null,null,null,null,null,null,null,null,null,null,null,null,null,null,null,null,null,null,null,null,null,null,null,null,null,null,null,null,null,null,null,null,null,null,null,null,0,0,0,0,0,0,0,0,0,0]
[null,null,null,null,null,null,null,null,null,null,null,null,null,null,null,null,null,null,null,null,null,null,null,null,null,null,null,null,null,null,null,null,null,null,null,null,null,null,null,null,null,null,null,null,null,null,null,null,null,null,null,null,null,null,null,null,null,null,null,null,null,null,null,null,null,0,0,0,0,0,0,0,0,0,0]
[null,null,null,null,null,null,null,null,null,null,null,null,null,null,null,null,null,null,null,null,null,null,null,null,null,null,null,null,null,null,null,null,null,null,null,null,null,null,null,null,null,null,null,null,null,null,null,null,null,null,null,null,null,null,null,null,null,null,null,null,null,null,null,null,null,0,0,0,0,0,0,0,0,0,0]
[null,null,null,null,null,null,null,null,null,null,null,null,null,null,null,null,null,null,null,null,null,null,null,null,null,null,null,null,null,null,null,null,null,null,null,null,null,null,null,null,null,null,null,null,null,null,null,null,null,null,null,null,null,null,null,null,null,null,null,null,null,null,null,null,null,0,0,0,0,0,0,0,0,0,0]
[null,null,null,null,null,null,null,null,null,null,null,null,null,null,null,null,null,null,null,null,null,null,null,null,null,null,null,null,null,null,null,null,null,null,null,null,null,null,null,null,null,null,null,null,null,null,null,null,null,null,null,null,null,null,null,null,null,null,null,null,null,null,null,null,null,0,0,0,0,0,0,0,0,0,0]
[null,null,null,null,null,null,null,null,null,null,null,null,null,null,null,null,null,null,null,null,null,null,null,null,null,null,null,null,null,null,null,null,null,null,null,null,null,null,null,null,null,null,null,null,null,null,null,null,null,null,null,null,null,null,null,null,null,null,null,null,null,null,null,null,null,0,0,0,0,0,0,0,0,0,0]
[null,null,null,null,null,null,null,null,null,null,null,null,null,null,null,null,null,null,null,null,null,null,null,null,null,null,null,null,null,null,null,null,null,null,null,null,null,null,null,null,null,null,null,null,null,null,null,null,null,null,null,null,null,null,null,null,null,null,null,null,null,null,null,null,null,0,0,0,0,0,0,0,0,0,0]
[null,null,null,null,null,null,null,null,null,null,null,null,null,null,null,null,null,null,null,null,null,null,null,null,null,null,null,null,null,null,null,null,null,null,null,null,null,null,null,null,null,null,null,null,null,null,null,null,null,null,null,null,null,null,null,null,null,null,null,null,null,null,null,null,null,0,0,0,0,0,0,0,0,0,0]
[null,null,null,null,null,null,null,null,null,null,null,null,null,null,null,null,null,null,null,null,null,null,null,null,null,null,null,null,null,null,null,null,null,null,null,null,null,null,null,null,null,null,null,null,null,null,null,null,null,null,null,null,null,null,null,null,null,null,null,null,null,null,null,null,null,0,0,0,0,0,0,0,0,0,0]
[null,null,null,null,null,null,null,null,null,null,null,null,null,null,null,null,null,null,null,null,null,null,null,null,null,null,null,null,null,null,null,null,null,null,null,null,null,null,null,null,null,null,null,null,null,null,null,null,null,null,null,null,null,null,null,null,null,null,null,null,null,null,null,null,null,0,0,0,0,0,0,0,0,0,0]
[null,null,null,null,null,null,null,null,null,null,null,null,null,null,null,null,null,null,null,null,null,null,null,null,null,null,null,null,null,null,null,null,null,null,null,null,null,null,null,null,null,null,null,null,null,null,null,null,null,null,null,null,null,null,null,null,null,null,null,null,null,null,null,null,null,0,0,0,0,0,0,0,0,0,0]
[null,null,null,null,null,null,null,null,null,null,null,null,null,null,null,null,null,null,null,null,null,null,null,null,null,null,null,null,null,null,null,null,null,null,null,null,null,null,null,null,null,null,null,null,null,null,null,null,null,null,null,null,null,null,null,null,null,null,null,null,null,null,null,null,null,0,0,0,0,0,0,0,0,0,0]
[null,null,null,null,null,null,null,null,null,null,null,null,null,null,null,null,null,null,null,null,null,null,null,null,null,null,null,null,null,null,null,null,null,null,null,null,null,null,null,null,null,null,null,null,null,null,null,null,null,null,null,null,null,null,null,null,null,null,null,null,null,null,null,null,null,0,0,0,0,0,0,0,0,0,0]
[null,null,null,null,null,null,null,null,null,null,null,null,null,null,null,null,null,null,null,null,null,null,null,null,null,null,null,null,null,null,null,null,null,null,null,null,null,null,null,null,null,null,null,null,null,null,null,null,null,null,null,null,null,null,null,null,null,null,null,null,null,null,null,null,null,0,0,0,0,0,0,0,0,0,0]
[null,null,null,null,null,null,null,null,null,null,null,null,null,null,null,null,null,null,null,null,null,null,null,null,null,null,null,null,null,null,null,null,null,null,null,null,null,null,null,null,null,null,null,null,null,null,null,null,null,null,null,null,null,null,null,null,null,null,null,null,null,null,null,null,null,0,0,0,0,0,0,0,0,0,0]
[null,null,null,null,null,null,null,null,null,null,null,null,null,null,null,null,null,null,null,null,null,null,null,null,null,null,null,null,null,null,null,null,null,null,null,null,null,null,null,null,null,null,null,null,null,null,null,null,null,null,null,null,null,null,null,null,null,null,null,null,null,null,null,null,null,0,0,0,0,0,0,0,0,0,0]
[null,null,null,null,null,null,null,null,null,null,null,null,null,null,null,null,null,null,null,null,null,null,null,null,null,null,null,null,null,null,null,null,null,null,null,null,null,null,null,null,null,null,null,null,null,null,null,null,null,null,null,null,null,null,null,null,null,null,null,null,null,null,null,null,null,0,0,0,0,0,0,0,0,0,0]
[null,null,null,null,null,null,null,null,null,null,null,null,null,null,null,null,null,null,null,null,null,null,null,null,null,null,null,null,null,null,null,null,null,null,null,null,null,null,null,null,null,null,null,null,null,null,null,null,null,null,null,null,null,null,null,null,null,null,null,null,null,null,null,null,null,0,0,0,0,0,0,0,0,0,0]
[null,null,null,null,null,null,null,null,null,null,null,null,null,null,null,null,null,null,null,null,null,null,null,null,null,null,null,null,null,null,null,null,null,null,null,null,null,null,null,null,null,null,null,null,null,null,null,null,null,null,null,null,null,null,null,null,null,null,null,null,null,null,null,null,null,0,0,0,0,0,0,0,0,0,0]
[null,null,null,null,null,null,null,null,null,null,null,null,null,null,null,null,null,null,null,null,null,null,null,null,null,null,null,null,null,null,null,null,null,null,null,null,null,null,null,null,null,null,null,null,null,null,null,null,null,null,null,null,null,null,null,null,null,null,null,null,null,null,null,null,null,0,0,0,0,0,0,0,0,0,0]
[null,null,null,null,null,null,null,null,null,null,null,null,null,null,null,null,null,null,null,null,null,null,null,null,null,null,null,null,null,null,null,null,null,null,null,null,null,null,null,null,null,null,null,null,null,null,null,null,null,null,null,null,null,null,null,null,null,null,null,null,null,null,null,null,null,0,0,0,0,0,0,0,0,0,0]
[null,null,null,null,null,null,null,null,null,null,null,null,null,null,null,null,null,null,null,null,null,null,null,null,null,null,null,null,null,null,null,null,null,null,null,null,null,null,null,null,null,null,null,null,null,null,null,null,null,null,null,null,null,null,null,null,null,null,null,null,null,null,null,null,null,0,0,0,0,0,0,0,0,0,0]
[null,null,null,null,null,null,null,null,null,null,null,null,null,null,null,null,null,null,null,null,null,null,null,null,null,null,null,null,null,null,null,null,null,null,null,null,null,null,null,null,null,null,null,null,null,null,null,null,null,null,null,null,null,null,null,null,null,null,null,null,null,null,null,null,null,0,0,0,0,0,0,0,0,0,0]
[null,null,null,null,null,null,null,null,null,null,null,null,null,null,null,null,null,null,null,null,null,null,null,null,null,null,null,null,null,null,null,null,null,null,null,null,null,null,null,null,null,null,null,null,null,null,null,null,null,null,null,null,null,null,null,null,null,null,null,null,null,null,null,null,null,0,0,0,0,0,0,0,0,0,0]
[null,null,null,null,null,null,null,null,null,null,null,null,null,null,null,null,null,null,null,null,null,null,null,null,null,null,null,null,null,null,null,null,null,null,null,null,null,null,null,null,null,null,null,null,null,null,null,null,null,null,null,null,null,null,null,null,null,null,null,null,null,null,null,null,null,0,0,0,0,0,0,0,0,0,0]
[null,null,null,null,null,null,null,null,null,null,null,null,null,null,null,null,null,null,null,null,null,null,null,null,null,null,null,null,null,null,null,null,null,null,null,null,null,null,null,null,null,null,null,null,null,null,null,null,null,null,null,null,null,null,null,null,null,null,null,null,null,null,null,null,null,0,0,0,0,0,0,0,0,0,0]
[null,null,null,null,null,null,null,null,null,null,null,null,null,null,null,null,null,null,null,null,null,null,null,null,null,null,null,null,null,null,null,null,null,null,null,null,null,null,null,null,null,null,null,null,null,null,null,null,null,null,null,null,null,null,null,null,null,null,null,null,null,null,null,null,null,0,0,0,0,0,0,0,0,0,0]
[null,null,null,null,null,null,null,null,null,null,null,null,null,null,null,null,null,null,null,null,null,null,null,null,null,null,null,null,null,null,null,null,null,null,null,null,null,null,null,null,null,null,null,null,null,null,null,null,null,null,null,null,null,null,null,null,null,null,null,null,null,null,null,null,null,0,0,0,0,0,0,0,0,0,0]
[null,null,null,null,null,null,null,null,null,null,null,null,null,null,null,null,null,null,null,null,null,null,null,null,null,null,null,null,null,null,null,null,null,null,null,null,null,null,null,null,null,null,null,null,null,null,null,null,null,null,null,null,null,null,null,null,null,null,null,null,null,null,null,null,null,0,0,0,0,0,0,0,0,0,0]
[null,null,null,null,null,null,null,null,null,null,null,null,null,null,null,null,null,null,null,null,null,null,null,null,null,null,null,null,null,null,null,null,null,null,null,null,null,null,null,null,null,null,null,null,null,null,null,null,null,null,null,null,null,null,null,null,null,null,null,null,null,null,null,null,null,0,0,0,0,0,0,0,0,0,0]
[null,null,null,null,null,null,null,null,null,null,null,null,null,null,null,null,null,null,null,null,null,null,null,null,null,null,null,null,null,null,null,null,null,null,null,null,null,null,null,null,null,null,null,null,null,null,null,null,null,null,null,null,null,null,null,null,null,null,null,null,null,null,null,null,null,0,0,0,0,0,0,0,0,0,0]
[null,null,null,null,null,null,null,null,null,null,null,null,null,null,null,null,null,null,null,null,null,null,null,null,null,null,null,null,null,null,null,null,null,null,null,null,null,null,null,null,null,null,null,null,null,null,null,null,null,null,null,null,null,null,null,null,null,null,null,null,null,null,null,null,null,0,0,0,0,0,0,0,0,0,0]
[null,null,null,null,null,null,null,null,null,null,null,null,null,null,null,null,null,null,null,null,null,null,null,null,null,null,null,null,null,null,null,null,null,null,null,null,null,null,null,null,null,null,null,null,null,null,null,null,null,null,null,null,null,null,null,null,null,null,null,null,null,null,null,null,null,0,0,0,0,0,0,0,0,0,0]
[null,null,null,null,null,null,null,null,null,null,null,null,null,null,null,null,null,null,null,null,null,null,null,null,null,null,null,null,null,null,null,null,null,null,null,null,null,null,null,null,null,null,null,null,null,null,null,null,null,null,null,null,null,null,null,null,null,null,null,null,null,null,null,null,null,0,0,0,0,0,0,0,0,0,0]
[null,null,null,null,null,null,null,null,null,null,null,null,null,null,null,null,null,null,null,null,null,null,null,null,null,null,null,null,null,null,null,null,null,null,null,null,null,null,null,null,null,null,null,null,null,null,null,null,null,null,null,null,null,null,null,null,null,null,null,null,null,null,null,null,null,0,0,0,0,0,0,0,0,0,0]
[null,null,null,null,null,null,null,null,null,null,null,null,null,null,null,null,null,null,null,null,null,null,null,null,null,null,null,null,null,null,null,null,null,null,null,null,null,null,null,null,null,null,null,null,null,null,null,null,null,null,null,null,null,null,null,null,null,null,null,null,null,null,null,null,null,0,0,0,0,0,0,0,0,0,0]
[null,null,null,null,null,null,null,null,null,null,null,null,null,null,null,null,null,null,null,null,null,null,null,null,null,null,null,null,null,null,null,null,null,null,null,null,null,null,null,null,null,null,null,null,null,null,null,null,null,null,null,null,null,null,null,null,null,null,null,null,null,null,null,null,null,0,0,0,0,0,0,0,0,0,0]
[null,null,null,null,null,null,null,null,null,null,null,null,null,null,null,null,null,null,null,null,null,null,null,null,null,null,null,null,null,null,null,null,null,null,null,null,null,null,null,null,null,null,null,null,null,null,null,null,null,null,null,null,null,null,null,null,null,null,null,null,null,null,null,null,null,0,0,0,0,0,0,0,0,0,0]
[null,null,null,null,null,null,null,null,null,null,null,null,null,null,null,null,null,null,null,null,null,null,null,null,null,null,null,null,null,null,null,null,null,null,null,null,null,null,null,null,null,null,null,null,null,null,null,null,null,null,null,null,null,null,null,null,null,null,null,null,null,null,null,null,null,0,0,0,0,0,0,0,0,0,0]
[null,null,null,null,null,null,null,null,null,null,null,null,null,null,null,null,null,null,null,null,null,null,null,null,null,null,null,null,null,null,null,null,null,null,null,null,null,null,null,null,null,null,null,null,null,null,null,null,null,null,null,null,null,null,null,null,null,null,null,null,null,null,null,null,null,0,0,0,0,0,0,0,0,0,0]
[null,null,null,null,null,null,null,null,null,null,null,null,null,null,null,null,null,null,null,null,null,null,null,null,null,null,null,null,null,null,null,null,null,null,null,null,null,null,null,null,null,null,null,null,null,null,null,null,null,null,null,null,null,null,null,null,null,null,null,null,null,null,null,null,null,0,0,0,0,0,0,0,0,0,0]
[null,null,null,null,null,null,null,null,null,null,null,null,null,null,null,null,null,null,null,null,null,null,null,null,null,null,null,null,null,null,null,null,null,null,null,null,null,null,null,null,null,null,null,null,null,null,null,null,null,null,null,null,null,null,null,null,null,null,null,null,null,null,null,null,null,0,0,0,0,0,0,0,0,0,0]
[null,null,null,null,null,null,null,null,null,null,null,null,null,null,null,null,null,null,null,null,null,null,null,null,null,null,null,null,null,null,null,null,null,null,null,null,null,null,null,null,null,null,null,null,null,null,null,null,null,null,null,null,null,null,null,null,null,null,null,null,null,null,null,null,null,0,0,0,0,0,0,0,0,0,0]
[null,null,null,null,null,null,null,null,null,null,null,null,null,null,null,null,null,null,null,null,null,null,null,null,null,null,null,null,null,null,null,null,null,null,null,null,null,null,null,null,null,null,null,null,null,null,null,null,null,null,null,null,null,null,null,null,null,null,null,null,null,null,null,null,null,0,0,0,0,0,0,0,0,0,0]
[null,null,null,null,null,null,null,null,null,null,null,null,null,null,null,null,null,null,null,null,null,null,null,null,null,null,null,null,null,null,null,null,null,null,null,null,null,null,null,null,null,null,null,null,null,null,null,null,null,null,null,null,null,null,null,null,null,null,null,null,null,null,null,null,null,0,0,0,0,0,0,0,0,0,0]
[null,null,null,null,null,null,null,null,null,null,null,null,null,null,null,null,null,null,null,null,null,null,null,null,null,null,null,null,null,null,null,null,null,null,null,null,null,null,null,null,null,null,null,null,null,null,null,null,null,null,null,null,null,null,null,null,null,null,null,null,null,null,null,null,null,0,0,0,0,0,0,0,0,0,0]
[null,null,null,null,null,null,null,null,null,null,null,null,null,null,null,null,null,null,null,null,null,null,null,null,null,null,null,null,null,null,null,null,null,null,null,null,null,null,null,null,null,null,null,null,null,null,null,null,null,null,null,null,null,null,null,null,null,null,null,null,null,null,null,null,null,0,0,0,0,0,0,0,0,0,0]
[null,null,null,null,null,null,null,null,null,null,null,null,null,null,null,null,null,null,null,null,null,null,null,null,null,null,null,null,null,null,null,null,null,null,null,null,null,null,null,null,null,null,null,null,null,null,null,null,null,null,null,null,null,null,null,null,null,null,null,null,null,null,null,null,null,0,0,0,0,0,0,0,0,0,0]
[null,null,null,null,null,null,null,null,null,null,null,null,null,null,null,null,null,null,null,null,null,null,null,null,null,null,null,null,null,null,null,null,null,null,null,null,null,null,null,null,null,null,null,null,null,null,null,null,null,null,null,null,null,null,null,null,null,null,null,null,null,null,null,null,null,0,0,0,0,0,0,0,0,0,0]
[null,null,null,null,null,null,null,null,null,null,null,null,null,null,null,null,null,null,null,null,null,null,null,null,null,null,null,null,null,null,null,null,null,null,null,null,null,null,null,null,null,null,null,null,null,null,null,null,null,null,null,null,null,null,null,null,null,null,null,null,null,null,null,null,null,0,0,0,0,0,0,0,0,0,0]
[null,null,null,null,null,null,null,null,null,null,null,null,null,null,null,null,null,null,null,null,null,null,null,null,null,null,null,null,null,null,null,null,null,null,null,null,null,null,null,null,null,null,null,null,null,null,null,null,null,null,null,null,null,null,null,null,null,null,null,null,null,null,null,null,null,0,0,0,0,0,0,0,0,0,0]
[null,null,null,null,null,null,null,null,null,null,null,null,null,null,null,null,null,null,null,null,null,null,null,null,null,null,null,null,null,null,null,null,null,null,null,null,null,null,null,null,null,null,null,null,null,null,null,null,null,null,null,null,null,null,null,null,null,null,null,null,null,null,null,null,null,0,0,0,0,0,0,0,0,0,0]
[null,null,null,null,null,null,null,null,null,null,null,null,null,null,null,null,null,null,null,null,null,null,null,null,null,null,null,null,null,null,null,null,null,null,null,null,null,null,null,null,null,null,null,null,null,null,null,null,null,null,null,null,null,null,null,null,null,null,null,null,null,null,null,null,null,0,0,0,0,0,0,0,0,0,0]
[null,null,null,null,null,null,null,null,null,null,null,null,null,null,null,null,null,null,null,null,null,null,null,null,null,null,null,null,null,null,null,null,null,null,null,null,null,null,null,null,null,null,null,null,null,null,null,null,null,null,null,null,null,null,null,null,null,null,null,null,null,null,null,null,null,0,0,0,0,0,0,0,0,0,0]
[null,null,null,null,null,null,null,null,null,null,null,null,null,null,null,null,null,null,null,null,null,null,null,null,null,null,null,null,null,null,null,null,null,null,null,null,null,null,null,null,null,null,null,null,null,null,null,null,null,null,null,null,null,null,null,null,null,null,null,null,null,null,null,null,null,0,0,0,0,0,0,0,0,0,0]
[null,null,null,null,null,null,null,null,null,null,null,null,null,null,null,null,null,null,null,null,null,null,null,null,null,null,null,null,null,null,null,null,null,null,null,null,null,null,null,null,null,null,null,null,null,null,null,null,null,null,null,null,null,null,null,null,null,null,null,null,null,null,null,null,null,0,0,0,0,0,0,0,0,0,0]
[null,null,null,null,null,null,null,null,null,null,null,null,null,null,null,null,null,null,null,null,null,null,null,null,null,null,null,null,null,null,null,null,null,null,null,null,null,null,null,null,null,null,null,null,null,null,null,null,null,null,null,null,null,null,null,null,null,null,null,null,null,null,null,null,null,0,0,0,0,0,0,0,0,0,0]
[null,null,null,null,null,null,null,null,null,null,null,null,null,null,null,null,null,null,null,null,null,null,null,null,null,null,null,null,null,null,null,null,null,null,null,null,null,null,null,null,null,null,null,null,null,null,null,null,null,null,null,null,null,null,null,null,null,null,null,null,null,null,null,null,null,0,0,0,0,0,0,0,0,0,0]
[null,null,null,null,null,null,null,null,null,null,null,null,null,null,null,null,null,null,null,null,null,null,null,null,null,null,null,null,null,null,null,null,null,null,null,null,null,null,null,null,null,null,null,null,null,null,null,null,null,null,null,null,null,null,null,null,null,null,null,null,null,null,null,null,null,0,0,0,0,0,0,0,0,0,0]
[null,null,null,null,null,null,null,null,null,null,null,null,null,null,null,null,null,null,null,null,null,null,null,null,null,null,null,null,null,null,null,null,null,null,null,null,null,null,null,null,null,null,null,null,null,null,null,null,null,null,null,null,null,null,null,null,null,null,null,null,null,null,null,null,null,0,0,0,0,0,0,0,0,0,0]
[null,null,null,null,null,null,null,null,null,null,null,null,null,null,null,null,null,null,null,null,null,null,null,null,null,null,null,null,null,null,null,null,null,null,null,null,null,null,null,null,null,null,null,null,null,null,null,null,null,null,null,null,null,null,null,null,null,null,null,null,null,null,null,null,null,0,0,0,0,0,0,0,0,0,0]
[null,null,null,null,null,null,null,null,null,null,null,null,null,null,null,null,null,null,null,null,null,null,null,null,null,null,null,null,null,null,null,null,null,null,null,null,null,null,null,null,null,null,null,null,null,null,null,null,null,null,null,null,null,null,null,null,null,null,null,null,null,null,null,null,null,0,0,0,0,0,0,0,0,0,0]
[null,null,null,null,null,null,null,null,null,null,null,null,null,null,null,null,null,null,null,null,null,null,null,null,null,null,null,null,null,null,null,null,null,null,null,null,null,null,null,null,null,null,null,null,null,null,null,null,null,null,null,null,null,null,null,null,null,null,null,null,null,null,null,null,null,0,0,0,0,0,0,0,0,0,0]
[null,null,null,null,null,null,null,null,null,null,null,null,null,null,null,null,null,null,null,null,null,null,null,null,null,null,null,null,null,null,null,null,null,null,null,null,null,null,null,null,null,null,null,null,null,null,null,null,null,null,null,null,null,null,null,null,null,null,null,null,null,null,null,null,null,0,0,0,0,0,0,0,0,0,0]
[null,null,null,null,null,null,null,null,null,null,null,null,null,null,null,null,null,null,null,null,null,null,null,null,null,null,null,null,null,null,null,null,null,null,null,null,null,null,null,null,null,null,null,null,null,null,null,null,null,null,null,null,null,null,null,null,null,null,null,null,null,null,null,null,null,0,0,0,0,0,0,0,0,0,0]
[null,null,null,null,null,null,null,null,null,null,null,null,null,null,null,null,null,null,null,null,null,null,null,null,null,null,null,null,null,null,null,null,null,null,null,null,null,null,null,null,null,null,null,null,null,null,null,null,null,null,null,null,null,null,null,null,null,null,null,null,null,null,null,null,null,0,0,0,0,0,0,0,0,0,0]
[null,null,null,null,null,null,null,null,null,null,null,null,null,null,null,null,null,null,null,null,null,null,null,null,null,null,null,null,null,null,null,null,null,null,null,null,null,null,null,null,null,null,null,null,null,null,null,null,null,null,null,null,null,null,null,null,null,null,null,null,null,null,null,null,null,0,0,0,0,0,0,0,0,0,0]
[null,null,null,null,null,null,null,null,null,null,null,null,null,null,null,null,null,null,null,null,null,null,null,null,null,null,null,null,null,null,null,null,null,null,null,null,null,null,null,null,null,null,null,null,null,null,null,null,null,null,null,null,null,null,null,null,null,null,null,null,null,null,null,null,null,0,0,0,0,0,0,0,0,0,0]
[null,null,null,null,null,null,null,null,null,null,null,null,null,null,null,null,null,null,null,null,null,null,null,null,null,null,null,null,null,null,null,null,null,null,null,null,null,null,null,null,null,null,null,null,null,null,null,null,null,null,null,null,null,null,null,null,null,null,null,null,null,null,null,null,null,0,0,0,0,0,0,0,0,0,0]
[null,null,null,null,null,null,null,null,null,null,null,null,null,null,null,null,null,null,null,null,null,null,null,null,null,null,null,null,null,null,null,null,null,null,null,null,null,null,null,null,null,null,null,null,null,null,null,null,null,null,null,null,null,null,null,null,null,null,null,null,null,null,null,null,null,0,0,0,0,0,0,0,0,0,0]
[null,null,null,null,null,null,null,null,null,null,null,null,null,null,null,null,null,null,null,null,null,null,null,null,null,null,null,null,null,null,null,null,null,null,null,null,null,null,null,null,null,null,null,null,null,null,null,null,null,null,null,null,null,null,null,null,null,null,null,null,null,null,null,null,null,0,0,0,0,0,0,0,0,0,0]
[null,null,null,null,null,null,null,null,null,null,null,null,null,null,null,null,null,null,null,null,null,null,null,null,null,null,null,null,null,null,null,null,null,null,null,null,null,null,null,null,null,null,null,null,null,null,null,null,null,null,null,null,null,null,null,null,null,null,null,null,null,null,null,null,null,0,0,0,0,0,0,0,0,0,0]
[null,null,null,null,null,null,null,null,null,null,null,null,null,null,null,null,null,null,null,null,null,null,null,null,null,null,null,null,null,null,null,null,null,null,null,null,null,null,null,null,null,null,null,null,null,null,null,null,null,null,null,null,null,null,null,null,null,null,null,null,null,null,null,null,null,0,0,0,0,0,0,0,0,0,0]
[null,null,null,null,null,null,null,null,null,null,null,null,null,null,null,null,null,null,null,null,null,null,null,null,null,null,null,null,null,null,null,null,null,null,null,null,null,null,null,null,null,null,null,null,null,null,null,null,null,null,null,null,null,null,null,null,null,null,null,null,null,null,null,null,null,0,0,0,0,0,0,0,0,0,0]
[null,null,null,null,null,null,null,null,null,null,null,null,null,null,null,null,null,null,null,null,null,null,null,null,null,null,null,null,null,null,null,null,null,null,null,null,null,null,null,null,null,null,null,null,null,null,null,null,null,null,null,null,null,null,null,null,null,null,null,null,null,null,null,null,null,0,0,0,0,0,0,0,0,0,0]
[null,null,null,null,null,null,null,null,null,null,null,null,null,null,null,null,null,null,null,null,null,null,null,null,null,null,null,null,null,null,null,null,null,null,null,null,null,null,null,null,null,null,null,null,null,null,null,null,null,null,null,null,null,null,null,null,null,null,null,null,null,null,null,null,null,0,0,0,0,0,0,0,0,0,0]
[null,null,null,null,null,null,null,null,null,null,null,null,null,null,null,null,null,null,null,null,null,null,null,null,null,null,null,null,null,null,null,null,null,null,null,null,null,null,null,null,null,null,null,null,null,null,null,null,null,null,null,null,null,null,null,null,null,null,null,null,null,null,null,null,null,0,0,0,0,0,0,0,0,0,0]
[null,null,null,null,null,null,null,null,null,null,null,null,null,null,null,null,null,null,null,null,null,null,null,null,null,null,null,null,null,null,null,null,null,null,null,null,null,null,null,null,null,null,null,null,null,null,null,null,null,null,null,null,null,null,null,null,null,null,null,null,null,null,null,null,null,0,0,0,0,0,0,0,0,0,0]
[null,null,null,null,null,null,null,null,null,null,null,null,null,null,null,null,null,null,null,null,null,null,null,null,null,null,null,null,null,null,null,null,null,null,null,null,null,null,null,null,null,null,null,null,null,null,null,null,null,null,null,null,null,null,null,null,null,null,null,null,null,null,null,null,null,0,0,0,0,0,0,0,0,0,0]
[null,null,null,null,null,null,null,null,null,null,null,null,null,null,null,null,null,null,null,null,null,null,null,null,null,null,null,null,null,null,null,null,null,null,null,null,null,null,null,null,null,null,null,null,null,null,null,null,null,null,null,null,null,null,null,null,null,null,null,null,null,null,null,null,null,0,0,0,0,0,0,0,0,0,0]
[null,null,null,null,null,null,null,null,null,null,null,null,null,null,null,null,null,null,null,null,null,null,null,null,null,null,null,null,null,null,null,null,null,null,null,null,null,null,null,null,null,null,null,null,null,null,null,null,null,null,null,null,null,null,null,null,null,null,null,null,null,null,null,null,null,0,0,0,0,0,0,0,0,0,0]
[null,null,null,null,null,null,null,null,null,null,null,null,null,null,null,null,null,null,null,null,null,null,null,null,null,null,null,null,null,null,null,null,null,null,null,null,null,null,null,null,null,null,null,null,null,null,null,null,null,null,null,null,null,null,null,null,null,null,null,null,null,null,null,null,null,0,0,0,0,0,0,0,0,0,0]
[null,null,null,null,null,null,null,null,null,null,null,null,null,null,null,null,null,null,null,null,null,null,null,null,null,null,null,null,null,null,null,null,null,null,null,null,null,null,null,null,null,null,null,null,null,null,null,null,null,null,null,null,null,null,null,null,null,null,null,null,null,null,null,null,null,0,0,0,0,0,0,0,0,0,0]
[null,null,null,null,null,null,null,null,null,null,null,null,null,null,null,null,null,null,null,null,null,null,null,null,null,null,null,null,null,null,null,null,null,null,null,null,null,null,null,null,null,null,null,null,null,null,null,null,null,null,null,null,null,null,null,null,null,null,null,null,null,null,null,null,null,0,0,0,0,0,0,0,0,0,0]
[null,null,null,null,null,null,null,null,null,null,null,null,null,null,null,null,null,null,null,null,null,null,null,null,null,null,null,null,null,null,null,null,null,null,null,null,null,null,null,null,null,null,null,null,null,null,null,null,null,null,null,null,null,null,null,null,null,null,null,null,null,null,null,null,null,0,0,0,0,0,0,0,0,0,0]
[null,null,null,null,null,null,null,null,null,null,null,null,null,null,null,null,null,null,null,null,null,null,null,null,null,null,null,null,null,null,null,null,null,null,null,null,null,null,null,null,null,null,null,null,null,null,null,null,null,null,null,null,null,null,null,null,null,null,null,null,null,null,null,null,null,0,0,0,0,0,0,0,0,0,0]
[null,null,null,null,null,null,null,null,null,null,null,null,null,null,null,null,null,null,null,null,null,null,null,null,null,null,null,null,null,null,null,null,null,null,null,null,null,null,null,null,null,null,null,null,null,null,null,null,null,null,null,null,null,null,null,null,null,null,null,null,null,null,null,null,null,0,0,0,0,0,0,0,0,0,0]
[null,null,null,null,null,null,null,null,null,null,null,null,null,null,null,null,null,null,null,null,null,null,null,null,null,null,null,null,null,null,null,null,null,null,null,null,null,null,null,null,null,null,null,null,null,null,null,null,null,null,null,null,null,null,null,null,null,null,null,null,null,null,null,null,null,0,0,0,0,0,0,0,0,0,0]
[null,null,null,null,null,null,null,null,null,null,null,null,null,null,null,null,null,null,null,null,null,null,null,null,null,null,null,null,null,null,null,null,null,null,null,null,null,null,null,null,null,null,null,null,null,null,null,null,null,null,null,null,null,null,null,null,null,null,null,null,null,null,null,null,null,0,0,0,0,0,0,0,0,0,0]
[null,null,null,null,null,null,null,null,null,null,null,null,null,null,null,null,null,null,null,null,null,null,null,null,null,null,null,null,null,null,null,null,null,null,null,null,null,null,null,null,null,null,null,null,null,null,null,null,null,null,null,null,null,null,null,null,null,null,null,null,null,null,null,null,null,0,0,0,0,0,0,0,0,0,0]
[null,null,null,null,null,null,null,null,null,null,null,null,null,null,null,null,null,null,null,null,null,null,null,null,null,null,null,null,null,null,null,null,null,null,null,null,null,null,null,null,null,null,null,null,null,null,null,null,null,null,null,null,null,null,null,null,null,null,null,null,null,null,null,null,null,0,0,0,0,0,0,0,0,0,0]
[null,null,null,null,null,null,null,null,null,null,null,null,null,null,null,null,null,null,null,null,null,null,null,null,null,null,null,null,null,null,null,null,null,null,null,null,null,null,null,null,null,null,null,null,null,null,null,null,null,null,null,null,null,null,null,null,null,null,null,null,null,null,null,null,null,0,0,0,0,0,0,0,0,0,0]
[null,null,null,null,null,null,null,null,null,null,null,null,null,null,null,null,null,null,null,null,null,null,null,null,null,null,null,null,null,null,null,null,null,null,null,null,null,null,null,null,null,null,null,null,null,null,null,null,null,null,null,null,null,null,null,null,null,null,null,null,null,null,null,null,null,0,0,0,0,0,0,0,0,0,0]
[null,null,null,null,null,null,null,null,null,null,null,null,null,null,null,null,null,null,null,null,null,null,null,null,null,null,null,null,null,null,null,null,null,null,null,null,null,null,null,null,null,null,null,null,null,null,null,null,null,null,null,null,null,null,null,null,null,null,null,null,null,null,null,null,null,0,0,0,0,0,0,0,0,0,0]
[null,null,null,null,null,null,null,null,null,null,null,null,null,null,null,null,null,null,null,null,null,null,null,null,null,null,null,null,null,null,null,null,null,null,null,null,null,null,null,null,null,null,null,null,null,null,null,null,null,null,null,null,null,null,null,null,null,null,null,null,null,null,null,null,null,0,0,0,0,0,0,0,0,0,0]
[null,null,null,null,null,null,null,null,null,null,null,null,null,null,null,null,null,null,null,null,null,null,null,null,null,null,null,null,null,null,null,null,null,null,null,null,null,null,null,null,null,null,null,null,null,null,null,null,null,null,null,null,null,null,null,null,null,null,null,null,null,null,null,null,null,0,0,0,0,0,0,0,0,0,0]
[null,null,null,null,null,null,null,null,null,null,null,null,null,null,null,null,null,null,null,null,null,null,null,null,null,null,null,null,null,null,null,null,null,null,null,null,null,null,null,null,null,null,null,null,null,null,null,null,null,null,null,null,null,null,null,null,null,null,null,null,null,null,null,null,null,0,0,0,0,0,0,0,0,0,0]
[null,null,null,null,null,null,null,null,null,null,null,null,null,null,null,null,null,null,null,null,null,null,null,null,null,null,null,null,null,null,null,null,null,null,null,null,null,null,null,null,null,null,null,null,null,null,null,null,null,null,null,null,null,null,null,null,null,null,null,null,null,null,null,null,null,0,0,0,0,0,0,0,0,0,0]
[null,null,null,null,null,null,null,null,null,null,null,null,null,null,null,null,null,null,null,null,null,null,null,null,null,null,null,null,null,null,null,null,null,null,null,null,null,null,null,null,null,null,null,null,null,null,null,null,null,null,null,null,null,null,null,null,null,null,null,null,null,null,null,null,null,0,0,0,0,0,0,0,0,0,0]
[null,null,null,null,null,null,null,null,null,null,null,null,null,null,null,null,null,null,null,null,null,null,null,null,null,null,null,null,null,null,null,null,null,null,null,null,null,null,null,null,null,null,null,null,null,null,null,null,null,null,null,null,null,null,null,null,null,null,null,null,null,null,null,null,null,0,0,0,0,0,0,0,0,0,0]
[null,null,null,null,null,null,null,null,null,null,null,null,null,null,null,null,null,null,null,null,null,null,null,null,null,null,null,null,null,null,null,null,null,null,null,null,null,null,null,null,null,null,null,null,null,null,null,null,null,null,null,null,null,null,null,null,null,null,null,null,null,null,null,null,null,0,0,0,0,0,0,0,0,0,0]
[null,null,null,null,null,null,null,null,null,null,null,null,null,null,null,null,null,null,null,null,null,null,null,null,null,null,null,null,null,null,null,null,null,null,null,null,null,null,null,null,null,null,null,null,null,null,null,null,null,null,null,null,null,null,null,null,null,null,null,null,null,null,null,null,null,0,0,0,0,0,0,0,0,0,0]
[null,null,null,null,null,null,null,null,null,null,null,null,null,null,null,null,null,null,null,null,null,null,null,null,null,null,null,null,null,null,null,null,null,null,null,null,null,null,null,null,null,null,null,null,null,null,null,null,null,null,null,null,null,null,null,null,null,null,null,null,null,null,null,null,null,0,0,0,0,0,0,0,0,0,0]
[null,null,null,null,null,null,null,null,null,null,null,null,null,null,null,null,null,null,null,null,null,null,null,null,null,null,null,null,null,null,null,null,null,null,null,null,null,null,null,null,null,null,null,null,null,null,null,null,null,null,null,null,null,null,null,null,null,null,null,null,null,null,null,null,null,0,0,0,0,0,0,0,0,0,0]
[null,null,null,null,null,null,null,null,null,null,null,null,null,null,null,null,null,null,null,null,null,null,null,null,null,null,null,null,null,null,null,null,null,null,null,null,null,null,null,null,null,null,null,null,null,null,null,null,null,null,null,null,null,null,null,null,null,null,null,null,null,null,null,null,null,0,0,0,0,0,0,0,0,0,0]
[null,null,null,null,null,null,null,null,null,null,null,null,null,null,null,null,null,null,null,null,null,null,null,null,null,null,null,null,null,null,null,null,null,null,null,null,null,null,null,null,null,null,null,null,null,null,null,null,null,null,null,null,null,null,null,null,null,null,null,null,null,null,null,null,null,0,0,0,0,0,0,0,0,0,0]
[null,null,null,null,null,null,null,null,null,null,null,null,null,null,null,null,null,null,null,null,null,null,null,null,null,null,null,null,null,null,null,null,null,null,null,null,null,null,null,null,null,null,null,null,null,null,null,null,null,null,null,null,null,null,null,null,null,null,null,null,null,null,null,null,null,0,0,0,0,0,0,0,0,0,0]
[null,null,null,null,null,null,null,null,null,null,null,null,null,null,null,null,null,null,null,null,null,null,null,null,null,null,null,null,null,null,null,null,null,null,null,null,null,null,null,null,null,null,null,null,null,null,null,null,null,null,null,null,null,null,null,null,null,null,null,null,null,null,null,null,null,0,0,0,0,0,0,0,0,0,0]
[null,null,null,null,null,null,null,null,null,null,null,null,null,null,null,null,null,null,null,null,null,null,null,null,null,null,null,null,null,null,null,null,null,null,null,null,null,null,null,null,null,null,null,null,null,null,null,null,null,null,null,null,null,null,null,null,null,null,null,null,null,null,null,null,null,0,0,0,0,0,0,0,0,0,0]
[null,null,null,null,null,null,null,null,null,null,null,null,null,null,null,null,null,null,null,null,null,null,null,null,null,null,null,null,null,null,null,null,null,null,null,null,null,null,null,null,null,null,null,null,null,null,null,null,null,null,null,null,null,null,null,null,null,null,null,null,null,null,null,null,null,0,0,0,0,0,0,0,0,0,0]
[null,null,null,null,null,null,null,null,null,null,null,null,null,null,null,null,null,null,null,null,null,null,null,null,null,null,null,null,null,null,null,null,null,null,null,null,null,null,null,null,null,null,null,null,null,null,null,null,null,null,null,null,null,null,null,null,null,null,null,null,null,null,null,null,null,0,0,0,0,0,0,0,0,0,0]
[null,null,null,null,null,null,null,null,null,null,null,null,null,null,null,null,null,null,null,null,null,null,null,null,null,null,null,null,null,null,null,null,null,null,null,null,null,null,null,null,null,null,null,null,null,null,null,null,null,null,null,null,null,null,null,null,null,null,null,null,null,null,null,null,null,0,0,0,0,0,0,0,0,0,0]
[null,null,null,null,null,null,null,null,null,null,null,null,null,null,null,null,null,null,null,null,null,null,null,null,null,null,null,null,null,null,null,null,null,null,null,null,null,null,null,null,null,null,null,null,null,null,null,null,null,null,null,null,null,null,null,null,null,null,null,null,null,null,null,null,null,0,0,0,0,0,0,0,0,0,0]
[null,null,null,null,null,null,null,null,null,null,null,null,null,null,null,null,null,null,null,null,null,null,null,null,null,null,null,null,null,null,null,null,null,null,null,null,null,null,null,null,null,null,null,null,null,null,null,null,null,null,null,null,null,null,null,null,null,null,null,null,null,null,null,null,null,0,0,0,0,0,0,0,0,0,0]
[null,null,null,null,null,null,null,null,null,null,null,null,null,null,null,null,null,null,null,null,null,null,null,null,null,null,null,null,null,null,null,null,null,null,null,null,null,null,null,null,null,null,null,null,null,null,null,null,null,null,null,null,null,null,null,null,null,null,null,null,null,null,null,null,null,0,0,0,0,0,0,0,0,0,0]
[null,null,null,null,null,null,null,null,null,null,null,null,null,null,null,null,null,null,null,null,null,null,null,null,null,null,null,null,null,null,null,null,null,null,null,null,null,null,null,null,null,null,null,null,null,null,null,null,null,null,null,null,null,null,null,null,null,null,null,null,null,null,null,null,null,0,0,0,0,0,0,0,0,0,0]
[null,null,null,null,null,null,null,null,null,null,null,null,null,null,null,null,null,null,null,null,null,null,null,null,null,null,null,null,null,null,null,null,null,null,null,null,null,null,null,null,null,null,null,null,null,null,null,null,null,null,null,null,null,null,null,null,null,null,null,null,null,null,null,null,null,0,0,0,0,0,0,0,0,0,0]
[null,null,null,null,null,null,null,null,null,null,null,null,null,null,null,null,null,null,null,null,null,null,null,null,null,null,null,null,null,null,null,null,null,null,null,null,null,null,null,null,null,null,null,null,null,null,null,null,null,null,null,null,null,null,null,null,null,null,null,null,null,null,null,null,null,0,0,0,0,0,0,0,0,0,0]
[null,null,null,null,null,null,null,null,null,null,null,null,null,null,null,null,null,null,null,null,null,null,null,null,null,null,null,null,null,null,null,null,null,null,null,null,null,null,null,null,null,null,null,null,null,null,null,null,null,null,null,null,null,null,null,null,null,null,null,null,null,null,null,null,null,0,0,0,0,0,0,0,0,0,0]
[null,null,null,null,null,null,null,null,null,null,null,null,null,null,null,null,null,null,null,null,null,null,null,null,null,null,null,null,null,null,null,null,null,null,null,null,null,null,null,null,null,null,null,null,null,null,null,null,null,null,null,null,null,null,null,null,null,null,null,null,null,null,null,null,null,0,0,0,0,0,0,0,0,0,0]
[null,null,null,null,null,null,null,null,null,null,null,null,null,null,null,null,null,null,null,null,null,null,null,null,null,null,null,null,null,null,null,null,null,null,null,null,null,null,null,null,null,null,null,null,null,null,null,null,null,null,null,null,null,null,null,null,null,null,null,null,null,null,null,null,null,0,0,0,0,0,0,0,0,0,0]
[null,null,null,null,null,null,null,null,null,null,null,null,null,null,null,null,null,null,null,null,null,null,null,null,null,null,null,null,null,null,null,null,null,null,null,null,null,null,null,null,null,null,null,null,null,null,null,null,null,null,null,null,null,null,null,null,null,null,null,null,null,null,null,null,null,0,0,0,0,0,0,0,0,0,0]
[null,null,null,null,null,null,null,null,null,null,null,null,null,null,null,null,null,null,null,null,null,null,null,null,null,null,null,null,null,null,null,null,null,null,null,null,null,null,null,null,null,null,null,null,null,null,null,null,null,null,null,null,null,null,null,null,null,null,null,null,null,null,null,null,null,0,0,0,0,0,0,0,0,0,0]
[null,null,null,null,null,null,null,null,null,null,null,null,null,null,null,null,null,null,null,null,null,null,null,null,null,null,null,null,null,null,null,null,null,null,null,null,null,null,null,null,null,null,null,null,null,null,null,null,null,null,null,null,null,null,null,null,null,null,null,null,null,null,null,null,null,0,0,0,0,0,0,0,0,0,0]
[null,null,null,null,null,null,null,null,null,null,null,null,null,null,null,null,null,null,null,null,null,null,null,null,null,null,null,null,null,null,null,null,null,null,null,null,null,null,null,null,null,null,null,null,null,null,null,null,null,null,null,null,null,null,null,null,null,null,null,null,null,null,null,null,null,0,0,0,0,0,0,0,0,0,0]
[null,null,null,null,null,null,null,null,null,null,null,null,null,null,null,null,null,null,null,null,null,null,null,null,null,null,null,null,null,null,null,null,null,null,null,null,null,null,null,null,null,null,null,null,null,null,null,null,null,null,null,null,null,null,null,null,null,null,null,null,null,null,null,null,null,0,0,0,0,0,0,0,0,0,0]
[null,null,null,null,null,null,null,null,null,null,null,null,null,null,null,null,null,null,null,null,null,null,null,null,null,null,null,null,null,null,null,null,null,null,null,null,null,null,null,null,null,null,null,null,null,null,null,null,null,null,null,null,null,null,null,null,null,null,null,null,null,null,null,null,null,0,0,0,0,0,0,0,0,0,0]
[null,null,null,null,null,null,null,null,null,null,null,null,null,null,null,null,null,null,null,null,null,null,null,null,null,null,null,null,null,null,null,null,null,null,null,null,null,null,null,null,null,null,null,null,null,null,null,null,null,null,null,null,null,null,null,null,null,null,null,null,null,null,null,null,null,0,0,0,0,0,0,0,0,0,0]
[null,null,null,null,null,null,null,null,null,null,null,null,null,null,null,null,null,null,null,null,null,null,null,null,null,null,null,null,null,null,null,null,null,null,null,null,null,null,null,null,null,null,null,null,null,null,null,null,null,null,null,null,null,null,null,null,null,null,null,null,null,null,null,null,null,0,0,0,0,0,0,0,0,0,0]
[null,null,null,null,null,null,null,null,null,null,null,null,null,null,null,null,null,null,null,null,null,null,null,null,null,null,null,null,null,null,null,null,null,null,null,null,null,null,null,null,null,null,null,null,null,null,null,null,null,null,null,null,null,null,null,null,null,null,null,null,null,null,null,null,null,0,0,0,0,0,0,0,0,0,0]
[null,null,null,null,null,null,null,null,null,null,null,null,null,null,null,null,null,null,null,null,null,null,null,null,null,null,null,null,null,null,null,null,null,null,null,null,null,null,null,null,null,null,null,null,null,null,null,null,null,null,null,null,null,null,null,null,null,null,null,null,null,null,null,null,null,0,0,0,0,0,0,0,0,0,0]
[null,null,null,null,null,null,null,null,null,null,null,null,null,null,null,null,null,null,null,null,null,null,null,null,null,null,null,null,null,null,null,null,null,null,null,null,null,null,null,null,null,null,null,null,null,null,null,null,null,null,null,null,null,null,null,null,null,null,null,null,null,null,null,null,null,0,0,0,0,0,0,0,0,0,0]
[null,null,null,null,null,null,null,null,null,null,null,null,null,null,null,null,null,null,null,null,null,null,null,null,null,null,null,null,null,null,null,null,null,null,null,null,null,null,null,null,null,null,null,null,null,null,null,null,null,null,null,null,null,null,null,null,null,null,null,null,null,null,null,null,null,0,0,0,0,0,0,0,0,0,0]
[null,null,null,null,null,null,null,null,null,null,null,null,null,null,null,null,null,null,null,null,null,null,null,null,null,null,null,null,null,null,null,null,null,null,null,null,null,null,null,null,null,null,null,null,null,null,null,null,null,null,null,null,null,null,null,null,null,null,null,null,null,null,null,null,null,0,0,0,0,0,0,0,0,0,0]
[null,null,null,null,null,null,null,null,null,null,null,null,null,null,null,null,null,null,null,null,null,null,null,null,null,null,null,null,null,null,null,null,null,null,null,null,null,null,null,null,null,null,null,null,null,null,null,null,null,null,null,null,null,null,null,null,null,null,null,null,null,null,null,null,null,0,0,0,0,0,0,0,0,0,0]
[null,null,null,null,null,null,null,null,null,null,null,null,null,null,null,null,null,null,null,null,null,null,null,null,null,null,null,null,null,null,null,null,null,null,null,null,null,null,null,null,null,null,null,null,null,null,null,null,null,null,null,null,null,null,null,null,null,null,null,null,null,null,null,null,null,0,0,0,0,0,0,0,0,0,0]
[null,null,null,null,null,null,null,null,null,null,null,null,null,null,null,null,null,null,null,null,null,null,null,null,null,null,null,null,null,null,null,null,null,null,null,null,null,null,null,null,null,null,null,null,null,null,null,null,null,null,null,null,null,null,null,null,null,null,null,null,null,null,null,null,null,0,0,0,0,0,0,0,0,0,0]
[null,null,null,null,null,null,null,null,null,null,null,null,null,null,null,null,null,null,null,null,null,null,null,null,null,null,null,null,null,null,null,null,null,null,null,null,null,null,null,null,null,null,null,null,null,null,null,null,null,null,null,null,null,null,null,null,null,null,null,null,null,null,null,null,null,0,0,0,0,0,0,0,0,0,0]
[null,null,null,null,null,null,null,null,null,null,null,null,null,null,null,null,null,null,null,null,null,null,null,null,null,null,null,null,null,null,null,null,null,null,null,null,null,null,null,null,null,null,null,null,null,null,null,null,null,null,null,null,null,null,null,null,null,null,null,null,null,null,null,null,null,0,0,0,0,0,0,0,0,0,0]
[null,null,null,null,null,null,null,null,null,null,null,null,null,null,null,null,null,null,null,null,null,null,null,null,null,null,null,null,null,null,null,null,null,null,null,null,null,null,null,null,null,null,null,null,null,null,null,null,null,null,null,null,null,null,null,null,null,null,null,null,null,null,null,null,null,0,0,0,0,0,0,0,0,0,0]
[null,null,null,null,null,null,null,null,null,null,null,null,null,null,null,null,null,null,null,null,null,null,null,null,null,null,null,null,null,null,null,null,null,null,null,null,null,null,null,null,null,null,null,null,null,null,null,null,null,null,null,null,null,null,null,null,null,null,null,null,null,null,null,null,null,0,0,0,0,0,0,0,0,0,0]
[null,null,null,null,null,null,null,null,null,null,null,null,null,null,null,null,null,null,null,null,null,null,null,null,null,null,null,null,null,null,null,null,null,null,null,null,null,null,null,null,null,null,null,null,null,null,null,null,null,null,null,null,null,null,null,null,null,null,null,null,null,null,null,null,null,0,0,0,0,0,0,0,0,0,0]
[null,null,null,null,null,null,null,null,null,null,null,null,null,null,null,null,null,null,null,null,null,null,null,null,null,null,null,null,null,null,null,null,null,null,null,null,null,null,null,null,null,null,null,null,null,null,null,null,null,null,null,null,null,null,null,null,null,null,null,null,null,null,null,null,null,0,0,0,0,0,0,0,0,0,0]
[null,null,null,null,null,null,null,null,null,null,null,null,null,null,null,null,null,null,null,null,null,null,null,null,null,null,null,null,null,null,null,null,null,null,null,null,null,null,null,null,null,null,null,null,null,null,null,null,null,null,null,null,null,null,null,null,null,null,null,null,null,null,null,null,null,0,0,0,0,0,0,0,0,0,0]
[null,null,null,null,null,null,null,null,null,null,null,null,null,null,null,null,null,null,null,null,null,null,null,null,null,null,null,null,null,null,null,null,null,null,null,null,null,null,null,null,null,null,null,null,null,null,null,null,null,null,null,null,null,null,null,null,null,null,null,null,null,null,null,null,null,0,0,0,0,0,0,0,0,0,0]
[null,null,null,null,null,null,null,null,null,null,null,null,null,null,null,null,null,null,null,null,null,null,null,null,null,null,null,null,null,null,null,null,null,null,null,null,null,null,null,null,null,null,null,null,null,null,null,null,null,null,null,null,null,null,null,null,null,null,null,null,null,null,null,null,null,0,0,0,0,0,0,0,0,0,0]
[null,null,null,null,null,null,null,null,null,null,null,null,null,null,null,null,null,null,null,null,null,null,null,null,null,null,null,null,null,null,null,null,null,null,null,null,null,null,null,null,null,null,null,null,null,null,null,null,null,null,null,null,null,null,null,null,null,null,null,null,null,null,null,null,null,0,0,0,0,0,0,0,0,0,0]
[null,null,null,null,null,null,null,null,null,null,null,null,null,null,null,null,null,null,null,null,null,null,null,null,null,null,null,null,null,null,null,null,null,null,null,null,null,null,null,null,null,null,null,null,null,null,null,null,null,null,null,null,null,null,null,null,null,null,null,null,null,null,null,null,null,0,0,0,0,0,0,0,0,0,0]
[null,null,null,null,null,null,null,null,null,null,null,null,null,null,null,null,null,null,null,null,null,null,null,null,null,null,null,null,null,null,null,null,null,null,null,null,null,null,null,null,null,null,null,null,null,null,null,null,null,null,null,null,null,null,null,null,null,null,null,null,null,null,null,null,null,0,0,0,0,0,0,0,0,0,0]
[null,null,null,null,null,null,null,null,null,null,null,null,null,null,null,null,null,null,null,null,null,null,null,null,null,null,null,null,null,null,null,null,null,null,null,null,null,null,null,null,null,null,null,null,null,null,null,null,null,null,null,null,null,null,null,null,null,null,null,null,null,null,null,null,null,0,0,0,0,0,0,0,0,0,0]
[null,null,null,null,null,null,null,null,null,null,null,null,null,null,null,null,null,null,null,null,null,null,null,null,null,null,null,null,null,null,null,null,null,null,null,null,null,null,null,null,null,null,null,null,null,null,null,null,null,null,null,null,null,null,null,null,null,null,null,null,null,null,null,null,null,0,0,0,0,0,0,0,0,0,0]
[null,null,null,null,null,null,null,null,null,null,null,null,null,null,null,null,null,null,null,null,null,null,null,null,null,null,null,null,null,null,null,null,null,null,null,null,null,null,null,null,null,null,null,null,null,null,null,null,null,null,null,null,null,null,null,null,null,null,null,null,null,null,null,null,null,0,0,0,0,0,0,0,0,0,0]
[null,null,null,null,null,null,null,null,null,null,null,null,null,null,null,null,null,null,null,null,null,null,null,null,null,null,null,null,null,null,null,null,null,null,null,null,null,null,null,null,null,null,null,null,null,null,null,null,null,null,null,null,null,null,null,null,null,null,null,null,null,null,null,null,null,0,0,0,0,0,0,0,0,0,0]
[null,null,null,null,null,null,null,null,null,null,null,null,null,null,null,null,null,null,null,null,null,null,null,null,null,null,null,null,null,null,null,null,null,null,null,null,null,null,null,null,null,null,null,null,null,null,null,null,null,null,null,null,null,null,null,null,null,null,null,null,null,null,null,null,null,0,0,0,0,0,0,0,0,0,0]
[null,null,null,null,null,null,null,null,null,null,null,null,null,null,null,null,null,null,null,null,null,null,null,null,null,null,null,null,null,null,null,null,null,null,null,null,null,null,null,null,null,null,null,null,null,null,null,null,null,null,null,null,null,null,null,null,null,null,null,null,null,null,null,null,null,0,0,0,0,0,0,0,0,0,0]
[null,null,null,null,null,null,null,null,null,null,null,null,null,null,null,null,null,null,null,null,null,null,null,null,null,null,null,null,null,null,null,null,null,null,null,null,null,null,null,null,null,null,null,null,null,null,null,null,null,null,null,null,null,null,null,null,null,null,null,null,null,null,null,null,null,0,0,0,0,0,0,0,0,0,0]
[null,null,null,null,null,null,null,null,null,null,null,null,null,null,null,null,null,null,null,null,null,null,null,null,null,null,null,null,null,null,null,null,null,null,null,null,null,null,null,null,null,null,null,null,null,null,null,null,null,null,null,null,null,null,null,null,null,null,null,null,null,null,null,null,null,0,0,0,0,0,0,0,0,0,0]
[null,null,null,null,null,null,null,null,null,null,null,null,null,null,null,null,null,null,null,null,null,null,null,null,null,null,null,null,null,null,null,null,null,null,null,null,null,null,null,null,null,null,null,null,null,null,null,null,null,null,null,null,null,null,null,null,null,null,null,null,null,null,null,null,null,0,0,0,0,0,0,0,0,0,0]
[null,null,null,null,null,null,null,null,null,null,null,null,null,null,null,null,null,null,null,null,null,null,null,null,null,null,null,null,null,null,null,null,null,null,null,null,null,null,null,null,null,null,null,null,null,null,null,null,null,null,null,null,null,null,null,null,null,null,null,null,null,null,null,null,null,0,0,0,0,0,0,0,0,0,0]
[null,null,null,null,null,null,null,null,null,null,null,null,null,null,null,null,null,null,null,null,null,null,null,null,null,null,null,null,null,null,null,null,null,null,null,null,null,null,null,null,null,null,null,null,null,null,null,null,null,null,null,null,null,null,null,null,null,null,null,null,null,null,null,null,null,0,0,0,0,0,0,0,0,0,0]
[null,null,null,null,null,null,null,null,null,null,null,null,null,null,null,null,null,null,null,null,null,null,null,null,null,null,null,null,null,null,null,null,null,null,null,null,null,null,null,null,null,null,null,null,null,null,null,null,null,null,null,null,null,null,null,null,null,null,null,null,null,null,null,null,null,0,0,0,0,0,0,0,0,0,0]
[null,null,null,null,null,null,null,null,null,null,null,null,null,null,null,null,null,null,null,null,null,null,null,null,null,null,null,null,null,null,null,null,null,null,null,null,null,null,null,null,null,null,null,null,null,null,null,null,null,null,null,null,null,null,null,null,null,null,null,null,null,null,null,null,null,0,0,0,0,0,0,0,0,0,0]
[null,null,null,null,null,null,null,null,null,null,null,null,null,null,null,null,null,null,null,null,null,null,null,null,null,null,null,null,null,null,null,null,null,null,null,null,null,null,null,null,null,null,null,null,null,null,null,null,null,null,null,null,null,null,null,null,null,null,null,null,null,null,null,null,null,0,0,0,0,0,0,0,0,0,0]
[null,null,null,null,null,null,null,null,null,null,null,null,null,null,null,null,null,null,null,null,null,null,null,null,null,null,null,null,null,null,null,null,null,null,null,null,null,null,null,null,null,null,null,null,null,null,null,null,null,null,null,null,null,null,null,null,null,null,null,null,null,null,null,null,null,0,0,0,0,0,0,0,0,0,0]
[null,null,null,null,null,null,null,null,null,null,null,null,null,null,null,null,null,null,null,null,null,null,null,null,null,null,null,null,null,null,null,null,null,null,null,null,null,null,null,null,null,null,null,null,null,null,null,null,null,null,null,null,null,null,null,null,null,null,null,null,null,null,null,null,null,0,0,0,0,0,0,0,0,0,0]
[null,null,null,null,null,null,null,null,null,null,null,null,null,null,null,null,null,null,null,null,null,null,null,null,null,null,null,null,null,null,null,null,null,null,null,null,null,null,null,null,null,null,null,null,null,null,null,null,null,null,null,null,null,null,null,null,null,null,null,null,null,null,null,null,null,0,0,0,0,0,0,0,0,0,0]
[null,null,null,null,null,null,null,null,null,null,null,null,null,null,null,null,null,null,null,null,null,null,null,null,null,null,null,null,null,null,null,null,null,null,null,null,null,null,null,null,null,null,null,null,null,null,null,null,null,null,null,null,null,null,null,null,null,null,null,null,null,null,null,null,null,0,0,0,0,0,0,0,0,0,0]
[null,null,null,null,null,null,null,null,null,null,null,null,null,null,null,null,null,null,null,null,null,null,null,null,null,null,null,null,null,null,null,null,null,null,null,null,null,null,null,null,null,null,null,null,null,null,null,null,null,null,null,null,null,null,null,null,null,null,null,null,null,null,null,null,null,0,0,0,0,0,0,0,0,0,0]
[null,null,null,null,null,null,null,null,null,null,null,null,null,null,null,null,null,null,null,null,null,null,null,null,null,null,null,null,null,null,null,null,null,null,null,null,null,null,null,null,null,null,null,null,null,null,null,null,null,null,null,null,null,null,null,null,null,null,null,null,null,null,null,null,null,0,0,0,0,0,0,0,0,0,0]
[null,null,null,null,null,null,null,null,null,null,null,null,null,null,null,null,null,null,null,null,null,null,null,null,null,null,null,null,null,null,null,null,null,null,null,null,null,null,null,null,null,null,null,null,null,null,null,null,null,null,null,null,null,null,null,null,null,null,null,null,null,null,null,null,null,0,0,0,0,0,0,0,0,0,0]
[null,null,null,null,null,null,null,null,null,null,null,null,null,null,null,null,null,null,null,null,null,null,null,null,null,null,null,null,null,null,null,null,null,null,null,null,null,null,null,null,null,null,null,null,null,null,null,null,null,null,null,null,null,null,null,null,null,null,null,null,null,null,null,null,null,0,0,0,0,0,0,0,0,0,0]
[null,null,null,null,null,null,null,null,null,null,null,null,null,null,null,null,null,null,null,null,null,null,null,null,null,null,null,null,null,null,null,null,null,null,null,null,null,null,null,null,null,null,null,null,null,null,null,null,null,null,null,null,null,null,null,null,null,null,null,null,null,null,null,null,null,0,0,0,0,0,0,0,0,0,0]
[null,null,null,null,null,null,null,null,null,null,null,null,null,null,null,null,null,null,null,null,null,null,null,null,null,null,null,null,null,null,null,null,null,null,null,null,null,null,null,null,null,null,null,null,null,null,null,null,null,null,null,null,null,null,null,null,null,null,null,null,null,null,null,null,null,0,0,0,0,0,0,0,0,0,0]
[null,null,null,null,null,null,null,null,null,null,null,null,null,null,null,null,null,null,null,null,null,null,null,null,null,null,null,null,null,null,null,null,null,null,null,null,null,null,null,null,null,null,null,null,null,null,null,null,null,null,null,null,null,null,null,null,null,null,null,null,null,null,null,null,null,0,0,0,0,0,0,0,0,0,0]
[null,null,null,null,null,null,null,null,null,null,null,null,null,null,null,null,null,null,null,null,null,null,null,null,null,null,null,null,null,null,null,null,null,null,null,null,null,null,null,null,null,null,null,null,null,null,null,null,null,null,null,null,null,null,null,null,null,null,null,null,null,null,null,null,null,0,0,0,0,0,0,0,0,0,0]
[null,null,null,null,null,null,null,null,null,null,null,null,null,null,null,null,null,null,null,null,null,null,null,null,null,null,null,null,null,null,null,null,null,null,null,null,null,null,null,null,null,null,null,null,null,null,null,null,null,null,null,null,null,null,null,null,null,null,null,null,null,null,null,null,null,0,0,0,0,0,0,0,0,0,0]
[null,null,null,null,null,null,null,null,null,null,null,null,null,null,null,null,null,null,null,null,null,null,null,null,null,null,null,null,null,null,null,null,null,null,null,null,null,null,null,null,null,null,null,null,null,null,null,null,null,null,null,null,null,null,null,null,null,null,null,null,null,null,null,null,null,0,0,0,0,0,0,0,0,0,0]
[null,null,null,null,null,null,null,null,null,null,null,null,null,null,null,null,null,null,null,null,null,null,null,null,null,null,null,null,null,null,null,null,null,null,null,null,null,null,null,null,null,null,null,null,null,null,null,null,null,null,null,null,null,null,null,null,null,null,null,null,null,null,null,null,null,0,0,0,0,0,0,0,0,0,0]
[null,null,null,null,null,null,null,null,null,null,null,null,null,null,null,null,null,null,null,null,null,null,null,null,null,null,null,null,null,null,null,null,null,null,null,null,null,null,null,null,null,null,null,null,null,null,null,null,null,null,null,null,null,null,null,null,null,null,null,null,null,null,null,null,null,0,0,0,0,0,0,0,0,0,0]
[null,null,null,null,null,null,null,null,null,null,null,null,null,null,null,null,null,null,null,null,null,null,null,null,null,null,null,null,null,null,null,null,null,null,null,null,null,null,null,null,null,null,null,null,null,null,null,null,null,null,null,null,null,null,null,null,null,null,null,null,null,null,null,null,null,0,0,0,0,0,0,0,0,0,0]
[null,null,null,null,null,null,null,null,null,null,null,null,null,null,null,null,null,null,null,null,null,null,null,null,null,null,null,null,null,null,null,null,null,null,null,null,null,null,null,null,null,null,null,null,null,null,null,null,null,null,null,null,null,null,null,null,null,null,null,null,null,null,null,null,null,0,0,0,0,0,0,0,0,0,0]
[null,null,null,null,null,null,null,null,null,null,null,null,null,null,null,null,null,null,null,null,null,null,null,null,null,null,null,null,null,null,null,null,null,null,null,null,null,null,null,null,null,null,null,null,null,null,null,null,null,null,null,null,null,null,null,null,null,null,null,null,null,null,null,null,null,0,0,0,0,0,0,0,0,0,0]
[null,null,null,null,null,null,null,null,null,null,null,null,null,null,null,null,null,null,null,null,null,null,null,null,null,null,null,null,null,null,null,null,null,null,null,null,null,null,null,null,null,null,null,null,null,null,null,null,null,null,null,null,null,null,null,null,null,null,null,null,null,null,null,null,null,0,0,0,0,0,0,0,0,0,0]
[null,null,null,null,null,null,null,null,null,null,null,null,null,null,null,null,null,null,null,null,null,null,null,null,null,null,null,null,null,null,null,null,null,null,null,null,null,null,null,null,null,null,null,null,null,null,null,null,null,null,null,null,null,null,null,null,null,null,null,null,null,null,null,null,null,0,0,0,0,0,0,0,0,0,0]
[null,null,null,null,null,null,null,null,null,null,null,null,null,null,null,null,null,null,null,null,null,null,null,null,null,null,null,null,null,null,null,null,null,null,null,null,null,null,null,null,null,null,null,null,null,null,null,null,null,null,null,null,null,null,null,null,null,null,null,null,null,null,null,null,null,0,0,0,0,0,0,0,0,0,0]
[null,null,null,null,null,null,null,null,null,null,null,null,null,null,null,null,null,null,null,null,null,null,null,null,null,null,null,null,null,null,null,null,null,null,null,null,null,null,null,null,null,null,null,null,null,null,null,null,null,null,null,null,null,null,null,null,null,null,null,null,null,null,null,null,null,0,0,0,0,0,0,0,0,0,0]
[null,null,null,null,null,null,null,null,null,null,null,null,null,null,null,null,null,null,null,null,null,null,null,null,null,null,null,null,null,null,null,null,null,null,null,null,null,null,null,null,null,null,null,null,null,null,null,null,null,null,null,null,null,null,null,null,null,null,null,null,null,null,null,null,null,0,0,0,0,0,0,0,0,0,0]
[null,null,null,null,null,null,null,null,null,null,null,null,null,null,null,null,null,null,null,null,null,null,null,null,null,null,null,null,null,null,null,null,null,null,null,null,null,null,null,null,null,null,null,null,null,null,null,null,null,null,null,null,null,null,null,null,null,null,null,null,null,null,null,null,null,0,0,0,0,0,0,0,0,0,0]
[null,null,null,null,null,null,null,null,null,null,null,null,null,null,null,null,null,null,null,null,null,null,null,null,null,null,null,null,null,null,null,null,null,null,null,null,null,null,null,null,null,null,null,null,null,null,null,null,null,null,null,null,null,null,null,null,null,null,null,null,null,null,null,null,null,0,0,0,0,0,0,0,0,0,0]
[null,null,null,null,null,null,null,null,null,null,null,null,null,null,null,null,null,null,null,null,null,null,null,null,null,null,null,null,null,null,null,null,null,null,null,null,null,null,null,null,null,null,null,null,null,null,null,null,null,null,null,null,null,null,null,null,null,null,null,null,null,null,null,null,null,0,0,0,0,0,0,0,0,0,0]
[null,null,null,null,null,null,null,null,null,null,null,null,null,null,null,null,null,null,null,null,null,null,null,null,null,null,null,null,null,null,null,null,null,null,null,null,null,null,null,null,null,null,null,null,null,null,null,null,null,null,null,null,null,null,null,null,null,null,null,null,null,null,null,null,null,0,0,0,0,0,0,0,0,0,0]
[null,null,null,null,null,null,null,null,null,null,null,null,null,null,null,null,null,null,null,null,null,null,null,null,null,null,null,null,null,null,null,null,null,null,null,null,null,null,null,null,null,null,null,null,null,null,null,null,null,null,null,null,null,null,null,null,null,null,null,null,null,null,null,null,null,0,0,0,0,0,0,0,0,0,0]
[null,null,null,null,null,null,null,null,null,null,null,null,null,null,null,null,null,null,null,null,null,null,null,null,null,null,null,null,null,null,null,null,null,null,null,null,null,null,null,null,null,null,null,null,null,null,null,null,null,null,null,null,null,null,null,null,null,null,null,null,null,null,null,null,null,0,0,0,0,0,0,0,0,0,0]
[null,null,null,null,null,null,null,null,null,null,null,null,null,null,null,null,null,null,null,null,null,null,null,null,null,null,null,null,null,null,null,null,null,null,null,null,null,null,null,null,null,null,null,null,null,null,null,null,null,null,null,null,null,null,null,null,null,null,null,null,null,null,null,null,null,0,0,0,0,0,0,0,0,0,0]
[null,null,null,null,null,null,null,null,null,null,null,null,null,null,null,null,null,null,null,null,null,null,null,null,null,null,null,null,null,null,null,null,null,null,null,null,null,null,null,null,null,null,null,null,null,null,null,null,null,null,null,null,null,null,null,null,null,null,null,null,null,null,null,null,null,0,0,0,0,0,0,0,0,0,0]
[null,null,null,null,null,null,null,null,null,null,null,null,null,null,null,null,null,null,null,null,null,null,null,null,null,null,null,null,null,null,null,null,null,null,null,null,null,null,null,null,null,null,null,null,null,null,null,null,null,null,null,null,null,null,null,null,null,null,null,null,null,null,null,null,null,0,0,0,0,0,0,0,0,0,0]
[null,null,null,null,null,null,null,null,null,null,null,null,null,null,null,null,null,null,null,null,null,null,null,null,null,null,null,null,null,null,null,null,null,null,null,null,null,null,null,null,null,null,null,null,null,null,null,null,null,null,null,null,null,null,null,null,null,null,null,null,null,null,null,null,null,0,0,0,0,0,0,0,0,0,0]
[null,null,null,null,null,null,null,null,null,null,null,null,null,null,null,null,null,null,null,null,null,null,null,null,null,null,null,null,null,null,null,null,null,null,null,null,null,null,null,null,null,null,null,null,null,null,null,null,null,null,null,null,null,null,null,null,null,null,null,null,null,null,null,null,null,0,0,0,0,0,0,0,0,0,0]
[]
[]
[]
[null,null,null,null,null,null,null,null,null,null,null,null,null,null,null,null,null,null,null,null,null,null,null,null,null,null,null,null,null,null,null,null,null,null,null,null,null,null,null,null,null,null,null,null,null,null,null,null,null,null,null,null,null,null,null,null,null,null,null,null,null,null,null,null,null,0,0,0,0,0,0,0,0,0,0]
[null,null,null,null,null,null,null,null,null,null,null,null,null,null,null,null,null,null,null,null,null,null,null,null,null,null,null,null,null,null,null,null,null,null,null,null,null,null,null,null,null,null,null,null,null,null,null,null,null,null,null,null,null,null,null,null,null,null,null,null,null,null,null,null,null,0,0,0,0,0,0,0,0,0,0]
[null,null,null,null,null,null,null,null,null,null,null,null,null,null,null,null,null,null,null,null,null,null,null,null,null,null,null,null,null,null,null,null,null,null,null,null,null,null,null,null,null,null,null,null,null,null,null,null,null,null,null,null,null,null,null,null,null,null,null,null,null,null,null,null,null,0,0,0,0,0,0,0,0,0,0]
[null,null,null,null,null,null,null,null,null,null,null,null,null,null,null,null,null,null,null,null,null,null,null,null,null,null,null,null,null,null,null,null,null,null,null,null,null,null,null,null,null,null,null,null,null,null,null,null,null,null,null,null,null,null,null,null,null,null,null,null,null,null,null,null,null,0,0,0,0,0,0,0,0,0,0]
[null,null,null,null,null,null,null,null,null,null,null,null,null,null,null,null,null,null,null,null,null,null,null,null,null,null,null,null,null,null,null,null,null,null,null,null,null,null,null,null,null,null,null,null,null,null,null,null,null,null,null,null,null,null,null,null,null,null,null,null,null,null,null,null,null,0,0,0,0,0,0,0,0,0,0]
[null,null,null,null,null,null,null,null,null,null,null,null,null,null,null,null,null,null,null,null,null,null,null,null,null,null,null,null,null,null,null,null,null,null,null,null,null,null,null,null,null,null,null,null,null,null,null,null,null,null,null,null,null,null,null,null,null,null,null,null,null,null,null,null,null,0,0,0,0,0,0,0,0,0,0]
[null,null,null,null,null,null,null,null,null,null,null,null,null,null,null,null,null,null,null,null,null,null,null,null,null,null,null,null,null,null,null,null,null,null,null,null,null,null,null,null,null,null,null,null,null,null,null,null,null,null,null,null,null,null,null,null,null,null,null,null,null,null,null,null,null,0,0,0,0,0,0,0,0,0,0]
[null,null,null,null,null,null,null,null,null,null,null,null,null,null,null,null,null,null,null,null,null,null,null,null,null,null,null,null,null,null,null,null,null,null,null,null,null,null,null,null,null,null,null,null,null,null,null,null,null,null,null,null,null,null,null,null,null,null,null,null,null,null,null,null,null,0,0,0,0,0,0,0,0,0,0]
[null,null,null,null,null,null,null,null,null,null,null,null,null,null,null,null,null,null,null,null,null,null,null,null,null,null,null,null,null,null,null,null,null,null,null,null,null,null,null,null,null,null,null,null,null,null,null,null,null,null,null,null,null,null,null,null,null,null,null,null,null,null,null,null,null,0,0,0,0,0,0,0,0,0,0]
[null,null,null,null,null,null,null,null,null,null,null,null,null,null,null,null,null,null,null,null,null,null,null,null,null,null,null,null,null,null,null,null,null,null,null,null,null,null,null,null,null,null,null,null,null,null,null,null,null,null,null,null,null,null,null,null,null,null,null,null,null,null,null,null,null,0,0,0,0,0,0,0,0,0,0]
[null,null,null,null,null,null,null,null,null,null,null,null,null,null,null,null,null,null,null,null,null,null,null,null,null,null,null,null,null,null,null,null,null,null,null,null,null,null,null,null,null,null,null,null,null,null,null,null,null,null,null,null,null,null,null,null,null,null,null,null,null,null,null,null,null,0,0,0,0,0,0,0,0,0,0]
[null,null,null,null,null,null,null,null,null,null,null,null,null,null,null,null,null,null,null,null,null,null,null,null,null,null,null,null,null,null,null,null,null,null,null,null,null,null,null,null,null,null,null,null,null,null,null,null,null,null,null,null,null,null,null,null,null,null,null,null,null,null,null,null,null,0,0,0,0,0,0,0,0,0,0]
[null,null,null,null,null,null,null,null,null,null,null,null,null,null,null,null,null,null,null,null,null,null,null,null,null,null,null,null,null,null,null,null,null,null,null,null,null,null,null,null,null,null,null,null,null,null,null,null,null,null,null,null,null,null,null,null,null,null,null,null,null,null,null,null,null,0,0,0,0,0,0,0,0,0,0]
[null,null,null,null,null,null,null,null,null,null,null,null,null,null,null,null,null,null,null,null,null,null,null,null,null,null,null,null,null,null,null,null,null,null,null,null,null,null,null,null,null,null,null,null,null,null,null,null,null,null,null,null,null,null,null,null,null,null,null,null,null,null,null,null,null,0,0,0,0,0,0,0,0,0,0]
[null,null,null,null,null,null,null,null,null,null,null,null,null,null,null,null,null,null,null,null,null,null,null,null,null,null,null,null,null,null,null,null,null,null,null,null,null,null,null,null,null,null,null,null,null,null,null,null,null,null,null,null,null,null,null,null,null,null,null,null,null,null,null,null,null,0,0,0,0,0,0,0,0,0,0]
[null,null,null,null,null,null,null,null,null,null,null,null,null,null,null,null,null,null,null,null,null,null,null,null,null,null,null,null,null,null,null,null,null,null,null,null,null,null,null,null,null,null,null,null,null,null,null,null,null,null,null,null,null,null,null,null,null,null,null,null,null,null,null,null,null,0,0,0,0,0,0,0,0,0,0]
[null,null,null,null,null,null,null,null,null,null,null,null,null,null,null,null,null,null,null,null,null,null,null,null,null,null,null,null,null,null,null,null,null,null,null,null,null,null,null,null,null,null,null,null,null,null,null,null,null,null,null,null,null,null,null,null,null,null,null,null,null,null,null,null,null,0,0,0,0,0,0,0,0,0,0]
[null,null,null,null,null,null,null,null,null,null,null,null,null,null,null,null,null,null,null,null,null,null,null,null,null,null,null,null,null,null,null,null,null,null,null,null,null,null,null,null,null,null,null,null,null,null,null,null,null,null,null,null,null,null,null,null,null,null,null,null,null,null,null,null,null,0,0,0,0,0,0,0,0,0,0]
[null,null,null,null,null,null,null,null,null,null,null,null,null,null,null,null,null,null,null,null,null,null,null,null,null,null,null,null,null,null,null,null,null,null,null,null,null,null,null,null,null,null,null,null,null,null,null,null,null,null,null,null,null,null,null,null,null,null,null,null,null,null,null,null,null,0,0,0,0,0,0,0,0,0,0]
[null,null,null,null,null,null,null,null,null,null,null,null,null,null,null,null,null,null,null,null,null,null,null,null,null,null,null,null,null,null,null,null,null,null,null,null,null,null,null,null,null,null,null,null,null,null,null,null,null,null,null,null,null,null,null,null,null,null,null,null,null,null,null,null,null,0,0,0,0,0,0,0,0,0,0]
[null,null,null,null,null,null,null,null,null,null,null,null,null,null,null,null,null,null,null,null,null,null,null,null,null,null,null,null,null,null,null,null,null,null,null,null,null,null,null,null,null,null,null,null,null,null,null,null,null,null,null,null,null,null,null,null,null,null,null,null,null,null,null,null,null,0,0,0,0,0,0,0,0,0,0]
[null,null,null,null,null,null,null,null,null,null,null,null,null,null,null,null,null,null,null,null,null,null,null,null,null,null,null,null,null,null,null,null,null,null,null,null,null,null,null,null,null,null,null,null,null,null,null,null,null,null,null,null,null,null,null,null,null,null,null,null,null,null,null,null,null,0,0,0,0,0,0,0,0,0,0]
[null,null,null,null,null,null,null,null,null,null,null,null,null,null,null,null,null,null,null,null,null,null,null,null,null,null,null,null,null,null,null,null,null,null,null,null,null,null,null,null,null,null,null,null,null,null,null,null,null,null,null,null,null,null,null,null,null,null,null,null,null,null,null,null,null,0,0,0,0,0,0,0,0,0,0]
[null,null,null,null,null,null,null,null,null,null,null,null,null,null,null,null,null,null,null,null,null,null,null,null,null,null,null,null,null,null,null,null,null,null,null,null,null,null,null,null,null,null,null,null,null,null,null,null,null,null,null,null,null,null,null,null,null,null,null,null,null,null,null,null,null,0,0,0,0,0,0,0,0,0,0]
[null,null,null,null,null,null,null,null,null,null,null,null,null,null,null,null,null,null,null,null,null,null,null,null,null,null,null,null,null,null,null,null,null,null,null,null,null,null,null,null,null,null,null,null,null,null,null,null,null,null,null,null,null,null,null,null,null,null,null,null,null,null,null,null,null,0,0,0,0,0,0,0,0,0,0]
[null,null,null,null,null,null,null,null,null,null,null,null,null,null,null,null,null,null,null,null,null,null,null,null,null,null,null,null,null,null,null,null,null,null,null,null,null,null,null,null,null,null,null,null,null,null,null,null,null,null,null,null,null,null,null,null,null,null,null,null,null,null,null,null,null,0,0,0,0,0,0,0,0,0,0]
[null,null,null,null,null,null,null,null,null,null,null,null,null,null,null,null,null,null,null,null,null,null,null,null,null,null,null,null,null,null,null,null,null,null,null,null,null,null,null,null,null,null,null,null,null,null,null,null,null,null,null,null,null,null,null,null,null,null,null,null,null,null,null,null,null,0,0,0,0,0,0,0,0,0,0]
[null,null,null,null,null,null,null,null,null,null,null,null,null,null,null,null,null,null,null,null,null,null,null,null,null,null,null,null,null,null,null,null,null,null,null,null,null,null,null,null,null,null,null,null,null,null,null,null,null,null,null,null,null,null,null,null,null,null,null,null,null,null,null,null,null,0,0,0,0,0,0,0,0,0,0]
[null,null,null,null,null,null,null,null,null,null,null,null,null,null,null,null,null,null,null,null,null,null,null,null,null,null,null,null,null,null,null,null,null,null,null,null,null,null,null,null,null,null,null,null,null,null,null,null,null,null,null,null,null,null,null,null,null,null,null,null,null,null,null,null,null,0,0,0,0,0,0,0,0,0,0]
[null,null,null,null,null,null,null,null,null,null,null,null,null,null,null,null,null,null,null,null,null,null,null,null,null,null,null,null,null,null,null,null,null,null,null,null,null,null,null,null,null,null,null,null,null,null,null,null,null,null,null,null,null,null,null,null,null,null,null,null,null,null,null,null,null,0,0,0,0,0,0,0,0,0,0]
[null,null,null,null,null,null,null,null,null,null,null,null,null,null,null,null,null,null,null,null,null,null,null,null,null,null,null,null,null,null,null,null,null,null,null,null,null,null,null,null,null,null,null,null,null,null,null,null,null,null,null,null,null,null,null,null,null,null,null,null,null,null,null,null,null,0,0,0,0,0,0,0,0,0,0]
[null,null,null,null,null,null,null,null,null,null,null,null,null,null,null,null,null,null,null,null,null,null,null,null,null,null,null,null,null,null,null,null,null,null,null,null,null,null,null,null,null,null,null,null,null,null,null,null,null,null,null,null,null,null,null,null,null,null,null,null,null,null,null,null,null,0,0,0,0,0,0,0,0,0,0]
[null,null,null,null,null,null,null,null,null,null,null,null,null,null,null,null,null,null,null,null,null,null,null,null,null,null,null,null,null,null,null,null,null,null,null,null,null,null,null,null,null,null,null,null,null,null,null,null,null,null,null,null,null,null,null,null,null,null,null,null,null,null,null,null,null,0,0,0,0,0,0,0,0,0,0]
[null,null,null,null,null,null,null,null,null,null,null,null,null,null,null,null,null,null,null,null,null,null,null,null,null,null,null,null,null,null,null,null,null,null,null,null,null,null,null,null,null,null,null,null,null,null,null,null,null,null,null,null,null,null,null,null,null,null,null,null,null,null,null,null,null,0,0,0,0,0,0,0,0,0,0]
[null,null,null,null,null,null,null,null,null,null,null,null,null,null,null,null,null,null,null,null,null,null,null,null,null,null,null,null,null,null,null,null,null,null,null,null,null,null,null,null,null,null,null,null,null,null,null,null,null,null,null,null,null,null,null,null,null,null,null,null,null,null,null,null,null,0,0,0,0,0,0,0,0,0,0]
[null,null,null,null,null,null,null,null,null,null,null,null,null,null,null,null,null,null,null,null,null,null,null,null,null,null,null,null,null,null,null,null,null,null,null,null,null,null,null,null,null,null,null,null,null,null,null,null,null,null,null,null,null,null,null,null,null,null,null,null,null,null,null,null,null,0,0,0,0,0,0,0,0,0,0]
[null,null,null,null,null,null,null,null,null,null,null,null,null,null,null,null,null,null,null,null,null,null,null,null,null,null,null,null,null,null,null,null,null,null,null,null,null,null,null,null,null,null,null,null,null,null,null,null,null,null,null,null,null,null,null,null,null,null,null,null,null,null,null,null,null,0,0,0,0,0,0,0,0,0,0]
[null,null,null,null,null,null,null,null,null,null,null,null,null,null,null,null,null,null,null,null,null,null,null,null,null,null,null,null,null,null,null,null,null,null,null,null,null,null,null,null,null,null,null,null,null,null,null,null,null,null,null,null,null,null,null,null,null,null,null,null,null,null,null,null,null,0,0,0,0,0,0,0,0,0,0]
[null,null,null,null,null,null,null,null,null,null,null,null,null,null,null,null,null,null,null,null,null,null,null,null,null,null,null,null,null,null,null,null,null,null,null,null,null,null,null,null,null,null,null,null,null,null,null,null,null,null,null,null,null,null,null,null,null,null,null,null,null,null,null,null,null,0,0,0,0,0,0,0,0,0,0]
[null,null,null,null,null,null,null,null,null,null,null,null,null,null,null,null,null,null,null,null,null,null,null,null,null,null,null,null,null,null,null,null,null,null,null,null,null,null,null,null,null,null,null,null,null,null,null,null,null,null,null,null,null,null,null,null,null,null,null,null,null,null,null,null,null,0,0,0,0,0,0,0,0,0,0]
[null,null,null,null,null,null,null,null,null,null,null,null,null,null,null,null,null,null,null,null,null,null,null,null,null,null,null,null,null,null,null,null,null,null,null,null,null,null,null,null,null,null,null,null,null,null,null,null,null,null,null,null,null,null,null,null,null,null,null,null,null,null,null,null,null,0,0,0,0,0,0,0,0,0,0]
[null,null,null,null,null,null,null,null,null,null,null,null,null,null,null,null,null,null,null,null,null,null,null,null,null,null,null,null,null,null,null,null,null,null,null,null,null,null,null,null,null,null,null,null,null,null,null,null,null,null,null,null,null,null,null,null,null,null,null,null,null,null,null,null,null,0,0,0,0,0,0,0,0,0,0]
[null,null,null,null,null,null,null,null,null,null,null,null,null,null,null,null,null,null,null,null,null,null,null,null,null,null,null,null,null,null,null,null,null,null,null,null,null,null,null,null,null,null,null,null,null,null,null,null,null,null,null,null,null,null,null,null,null,null,null,null,null,null,null,null,null,0,0,0,0,0,0,0,0,0,0]
[null,null,null,null,null,null,null,null,null,null,null,null,null,null,null,null,null,null,null,null,null,null,null,null,null,null,null,null,null,null,null,null,null,null,null,null,null,null,null,null,null,null,null,null,null,null,null,null,null,null,null,null,null,null,null,null,null,null,null,null,null,null,null,null,null,0,0,0,0,0,0,0,0,0,0]
[null,null,null,null,null,null,null,null,null,null,null,null,null,null,null,null,null,null,null,null,null,null,null,null,null,null,null,null,null,null,null,null,null,null,null,null,null,null,null,null,null,null,null,null,null,null,null,null,null,null,null,null,null,null,null,null,null,null,null,null,null,null,null,null,null,0,0,0,0,0,0,0,0,0,0]
[null,null,null,null,null,null,null,null,null,null,null,null,null,null,null,null,null,null,null,null,null,null,null,null,null,null,null,null,null,null,null,null,null,null,null,null,null,null,null,null,null,null,null,null,null,null,null,null,null,null,null,null,null,null,null,null,null,null,null,null,null,null,null,null,null,0,0,0,0,0,0,0,0,0,0]
[null,null,null,null,null,null,null,null,null,null,null,null,null,null,null,null,null,null,null,null,null,null,null,null,null,null,null,null,null,null,null,null,null,null,null,null,null,null,null,null,null,null,null,null,null,null,null,null,null,null,null,null,null,null,null,null,null,null,null,null,null,null,null,null,null,0,0,0,0,0,0,0,0,0,0]
[null,null,null,null,null,null,null,null,null,null,null,null,null,null,null,null,null,null,null,null,null,null,null,null,null,null,null,null,null,null,null,null,null,null,null,null,null,null,null,null,null,null,null,null,null,null,null,null,null,null,null,null,null,null,null,null,null,null,null,null,null,null,null,null,null,0,0,0,0,0,0,0,0,0,0]
[null,null,null,null,null,null,null,null,null,null,null,null,null,null,null,null,null,null,null,null,null,null,null,null,null,null,null,null,null,null,null,null,null,null,null,null,null,null,null,null,null,null,null,null,null,null,null,null,null,null,null,null,null,null,null,null,null,null,null,null,null,null,null,null,null,0,0,0,0,0,0,0,0,0,0]
[null,null,null,null,null,null,null,null,null,null,null,null,null,null,null,null,null,null,null,null,null,null,null,null,null,null,null,null,null,null,null,null,null,null,null,null,null,null,null,null,null,null,null,null,null,null,null,null,null,null,null,null,null,null,null,null,null,null,null,null,null,null,null,null,null,0,0,0,0,0,0,0,0,0,0]
[null,null,null,null,null,null,null,null,null,null,null,null,null,null,null,null,null,null,null,null,null,null,null,null,null,null,null,null,null,null,null,null,null,null,null,null,null,null,null,null,null,null,null,null,null,null,null,null,null,null,null,null,null,null,null,null,null,null,null,null,null,null,null,null,null,0,0,0,0,0,0,0,0,0,0]
[null,null,null,null,null,null,null,null,null,null,null,null,null,null,null,null,null,null,null,null,null,null,null,null,null,null,null,null,null,null,null,null,null,null,null,null,null,null,null,null,null,null,null,null,null,null,null,null,null,null,null,null,null,null,null,null,null,null,null,null,null,null,null,null,null,0,0,0,0,0,0,0,0,0,0]
[null,null,null,null,null,null,null,null,null,null,null,null,null,null,null,null,null,null,null,null,null,null,null,null,null,null,null,null,null,null,null,null,null,null,null,null,null,null,null,null,null,null,null,null,null,null,null,null,null,null,null,null,null,null,null,null,null,null,null,null,null,null,null,null,null,0,0,0,0,0,0,0,0,0,0]
[null,null,null,null,null,null,null,null,null,null,null,null,null,null,null,null,null,null,null,null,null,null,null,null,null,null,null,null,null,null,null,null,null,null,null,null,null,null,null,null,null,null,null,null,null,null,null,null,null,null,null,null,null,null,null,null,null,null,null,null,null,null,null,null,null,0,0,0,0,0,0,0,0,0,0]
[null,null,null,null,null,null,null,null,null,null,null,null,null,null,null,null,null,null,null,null,null,null,null,null,null,null,null,null,null,null,null,null,null,null,null,null,null,null,null,null,null,null,null,null,null,null,null,null,null,null,null,null,null,null,null,null,null,null,null,null,null,null,null,null,null,0,0,0,0,0,0,0,0,0,0]
[null,null,null,null,null,null,null,null,null,null,null,null,null,null,null,null,null,null,null,null,null,null,null,null,null,null,null,null,null,null,null,null,null,null,null,null,null,null,null,null,null,null,null,null,null,null,null,null,null,null,null,null,null,null,null,null,null,null,null,null,null,null,null,null,null,0,0,0,0,0,0,0,0,0,0]
[null,null,null,null,null,null,null,null,null,null,null,null,null,null,null,null,null,null,null,null,null,null,null,null,null,null,null,null,null,null,null,null,null,null,null,null,null,null,null,null,null,null,null,null,null,null,null,null,null,null,null,null,null,null,null,null,null,null,null,null,null,null,null,null,null,0,0,0,0,0,0,0,0,0,0]
[null,null,null,null,null,null,null,null,null,null,null,null,null,null,null,null,null,null,null,null,null,null,null,null,null,null,null,null,null,null,null,null,null,null,null,null,null,null,null,null,null,null,null,null,null,null,null,null,null,null,null,null,null,null,null,null,null,null,null,null,null,null,null,null,null,0,0,0,0,0,0,0,0,0,0]
[null,null,null,null,null,null,null,null,null,null,null,null,null,null,null,null,null,null,null,null,null,null,null,null,null,null,null,null,null,null,null,null,null,null,null,null,null,null,null,null,null,null,null,null,null,null,null,null,null,null,null,null,null,null,null,null,null,null,null,null,null,null,null,null,null,0,0,0,0,0,0,0,0,0,0]
[null,null,null,null,null,null,null,null,null,null,null,null,null,null,null,null,null,null,null,null,null,null,null,null,null,null,null,null,null,null,null,null,null,null,null,null,null,null,null,null,null,null,null,null,null,null,null,null,null,null,null,null,null,null,null,null,null,null,null,null,null,null,null,null,null,0,0,0,0,0,0,0,0,0,0]
[null,null,null,null,null,null,null,null,null,null,null,null,null,null,null,null,null,null,null,null,null,null,null,null,null,null,null,null,null,null,null,null,null,null,null,null,null,null,null,null,null,null,null,null,null,null,null,null,null,null,null,null,null,null,null,null,null,null,null,null,null,null,null,null,null,0,0,0,0,0,0,0,0,0,0]
[null,null,null,null,null,null,null,null,null,null,null,null,null,null,null,null,null,null,null,null,null,null,null,null,null,null,null,null,null,null,null,null,null,null,null,null,null,null,null,null,null,null,null,null,null,null,null,null,null,null,null,null,null,null,null,null,null,null,null,null,null,null,null,null,null,0,0,0,0,0,0,0,0,0,0]
[null,null,null,null,null,null,null,null,null,null,null,null,null,null,null,null,null,null,null,null,null,null,null,null,null,null,null,null,null,null,null,null,null,null,null,null,null,null,null,null,null,null,null,null,null,null,null,null,null,null,null,null,null,null,null,null,null,null,null,null,null,null,null,null,null,0,0,0,0,0,0,0,0,0,0]
[null,null,null,null,null,null,null,null,null,null,null,null,null,null,null,null,null,null,null,null,null,null,null,null,null,null,null,null,null,null,null,null,null,null,null,null,null,null,null,null,null,null,null,null,null,null,null,null,null,null,null,null,null,null,null,null,null,null,null,null,null,null,null,null,null,0,0,0,0,0,0,0,0,0,0]
[null,null,null,null,null,null,null,null,null,null,null,null,null,null,null,null,null,null,null,null,null,null,null,null,null,null,null,null,null,null,null,null,null,null,null,null,null,null,null,null,null,null,null,null,null,null,null,null,null,null,null,null,null,null,null,null,null,null,null,null,null,null,null,null,null,0,0,0,0,0,0,0,0,0,0]
[null,null,null,null,null,null,null,null,null,null,null,null,null,null,null,null,null,null,null,null,null,null,null,null,null,null,null,null,null,null,null,null,null,null,null,null,null,null,null,null,null,null,null,null,null,null,null,null,null,null,null,null,null,null,null,null,null,null,null,null,null,null,null,null,null,0,0,0,0,0,0,0,0,0,0]
[null,null,null,null,null,null,null,null,null,null,null,null,null,null,null,null,null,null,null,null,null,null,null,null,null,null,null,null,null,null,null,null,null,null,null,null,null,null,null,null,null,null,null,null,null,null,null,null,null,null,null,null,null,null,null,null,null,null,null,null,null,null,null,null,null,0,0,0,0,0,0,0,0,0,0]
[null,null,null,null,null,null,null,null,null,null,null,null,null,null,null,null,null,null,null,null,null,null,null,null,null,null,null,null,null,null,null,null,null,null,null,null,null,null,null,null,null,null,null,null,null,null,null,null,null,null,null,null,null,null,null,null,null,null,null,null,null,null,null,null,null,0,0,0,0,0,0,0,0,0,0]
[null,null,null,null,null,null,null,null,null,null,null,null,null,null,null,null,null,null,null,null,null,null,null,null,null,null,null,null,null,null,null,null,null,null,null,null,null,null,null,null,null,null,null,null,null,null,null,null,null,null,null,null,null,null,null,null,null,null,null,null,null,null,null,null,null,0,0,0,0,0,0,0,0,0,0]
[null,null,null,null,null,null,null,null,null,null,null,null,null,null,null,null,null,null,null,null,null,null,null,null,null,null,null,null,null,null,null,null,null,null,null,null,null,null,null,null,null,null,null,null,null,null,null,null,null,null,null,null,null,null,null,null,null,null,null,null,null,null,null,null,null,0,0,0,0,0,0,0,0,0,0]
[null,null,null,null,null,null,null,null,null,null,null,null,null,null,null,null,null,null,null,null,null,null,null,null,null,null,null,null,null,null,null,null,null,null,null,null,null,null,null,null,null,null,null,null,null,null,null,null,null,null,null,null,null,null,null,null,null,null,null,null,null,null,null,null,null,0,0,0,0,0,0,0,0,0,0]
[null,null,null,null,null,null,null,null,null,null,null,null,null,null,null,null,null,null,null,null,null,null,null,null,null,null,null,null,null,null,null,null,null,null,null,null,null,null,null,null,null,null,null,null,null,null,null,null,null,null,null,null,null,null,null,null,null,null,null,null,null,null,null,null,null,0,0,0,0,0,0,0,0,0,0]
[null,null,null,null,null,null,null,null,null,null,null,null,null,null,null,null,null,null,null,null,null,null,null,null,null,null,null,null,null,null,null,null,null,null,null,null,null,null,null,null,null,null,null,null,null,null,null,null,null,null,null,null,null,null,null,null,null,null,null,null,null,null,null,null,null,0,0,0,0,0,0,0,0,0,0]
[null,null,null,null,null,null,null,null,null,null,null,null,null,null,null,null,null,null,null,null,null,null,null,null,null,null,null,null,null,null,null,null,null,null,null,null,null,null,null,null,null,null,null,null,null,null,null,null,null,null,null,null,null,null,null,null,null,null,null,null,null,null,null,null,null,0,0,0,0,0,0,0,0,0,0]
[null,null,null,null,null,null,null,null,null,null,null,null,null,null,null,null,null,null,null,null,null,null,null,null,null,null,null,null,null,null,null,null,null,null,null,null,null,null,null,null,null,null,null,null,null,null,null,null,null,null,null,null,null,null,null,null,null,null,null,null,null,null,null,null,null,0,0,0,0,0,0,0,0,0,0]
[null,null,null,null,null,null,null,null,null,null,null,null,null,null,null,null,null,null,null,null,null,null,null,null,null,null,null,null,null,null,null,null,null,null,null,null,null,null,null,null,null,null,null,null,null,null,null,null,null,null,null,null,null,null,null,null,null,null,null,null,null,null,null,null,null,0,0,0,0,0,0,0,0,0,0]
[null,null,null,null,null,null,null,null,null,null,null,null,null,null,null,null,null,null,null,null,null,null,null,null,null,null,null,null,null,null,null,null,null,null,null,null,null,null,null,null,null,null,null,null,null,null,null,null,null,null,null,null,null,null,null,null,null,null,null,null,null,null,null,null,null,0,0,0,0,0,0,0,0,0,0]
[null,null,null,null,null,null,null,null,null,null,null,null,null,null,null,null,null,null,null,null,null,null,null,null,null,null,null,null,null,null,null,null,null,null,null,null,null,null,null,null,null,null,null,null,null,null,null,null,null,null,null,null,null,null,null,null,null,null,null,null,null,null,null,null,null,0,0,0,0,0,0,0,0,0,0]
[null,null,null,null,null,null,null,null,null,null,null,null,null,null,null,null,null,null,null,null,null,null,null,null,null,null,null,null,null,null,null,null,null,null,null,null,null,null,null,null,null,null,null,null,null,null,null,null,null,null,null,null,null,null,null,null,null,null,null,null,null,null,null,null,null,0,0,0,0,0,0,0,0,0,0]
[null,null,null,null,null,null,null,null,null,null,null,null,null,null,null,null,null,null,null,null,null,null,null,null,null,null,null,null,null,null,null,null,null,null,null,null,null,null,null,null,null,null,null,null,null,null,null,null,null,null,null,null,null,null,null,null,null,null,null,null,null,null,null,null,null,0,0,0,0,0,0,0,0,0,0]
[null,null,null,null,null,null,null,null,null,null,null,null,null,null,null,null,null,null,null,null,null,null,null,null,null,null,null,null,null,null,null,null,null,null,null,null,null,null,null,null,null,null,null,null,null,null,null,null,null,null,null,null,null,null,null,null,null,null,null,null,null,null,null,null,null,0,0,0,0,0,0,0,0,0,0]
[null,null,null,null,null,null,null,null,null,null,null,null,null,null,null,null,null,null,null,null,null,null,null,null,null,null,null,null,null,null,null,null,null,null,null,null,null,null,null,null,null,null,null,null,null,null,null,null,null,null,null,null,null,null,null,null,null,null,null,null,null,null,null,null,null,0,0,0,0,0,0,0,0,0,0]
[null,null,null,null,null,null,null,null,null,null,null,null,null,null,null,null,null,null,null,null,null,null,null,null,null,null,null,null,null,null,null,null,null,null,null,null,null,null,null,null,null,null,null,null,null,null,null,null,null,null,null,null,null,null,null,null,null,null,null,null,null,null,null,null,null,0,0,0,0,0,0,0,0,0,0]
[null,null,null,null,null,null,null,null,null,null,null,null,null,null,null,null,null,null,null,null,null,null,null,null,null,null,null,null,null,null,null,null,null,null,null,null,null,null,null,null,null,null,null,null,null,null,null,null,null,null,null,null,null,null,null,null,null,null,null,null,null,null,null,null,null,0,0,0,0,0,0,0,0,0,0]
[null,null,null,null,null,null,null,null,null,null,null,null,null,null,null,null,null,null,null,null,null,null,null,null,null,null,null,null,null,null,null,null,null,null,null,null,null,null,null,null,null,null,null,null,null,null,null,null,null,null,null,null,null,null,null,null,null,null,null,null,null,null,null,null,null,0,0,0,0,0,0,0,0,0,0]
[null,null,null,null,null,null,null,null,null,null,null,null,null,null,null,null,null,null,null,null,null,null,null,null,null,null,null,null,null,null,null,null,null,null,null,null,null,null,null,null,null,null,null,null,null,null,null,null,null,null,null,null,null,null,null,null,null,null,null,null,null,null,null,null,null,0,0,0,0,0,0,0,0,0,0]
[null,null,null,null,null,null,null,null,null,null,null,null,null,null,null,null,null,null,null,null,null,null,null,null,null,null,null,null,null,null,null,null,null,null,null,null,null,null,null,null,null,null,null,null,null,null,null,null,null,null,null,null,null,null,null,null,null,null,null,null,null,null,null,null,null,0,0,0,0,0,0,0,0,0,0]
[null,null,null,null,null,null,null,null,null,null,null,null,null,null,null,null,null,null,null,null,null,null,null,null,null,null,null,null,null,null,null,null,null,null,null,null,null,null,null,null,null,null,null,null,null,null,null,null,null,null,null,null,null,null,null,null,null,null,null,null,null,null,null,null,null,0,0,0,0,0,0,0,0,0,0]
[null,null,null,null,null,null,null,null,null,null,null,null,null,null,null,null,null,null,null,null,null,null,null,null,null,null,null,null,null,null,null,null,null,null,null,null,null,null,null,null,null,null,null,null,null,null,null,null,null,null,null,null,null,null,null,null,null,null,null,null,null,null,null,null,null,0,0,0,0,0,0,0,0,0,0]
[null,null,null,null,null,null,null,null,null,null,null,null,null,null,null,null,null,null,null,null,null,null,null,null,null,null,null,null,null,null,null,null,null,null,null,null,null,null,null,null,null,null,null,null,null,null,null,null,null,null,null,null,null,null,null,null,null,null,null,null,null,null,null,null,null,0,0,0,0,0,0,0,0,0,0]
[null,null,null,null,null,null,null,null,null,null,null,null,null,null,null,null,null,null,null,null,null,null,null,null,null,null,null,null,null,null,null,null,null,null,null,null,null,null,null,null,null,null,null,null,null,null,null,null,null,null,null,null,null,null,null,null,null,null,null,null,null,null,null,null,null,0,0,0,0,0,0,0,0,0,0]
[null,null,null,null,null,null,null,null,null,null,null,null,null,null,null,null,null,null,null,null,null,null,null,null,null,null,null,null,null,null,null,null,null,null,null,null,null,null,null,null,null,null,null,null,null,null,null,null,null,null,null,null,null,null,null,null,null,null,null,null,null,null,null,null,null,0,0,0,0,0,0,0,0,0,0]
[null,null,null,null,null,null,null,null,null,null,null,null,null,null,null,null,null,null,null,null,null,null,null,null,null,null,null,null,null,null,null,null,null,null,null,null,null,null,null,null,null,null,null,null,null,null,null,null,null,null,null,null,null,null,null,null,null,null,null,null,null,null,null,null,null,0,0,0,0,0,0,0,0,0,0]
[null,null,null,null,null,null,null,null,null,null,null,null,null,null,null,null,null,null,null,null,null,null,null,null,null,null,null,null,null,null,null,null,null,null,null,null,null,null,null,null,null,null,null,null,null,null,null,null,null,null,null,null,null,null,null,null,null,null,null,null,null,null,null,null,null,0,0,0,0,0,0,0,0,0,0]
[null,null,null,null,null,null,null,null,null,null,null,null,null,null,null,null,null,null,null,null,null,null,null,null,null,null,null,null,null,null,null,null,null,null,null,null,null,null,null,null,null,null,null,null,null,null,null,null,null,null,null,null,null,null,null,null,null,null,null,null,null,null,null,null,null,0,0,0,0,0,0,0,0,0,0]
[null,null,null,null,null,null,null,null,null,null,null,null,null,null,null,null,null,null,null,null,null,null,null,null,null,null,null,null,null,null,null,null,null,null,null,null,null,null,null,null,null,null,null,null,null,null,null,null,null,null,null,null,null,null,null,null,null,null,null,null,null,null,null,null,null,0,0,0,0,0,0,0,0,0,0]
[null,null,null,null,null,null,null,null,null,null,null,null,null,null,null,null,null,null,null,null,null,null,null,null,null,null,null,null,null,null,null,null,null,null,null,null,null,null,null,null,null,null,null,null,null,null,null,null,null,null,null,null,null,null,null,null,null,null,null,null,null,null,null,null,null,0,0,0,0,0,0,0,0,0,0]
[null,null,null,null,null,null,null,null,null,null,null,null,null,null,null,null,null,null,null,null,null,null,null,null,null,null,null,null,null,null,null,null,null,null,null,null,null,null,null,null,null,null,null,null,null,null,null,null,null,null,null,null,null,null,null,null,null,null,null,null,null,null,null,null,null,0,0,0,0,0,0,0,0,0,0]
[null,null,null,null,null,null,null,null,null,null,null,null,null,null,null,null,null,null,null,null,null,null,null,null,null,null,null,null,null,null,null,null,null,null,null,null,null,null,null,null,null,null,null,null,null,null,null,null,null,null,null,null,null,null,null,null,null,null,null,null,null,null,null,null,null,0,0,0,0,0,0,0,0,0,0]
[null,null,null,null,null,null,null,null,null,null,null,null,null,null,null,null,null,null,null,null,null,null,null,null,null,null,null,null,null,null,null,null,null,null,null,null,null,null,null,null,null,null,null,null,null,null,null,null,null,null,null,null,null,null,null,null,null,null,null,null,null,null,null,null,null,0,0,0,0,0,0,0,0,0,0]
[null,null,null,null,null,null,null,null,null,null,null,null,null,null,null,null,null,null,null,null,null,null,null,null,null,null,null,null,null,null,null,null,null,null,null,null,null,null,null,null,null,null,null,null,null,null,null,null,null,null,null,null,null,null,null,null,null,null,null,null,null,null,null,null,null,0,0,0,0,0,0,0,0,0,0]
[null,null,null,null,null,null,null,null,null,null,null,null,null,null,null,null,null,null,null,null,null,null,null,null,null,null,null,null,null,null,null,null,null,null,null,null,null,null,null,null,null,null,null,null,null,null,null,null,null,null,null,null,null,null,null,null,null,null,null,null,null,null,null,null,null,0,0,0,0,0,0,0,0,0,0]
[null,null,null,null,null,null,null,null,null,null,null,null,null,null,null,null,null,null,null,null,null,null,null,null,null,null,null,null,null,null,null,null,null,null,null,null,null,null,null,null,null,null,null,null,null,null,null,null,null,null,null,null,null,null,null,null,null,null,null,null,null,null,null,null,null,0,0,0,0,0,0,0,0,0,0]
[null,null,null,null,null,null,null,null,null,null,null,null,null,null,null,null,null,null,null,null,null,null,null,null,null,null,null,null,null,null,null,null,null,null,null,null,null,null,null,null,null,null,null,null,null,null,null,null,null,null,null,null,null,null,null,null,null,null,null,null,null,null,null,null,null,0,0,0,0,0,0,0,0,0,0]
[null,null,null,null,null,null,null,null,null,null,null,null,null,null,null,null,null,null,null,null,null,null,null,null,null,null,null,null,null,null,null,null,null,null,null,null,null,null,null,null,null,null,null,null,null,null,null,null,null,null,null,null,null,null,null,null,null,null,null,null,null,null,null,null,null,0,0,0,0,0,0,0,0,0,0]
[null,null,null,null,null,null,null,null,null,null,null,null,null,null,null,null,null,null,null,null,null,null,null,null,null,null,null,null,null,null,null,null,null,null,null,null,null,null,null,null,null,null,null,null,null,null,null,null,null,null,null,null,null,null,null,null,null,null,null,null,null,null,null,null,null,0,0,0,0,0,0,0,0,0,0]
[null,null,null,null,null,null,null,null,null,null,null,null,null,null,null,null,null,null,null,null,null,null,null,null,null,null,null,null,null,null,null,null,null,null,null,null,null,null,null,null,null,null,null,null,null,null,null,null,null,null,null,null,null,null,null,null,null,null,null,null,null,null,null,null,null,0,0,0,0,0,0,0,0,0,0]
[null,null,null,null,null,null,null,null,null,null,null,null,null,null,null,null,null,null,null,null,null,null,null,null,null,null,null,null,null,null,null,null,null,null,null,null,null,null,null,null,null,null,null,null,null,null,null,null,null,null,null,null,null,null,null,null,null,null,null,null,null,null,null,null,null,0,0,0,0,0,0,0,0,0,0]
[null,null,null,null,null,null,null,null,null,null,null,null,null,null,null,null,null,null,null,null,null,null,null,null,null,null,null,null,null,null,null,null,null,null,null,null,null,null,null,null,null,null,null,null,null,null,null,null,null,null,null,null,null,null,null,null,null,null,null,null,null,null,null,null,null,0,0,0,0,0,0,0,0,0,0]
[null,null,null,null,null,null,null,null,null,null,null,null,null,null,null,null,null,null,null,null,null,null,null,null,null,null,null,null,null,null,null,null,null,null,null,null,null,null,null,null,null,null,null,null,null,null,null,null,null,null,null,null,null,null,null,null,null,null,null,null,null,null,null,null,null,0,0,0,0,0,0,0,0,0,0]
[null,null,null,null,null,null,null,null,null,null,null,null,null,null,null,null,null,null,null,null,null,null,null,null,null,null,null,null,null,null,null,null,null,null,null,null,null,null,null,null,null,null,null,null,null,null,null,null,null,null,null,null,null,null,null,null,null,null,null,null,null,null,null,null,null,0,0,0,0,0,0,0,0,0,0]
[null,null,null,null,null,null,null,null,null,null,null,null,null,null,null,null,null,null,null,null,null,null,null,null,null,null,null,null,null,null,null,null,null,null,null,null,null,null,null,null,null,null,null,null,null,null,null,null,null,null,null,null,null,null,null,null,null,null,null,null,null,null,null,null,null,0,0,0,0,0,0,0,0,0,0]
[null,null,null,null,null,null,null,null,null,null,null,null,null,null,null,null,null,null,null,null,null,null,null,null,null,null,null,null,null,null,null,null,null,null,null,null,null,null,null,null,null,null,null,null,null,null,null,null,null,null,null,null,null,null,null,null,null,null,null,null,null,null,null,null,null,0,0,0,0,0,0,0,0,0,0]
[null,null,null,null,null,null,null,null,null,null,null,null,null,null,null,null,null,null,null,null,null,null,null,null,null,null,null,null,null,null,null,null,null,null,null,null,null,null,null,null,null,null,null,null,null,null,null,null,null,null,null,null,null,null,null,null,null,null,null,null,null,null,null,null,null,0,0,0,0,0,0,0,0,0,0]
[null,null,null,null,null,null,null,null,null,null,null,null,null,null,null,null,null,null,null,null,null,null,null,null,null,null,null,null,null,null,null,null,null,null,null,null,null,null,null,null,null,null,null,null,null,null,null,null,null,null,null,null,null,null,null,null,null,null,null,null,null,null,null,null,null,0,0,0,0,0,0,0,0,0,0]
[null,null,null,null,null,null,null,null,null,null,null,null,null,null,null,null,null,null,null,null,null,null,null,null,null,null,null,null,null,null,null,null,null,null,null,null,null,null,null,null,null,null,null,null,null,null,null,null,null,null,null,null,null,null,null,null,null,null,null,null,null,null,null,null,null,0,0,0,0,0,0,0,0,0,0]
[null,null,null,null,null,null,null,null,null,null,null,null,null,null,null,null,null,null,null,null,null,null,null,null,null,null,null,null,null,null,null,null,null,null,null,null,null,null,null,null,null,null,null,null,null,null,null,null,null,null,null,null,null,null,null,null,null,null,null,null,null,null,null,null,null,0,0,0,0,0,0,0,0,0,0]
[null,null,null,null,null,null,null,null,null,null,null,null,null,null,null,null,null,null,null,null,null,null,null,null,null,null,null,null,null,null,null,null,null,null,null,null,null,null,null,null,null,null,null,null,null,null,null,null,null,null,null,null,null,null,null,null,null,null,null,null,null,null,null,null,null,0,0,0,0,0,0,0,0,0,0]
[null,null,null,null,null,null,null,null,null,null,null,null,null,null,null,null,null,null,null,null,null,null,null,null,null,null,null,null,null,null,null,null,null,null,null,null,null,null,null,null,null,null,null,null,null,null,null,null,null,null,null,null,null,null,null,null,null,null,null,null,null,null,null,null,null,0,0,0,0,0,0,0,0,0,0]
[null,null,null,null,null,null,null,null,null,null,null,null,null,null,null,null,null,null,null,null,null,null,null,null,null,null,null,null,null,null,null,null,null,null,null,null,null,null,null,null,null,null,null,null,null,null,null,null,null,null,null,null,null,null,null,null,null,null,null,null,null,null,null,null,null,0,0,0,0,0,0,0,0,0,0]
[null,null,null,null,null,null,null,null,null,null,null,null,null,null,null,null,null,null,null,null,null,null,null,null,null,null,null,null,null,null,null,null,null,null,null,null,null,null,null,null,null,null,null,null,null,null,null,null,null,null,null,null,null,null,null,null,null,null,null,null,null,null,null,null,null,0,0,0,0,0,0,0,0,0,0]
[null,null,null,null,null,null,null,null,null,null,null,null,null,null,null,null,null,null,null,null,null,null,null,null,null,null,null,null,null,null,null,null,null,null,null,null,null,null,null,null,null,null,null,null,null,null,null,null,null,null,null,null,null,null,null,null,null,null,null,null,null,null,null,null,null,0,0,0,0,0,0,0,0,0,0]
[null,null,null,null,null,null,null,null,null,null,null,null,null,null,null,null,null,null,null,null,null,null,null,null,null,null,null,null,null,null,null,null,null,null,null,null,null,null,null,null,null,null,null,null,null,null,null,null,null,null,null,null,null,null,null,null,null,null,null,null,null,null,null,null,null,0,0,0,0,0,0,0,0,0,0]
[null,null,null,null,null,null,null,null,null,null,null,null,null,null,null,null,null,null,null,null,null,null,null,null,null,null,null,null,null,null,null,null,null,null,null,null,null,null,null,null,null,null,null,null,null,null,null,null,null,null,null,null,null,null,null,null,null,null,null,null,null,null,null,null,null,0,0,0,0,0,0,0,0,0,0]
[null,null,null,null,null,null,null,null,null,null,null,null,null,null,null,null,null,null,null,null,null,null,null,null,null,null,null,null,null,null,null,null,null,null,null,null,null,null,null,null,null,null,null,null,null,null,null,null,null,null,null,null,null,null,null,null,null,null,null,null,null,null,null,null,null,0,0,0,0,0,0,0,0,0,0]
[null,null,null,null,null,null,null,null,null,null,null,null,null,null,null,null,null,null,null,null,null,null,null,null,null,null,null,null,null,null,null,null,null,null,null,null,null,null,null,null,null,null,null,null,null,null,null,null,null,null,null,null,null,null,null,null,null,null,null,null,null,null,null,null,null,0,0,0,0,0,0,0,0,0,0]
[null,null,null,null,null,null,null,null,null,null,null,null,null,null,null,null,null,null,null,null,null,null,null,null,null,null,null,null,null,null,null,null,null,null,null,null,null,null,null,null,null,null,null,null,null,null,null,null,null,null,null,null,null,null,null,null,null,null,null,null,null,null,null,null,null,0,0,0,0,0,0,0,0,0,0]
[null,null,null,null,null,null,null,null,null,null,null,null,null,null,null,null,null,null,null,null,null,null,null,null,null,null,null,null,null,null,null,null,null,null,null,null,null,null,null,null,null,null,null,null,null,null,null,null,null,null,null,null,null,null,null,null,null,null,null,null,null,null,null,null,null,0,0,0,0,0,0,0,0,0,0]
[null,null,null,null,null,null,null,null,null,null,null,null,null,null,null,null,null,null,null,null,null,null,null,null,null,null,null,null,null,null,null,null,null,null,null,null,null,null,null,null,null,null,null,null,null,null,null,null,null,null,null,null,null,null,null,null,null,null,null,null,null,null,null,null,null,0,0,0,0,0,0,0,0,0,0]
[null,null,null,null,null,null,null,null,null,null,null,null,null,null,null,null,null,null,null,null,null,null,null,null,null,null,null,null,null,null,null,null,null,null,null,null,null,null,null,null,null,null,null,null,null,null,null,null,null,null,null,null,null,null,null,null,null,null,null,null,null,null,null,null,null,0,0,0,0,0,0,0,0,0,0]
[null,null,null,null,null,null,null,null,null,null,null,null,null,null,null,null,null,null,null,null,null,null,null,null,null,null,null,null,null,null,null,null,null,null,null,null,null,null,null,null,null,null,null,null,null,null,null,null,null,null,null,null,null,null,null,null,null,null,null,null,null,null,null,null,null,0,0,0,0,0,0,0,0,0,0]
[null,null,null,null,null,null,null,null,null,null,null,null,null,null,null,null,null,null,null,null,null,null,null,null,null,null,null,null,null,null,null,null,null,null,null,null,null,null,null,null,null,null,null,null,null,null,null,null,null,null,null,null,null,null,null,null,null,null,null,null,null,{"$f":"SUM(BH121:BH450)","v":0},null,null,null,0,0,0,0,0,0,0,0,0,0]
[null,null,null,null,null,null,null,null,null,null,null,null,null,null,null,null,null,null,null,null,null,null,null,null,null,null,null,null,null,null,null,null,null,null,null,null,null,null,null,null,null,null,null,null,null,null,null,null,null,null,null,null,null,null,null,null,null,null,null,null,null,null,null,null,null,0,0,0,0,0,0,0,0,0,0]
[null,null,null,null,null,null,null,null,null,null,null,null,null,null,null,null,null,null,null,null,null,null,null,null,null,null,null,null,null,null,null,null,null,null,null,null,null,null,null,null,null,null,null,null,null,null,null,null,null,null,null,null,null,null,null,null,null,null,null,null,null,null,null,null,null,0,0,0,0,0,0,0,0,0,0]
[null,null,null,null,null,null,null,null,null,null,null,null,null,null,null,null,null,null,null,null,null,null,null,null,null,null,null,null,null,null,null,null,null,null,null,null,null,null,null,null,null,null,null,null,null,null,null,null,null,null,null,null,null,null,null,null,null,null,null,null,null,null,null,null,null,0,0,0,0,0,0,0,0,0,0]
[null,null,null,null,null,null,null,null,null,null,null,null,null,null,null,null,null,null,null,null,null,null,null,null,null,null,null,null,null,null,null,null,null,null,null,null,null,null,null,null,null,null,null,null,null,null,null,null,null,null,null,null,null,null,null,null,null,null,null,null,null,null,null,null,null,0,0,0,0,0,0,0,0,0,0]
[null,null,null,null,null,null,null,null,null,null,null,null,null,null,null,null,null,null,null,null,null,null,null,null,null,null,null,null,null,null,null,null,null,null,null,null,null,null,null,null,null,null,null,null,null,null,null,null,null,null,null,null,null,null,null,null,null,null,null,null,null,null,null,null,null,0,0,0,0,0,0,0,0,0,0]
[null,null,null,null,null,null,null,null,null,null,null,null,null,null,null,null,null,null,null,null,null,null,null,null,null,null,null,null,null,null,null,null,null,null,null,null,null,null,null,null,null,null,null,null,null,null,null,null,null,null,null,null,null,null,null,null,null,null,null,null,null,null,null,null,null,0,0,0,0,0,0,0,0,0,0]
[null,null,null,null,null,null,null,null,null,null,null,null,null,null,null,null,null,null,null,null,null,null,null,null,null,null,null,null,null,null,null,null,null,null,null,null,null,null,null,null,null,null,null,null,null,null,null,null,null,null,null,null,null,null,null,null,null,null,null,null,null,null,null,null,null,0,0,0,0,0,0,0,0,0,0]
[null,null,null,null,null,null,null,null,null,null,null,null,null,null,null,null,null,null,null,null,null,null,null,null,null,null,null,null,null,null,null,null,null,null,null,null,null,null,null,null,null,null,null,null,null,null,null,null,null,null,null,null,null,null,null,null,null,null,null,null,null,null,null,null,null,0,0,0,0,0,0,0,0,0,0]
[null,null,null,null,null,null,null,null,null,null,null,null,null,null,null,null,null,null,null,null,null,null,null,null,null,null,null,null,null,null,null,null,null,null,null,null,null,null,null,null,null,null,null,null,null,null,null,null,null,null,null,null,null,null,null,null,null,null,null,null,null,null,null,null,null,0,0,0,0,0,0,0,0,0,0]
[null,null,null,null,null,null,null,null,null,null,null,null,null,null,null,null,null,null,null,null,null,null,null,null,null,null,null,null,null,null,null,null,null,null,null,null,null,null,null,null,null,null,null,null,null,null,null,null,null,null,null,null,null,null,null,null,null,null,null,null,null,null,null,null,null,0,0,0,0,0,0,0,0,0,0]
[null,null,null,null,null,null,null,null,null,null,null,null,null,null,null,null,null,null,null,null,null,null,null,null,null,null,null,null,null,null,null,null,null,null,null,null,null,null,null,null,null,null,null,null,null,null,null,null,null,null,null,null,null,null,null,null,null,null,null,null,null,null,null,null,null,0,0,0,0,0,0,0,0,0,0]
[null,null,null,null,null,null,null,null,null,null,null,null,null,null,null,null,null,null,null,null,null,null,null,null,null,null,null,null,null,null,null,null,null,null,null,null,null,null,null,null,null,null,null,null,null,null,null,null,null,null,null,null,null,null,null,null,null,null,null,null,null,null,null,null,null,0,0,0,0,0,0,0,0,0,0]
[null,null,null,null,null,null,null,null,null,null,null,null,null,null,null,null,null,null,null,null,null,null,null,null,null,null,null,null,null,null,null,null,null,null,null,null,null,null,null,null,null,null,null,null,null,null,null,null,null,null,null,null,null,null,null,null,null,null,null,null,null,null,null,null,null,0,0,0,0,0,0,0,0,0,0]
[null,null,null,null,null,null,null,null,null,null,null,null,null,null,null,null,null,null,null,null,null,null,null,null,null,null,null,null,null,null,null,null,null,null,null,null,null,null,null,null,null,null,null,null,null,null,null,null,null,null,null,null,null,null,null,null,null,null,null,null,null,null,null,null,null,0,0,0,0,0,0,0,0,0,0]
[null,null,null,null,null,null,null,null,null,null,null,null,null,null,null,null,null,null,null,null,null,null,null,null,null,null,null,null,null,null,null,null,null,null,null,null,null,null,null,null,null,null,null,null,null,null,null,null,null,null,null,null,null,null,null,null,null,null,null,null,null,null,null,null,null,0,0,0,0,0,0,0,0,0,0]
[null,null,null,null,null,null,null,null,null,null,null,null,null,null,null,null,null,null,null,null,null,null,null,null,null,null,null,null,null,null,null,null,null,null,null,null,null,null,null,null,null,null,null,null,null,null,null,null,null,null,null,null,null,null,null,null,null,null,null,null,null,null,null,null,null,0,0,0,0,0,0,0,0,0,0]
[null,null,null,null,null,null,null,null,null,null,null,null,null,null,null,null,null,null,null,null,null,null,null,null,null,null,null,null,null,null,null,null,null,null,null,null,null,null,null,null,null,null,null,null,null,null,null,null,null,null,null,null,null,null,null,null,null,null,null,null,null,null,null,null,null,0,0,0,0,0,0,0,0,0,0]
[null,null,null,null,null,null,null,null,null,null,null,null,null,null,null,null,null,null,null,null,null,null,null,null,null,null,null,null,null,null,null,null,null,null,null,null,null,null,null,null,null,null,null,null,null,null,null,null,null,null,null,null,null,null,null,null,null,null,null,null,null,null,null,null,null,0,0,0,0,0,0,0,0,0,0]
[null,null,null,null,null,null,null,null,null,null,null,null,null,null,null,null,null,null,null,null,null,null,null,null,null,null,null,null,null,null,null,null,null,null,null,null,null,null,null,null,null,null,null,null,null,null,null,null,null,null,null,null,null,null,null,null,null,null,null,null,null,{"$f":"SUM(BH451:BH469)","v":0},null,null,null,0,0,0,0,0,0,0,0,0,0]
[null,null,null,null,null,null,null,null,null,null,null,null,null,null,null,null,null,null,null,null,null,null,null,null,null,null,null,null,null,null,null,null,null,null,null,null,null,null,null,null,null,null,null,null,null,null,null,null,null,null,null,null,null,null,null,null,null,null,null,null,null,null,null,null,null,0,0,0,0,0,0,0,0,0,0]
[null,null,null,null,null,null,null,null,null,null,null,null,null,null,null,null,null,null,null,null,null,null,null,null,null,null,null,null,null,null,null,null,null,null,null,null,null,null,null,null,null,null,null,null,null,null,null,null,null,null,null,null,null,null,null,null,null,null,null,null,null,null,null,null,null,0,0,0,0,0,0,0,0,0,0]
[null,null,null,null,null,null,null,null,null,null,null,null,null,null,null,null,null,null,null,null,null,null,null,null,null,null,null,null,null,null,null,null,null,null,null,null,null,null,null,null,null,null,null,null,null,null,null,null,null,null,null,null,null,null,null,null,null,null,null,null,null,null,null,null,null,0,0,0,0,0,0,0,0,0,0]
[null,null,null,null,null,null,null,null,null,null,null,null,null,null,null,null,null,null,null,null,null,null,null,null,null,null,null,null,null,null,null,null,null,null,null,null,null,null,null,null,null,null,null,null,null,null,null,null,null,null,null,null,null,null,null,null,null,null,null,null,null,null,null,null,null,0,0,0,0,0,0,0,0,0,0]
[null,null,null,null,null,null,null,null,null,null,null,null,null,null,null,null,null,null,null,null,null,null,null,null,null,null,null,null,null,null,null,null,null,null,null,null,null,null,null,null,null,null,null,null,null,null,null,null,null,null,null,null,null,null,null,null,null,null,null,null,null,null,null,null,null,0,0,0,0,0,0,0,0,0,0]
[null,null,null,null,null,null,null,null,null,null,null,null,null,null,null,null,null,null,null,null,null,null,null,null,null,null,null,null,null,null,null,null,null,null,null,null,null,null,null,null,null,null,null,null,null,null,null,null,null,null,null,null,null,null,null,null,null,null,null,null,null,{"$f":"SUM(BH470:BH475)","v":0},null,null,null,0,0,0,0,0,0,0,0,0,0]
[null,null,null,null,null,null,null,null,null,null,null,null,null,null,null,null,null,null,null,null,null,null,null,null,null,null,null,null,null,null,null,null,null,null,null,null,null,null,null,null,null,null,null,null,null,null,null,null,null,null,null,null,null,null,null,null,null,null,null,null,null,null,null,null,null,0,0,0,0,0,0,0,0,0,0]
[null,null,null,null,null,null,null,null,null,null,null,null,null,null,null,null,null,null,null,null,null,null,null,null,null,null,null,null,null,null,null,null,null,null,null,null,null,null,null,null,null,null,null,null,null,null,null,null,null,null,null,null,null,null,null,null,null,null,null,null,null,null,null,null,null,0,0,0,0,0,0,0,0,0,0]
[null,null,null,null,null,null,null,null,null,null,null,null,null,null,null,null,null,null,null,null,null,null,null,null,null,null,null,null,null,null,null,null,null,null,null,null,null,null,null,null,null,null,null,null,null,null,null,null,null,null,null,null,null,null,null,null,null,null,null,null,null,null,null,null,null,0,0,0,0,0,0,0,0,0,0]
[null,null,null,null,null,null,null,null,null,null,null,null,null,null,null,null,null,null,null,null,null,null,null,null,null,null,null,null,null,null,null,null,null,null,null,null,null,null,null,null,null,null,null,null,null,null,null,null,null,null,null,null,null,null,null,null,null,null,null,null,null,null,null,null,null,0,0,0,0,0,0,0,0,0,0]
[null,null,null,null,null,null,null,null,null,null,null,null,null,null,null,null,null,null,null,null,null,null,null,null,null,null,null,null,null,null,null,null,null,null,null,null,null,null,null,null,null,null,null,null,null,null,null,null,null,null,null,null,null,null,null,null,null,null,null,null,null,null,null,null,null,0,0,0,0,0,0,0,0,0,0]
[null,null,null,null,null,null,null,null,null,null,null,null,null,null,null,null,null,null,null,null,null,null,null,null,null,null,null,null,null,null,null,null,null,null,null,null,null,null,null,null,null,null,null,null,null,null,null,null,null,null,null,null,null,null,null,null,null,null,null,null,null,null,null,null,null,0,0,0,0,0,0,0,0,0,0]
[null,null,null,null,null,null,null,null,null,null,null,null,null,null,null,null,null,null,null,null,null,null,null,null,null,null,null,null,null,null,null,null,null,null,null,null,null,null,null,null,null,null,null,null,null,null,null,null,null,null,null,null,null,null,null,null,null,null,null,null,null,null,null,null,null,0,0,0,0,0,0,0,0,0,0]
[null,null,null,null,null,null,null,null,null,null,null,null,null,null,null,null,null,null,null,null,null,null,null,null,null,null,null,null,null,null,null,null,null,null,null,null,null,null,null,null,null,null,null,null,null,null,null,null,null,null,null,null,null,null,null,null,null,null,null,null,null,null,null,null,null,0,0,0,0,0,0,0,0,0,0]
[null,null,null,null,null,null,null,null,null,null,null,null,null,null,null,null,null,null,null,null,null,null,null,null,null,null,null,null,null,null,null,null,null,null,null,null,null,null,null,null,null,null,null,null,null,null,null,null,null,null,null,null,null,null,null,null,null,null,null,null,null,null,null,null,null,0,0,0,0,0,0,0,0,0,0]
[null,null,null,null,null,null,null,null,null,null,null,null,null,null,null,null,null,null,null,null,null,null,null,null,null,null,null,null,null,null,null,null,null,null,null,null,null,null,null,null,null,null,null,null,null,null,null,null,null,null,null,null,null,null,null,null,null,null,null,null,null,null,null,null,null,0,0,0,0,0,0,0,0,0,0]
[null,null,null,null,null,null,null,null,null,null,null,null,null,null,null,null,null,null,null,null,null,null,null,null,null,null,null,null,null,null,null,null,null,null,null,null,null,null,null,null,null,null,null,null,null,null,null,null,null,null,null,null,null,null,null,null,null,null,null,null,null,null,null,null,null,0,0,0,0,0,0,0,0,0,0]
[null,null,null,null,null,null,null,null,null,null,null,null,null,null,null,null,null,null,null,null,null,null,null,null,null,null,null,null,null,null,null,null,null,null,null,null,null,null,null,null,null,null,null,null,null,null,null,null,null,null,null,null,null,null,null,null,null,null,null,null,null,null,null,null,null,0,0,0,0,0,0,0,0,0,0]
[null,null,null,null,null,null,null,null,null,null,null,null,null,null,null,null,null,null,null,null,null,null,null,null,null,null,null,null,null,null,null,null,null,null,null,null,null,null,null,null,null,null,null,null,null,null,null,null,null,null,null,null,null,null,null,null,null,null,null,null,null,null,null,null,null,0,0,0,0,0,0,0,0,0,0]
[null,null,null,null,null,null,null,null,null,null,null,null,null,null,null,null,null,null,null,null,null,null,null,null,null,null,null,null,null,null,null,null,null,null,null,null,null,null,null,null,null,null,null,null,null,null,null,null,null,null,null,null,null,null,null,null,null,null,null,null,null,null,null,null,null,0,0,0,0,0,0,0,0,0,0]
[null,null,null,null,null,null,null,null,null,null,null,null,null,null,null,null,null,null,null,null,null,null,null,null,null,null,null,null,null,null,null,null,null,null,null,null,null,null,null,null,null,null,null,null,null,null,null,null,null,null,null,null,null,null,null,null,null,null,null,null,null,null,null,null,null,0,0,0,0,0,0,0,0,0,0]
[null,null,null,null,null,null,null,null,null,null,null,null,null,null,null,null,null,null,null,null,null,null,null,null,null,null,null,null,null,null,null,null,null,null,null,null,null,null,null,null,null,null,null,null,null,null,null,null,null,null,null,null,null,null,null,null,null,null,null,null,null,null,null,null,null,0,0,0,0,0,0,0,0,0,0]
[null,null,null,null,null,null,null,null,null,null,null,null,null,null,null,null,null,null,null,null,null,null,null,null,null,null,null,null,null,null,null,null,null,null,null,null,null,null,null,null,null,null,null,null,null,null,null,null,null,null,null,null,null,null,null,null,null,null,null,null,null,null,null,null,null,0,0,0,0,0,0,0,0,0,0]
[null,null,null,null,null,null,null,null,null,null,null,null,null,null,null,null,null,null,null,null,null,null,null,null,null,null,null,null,null,null,null,null,null,null,null,null,null,null,null,null,null,null,null,null,null,null,null,null,null,null,null,null,null,null,null,null,null,null,null,null,null,{"$f":"SUM(BH477:BH493)","v":0},null,null,null,0,0,0,0,0,0,0,0,0,0]
[null,null,null,null,null,null,null,null,null,null,null,null,null,null,null,null,null,null,null,null,null,null,null,null,null,null,null,null,null,null,null,null,null,null,null,null,null,null,null,null,null,null,null,null,null,null,null,null,null,null,null,null,null,null,null,null,null,null,null,null,null,null,null,null,null,0,0,0,0,0,0,0,0,0,0]
[null,null,null,null,null,null,null,null,null,null,null,null,null,null,null,null,null,null,null,null,null,null,null,null,null,null,null,null,null,null,null,null,null,null,null,null,null,null,null,null,null,null,null,null,null,null,null,null,null,null,null,null,null,null,null,null,null,null,null,null,null,null,null,null,null,0,0,0,0,0,0,0,0,0,0]
[null,null,null,null,null,null,null,null,null,null,null,null,null,null,null,null,null,null,null,null,null,null,null,null,null,null,null,null,null,null,null,null,null,null,null,null,null,null,null,null,null,null,null,null,null,null,null,null,null,null,null,null,null,null,null,null,null,null,null,null,null,null,null,null,null,0,0,0,0,0,0,0,0,0,0]
[null,null,null,null,null,null,null,null,null,null,null,null,null,null,null,null,null,null,null,null,null,null,null,null,null,null,null,null,null,null,null,null,null,null,null,null,null,null,null,null,null,null,null,null,null,null,null,null,null,null,null,null,null,null,null,null,null,null,null,null,null,null,null,null,null,0,0,0,0,0,0,0,0,0,0]
[null,null,null,null,null,null,null,null,null,null,null,null,null,null,null,null,null,null,null,null,null,null,null,null,null,null,null,null,null,null,null,null,null,null,null,null,null,null,null,null,null,null,null,null,null,null,null,null,null,null,null,null,null,null,null,null,null,null,null,null,null,null,null,null,null,0,0,0,0,0,0,0,0,0,0]
[null,null,null,null,null,null,null,null,null,null,null,null,null,null,null,null,null,null,null,null,null,null,null,null,null,null,null,null,null,null,null,null,null,null,null,null,null,null,null,null,null,null,null,null,null,null,null,null,null,null,null,null,null,null,null,null,null,null,null,null,null,null,null,null,null,0,0,0,0,0,0,0,0,0,0]
[null,null,null,null,null,null,null,null,null,null,null,null,null,null,null,null,null,null,null,null,null,null,null,null,null,null,null,null,null,null,null,null,null,null,null,null,null,null,null,null,null,null,null,null,null,null,null,null,null,null,null,null,null,null,null,null,null,null,null,null,null,null,null,null,null,0,0,0,0,0,0,0,0,0,0]
[null,null,null,null,null,null,null,null,null,null,null,null,null,null,null,null,null,null,null,null,null,null,null,null,null,null,null,null,null,null,null,null,null,null,null,null,null,null,null,null,null,null,null,null,null,null,null,null,null,null,null,null,null,null,null,null,null,null,null,null,null,null,null,null,null,0,0,0,0,0,0,0,0,0,0]
[null,null,null,null,null,null,null,null,null,null,null,null,null,null,null,null,null,null,null,null,null,null,null,null,null,null,null,null,null,null,null,null,null,null,null,null,null,null,null,null,null,null,null,null,null,null,null,null,null,null,null,null,null,null,null,null,null,null,null,null,null,null,null,null,null,0,0,0,0,0,0,0,0,0,0]
[null,null,null,null,null,null,null,null,null,null,null,null,null,null,null,null,null,null,null,null,null,null,null,null,null,null,null,null,null,null,null,null,null,null,null,null,null,null,null,null,null,null,null,null,null,null,null,null,null,null,null,null,null,null,null,null,null,null,null,null,null,null,null,null,null,0,0,0,0,0,0,0,0,0,0]
[null,null,null,null,null,null,null,null,null,null,null,null,null,null,null,null,null,null,null,null,null,null,null,null,null,null,null,null,null,null,null,null,null,null,null,null,null,null,null,null,null,null,null,null,null,null,null,null,null,null,null,null,null,null,null,null,null,null,null,null,null,null,null,null,null,0,0,0,0,0,0,0,0,0,0]
[null,null,null,null,null,null,null,null,null,null,null,null,null,null,null,null,null,null,null,null,null,null,null,null,null,null,null,null,null,null,null,null,null,null,null,null,null,null,null,null,null,null,null,null,null,null,null,null,null,null,null,null,null,null,null,null,null,null,null,null,null,null,null,null,null,0,0,0,0,0,0,0,0,0,0]
[null,null,null,null,null,null,null,null,null,null,null,null,null,null,null,null,null,null,null,null,null,null,null,null,null,null,null,null,null,null,null,null,null,null,null,null,null,null,null,null,null,null,null,null,null,null,null,null,null,null,null,null,null,null,null,null,null,null,null,null,null,null,null,null,null,0,0,0,0,0,0,0,0,0,0]
[null,null,null,null,null,null,null,null,null,null,null,null,null,null,null,null,null,null,null,null,null,null,null,null,null,null,null,null,null,null,null,null,null,null,null,null,null,null,null,null,null,null,null,null,null,null,null,null,null,null,null,null,null,null,null,null,null,null,null,null,null,null,null,null,null,0,0,0,0,0,0,0,0,0,0]
[null,null,null,null,null,null,null,null,null,null,null,null,null,null,null,null,null,null,null,null,null,null,null,null,null,null,null,null,null,null,null,null,null,null,null,null,null,null,null,null,null,null,null,null,null,null,null,null,null,null,null,null,null,null,null,null,null,null,null,null,null,null,null,null,null,0,0,0,0,0,0,0,0,0,0]
[null,null,null,null,null,null,null,null,null,null,null,null,null,null,null,null,null,null,null,null,null,null,null,null,null,null,null,null,null,null,null,null,null,null,null,null,null,null,null,null,null,null,null,null,null,null,null,null,null,null,null,null,null,null,null,null,null,null,null,null,null,null,null,null,null,0,0,0,0,0,0,0,0,0,0]
[null,null,null,null,null,null,null,null,null,null,null,null,null,null,null,null,null,null,null,null,null,null,null,null,null,null,null,null,null,null,null,null,null,null,null,null,null,null,null,null,null,null,null,null,null,null,null,null,null,null,null,null,null,null,null,null,null,null,null,null,null,null,null,null,null,0,0,0,0,0,0,0,0,0,0]
[null,null,null,null,null,null,null,null,null,null,null,null,null,null,null,null,null,null,null,null,null,null,null,null,null,null,null,null,null,null,null,null,null,null,null,null,null,null,null,null,null,null,null,null,null,null,null,null,null,null,null,null,null,null,null,null,null,null,null,null,null,null,null,null,null,0,0,0,0,0,0,0,0,0,0]
[null,null,null,null,null,null,null,null,null,null,null,null,null,null,null,null,null,null,null,null,null,null,null,null,null,null,null,null,null,null,null,null,null,null,null,null,null,null,null,null,null,null,null,null,null,null,null,null,null,null,null,null,null,null,null,null,null,null,null,null,null,null,null,null,null,0,0,0,0,0,0,0,0,0,0]
[null,null,null,null,null,null,null,null,null,null,null,null,null,null,null,null,null,null,null,null,null,null,null,null,null,null,null,null,null,null,null,null,null,null,null,null,null,null,null,null,null,null,null,null,null,null,null,null,null,null,null,null,null,null,null,null,null,null,null,null,null,null,null,null,null,0,0,0,0,0,0,0,0,0,0]
[null,null,null,null,null,null,null,null,null,null,null,null,null,null,null,null,null,null,null,null,null,null,null,null,null,null,null,null,null,null,null,null,null,null,null,null,null,null,null,null,null,null,null,null,null,null,null,null,null,null,null,null,null,null,null,null,null,null,null,null,null,null,null,null,null,0,0,0,0,0,0,0,0,0,0]
[null,null,null,null,null,null,null,null,null,null,null,null,null,null,null,null,null,null,null,null,null,null,null,null,null,null,null,null,null,null,null,null,null,null,null,null,null,null,null,null,null,null,null,null,null,null,null,null,null,null,null,null,null,null,null,null,null,null,null,null,null,null,null,null,null,0,0,0,0,0,0,0,0,0,0]
[null,null,null,null,null,null,null,null,null,null,null,null,null,null,null,null,null,null,null,null,null,null,null,null,null,null,null,null,null,null,null,null,null,null,null,null,null,null,null,null,null,null,null,null,null,null,null,null,null,null,null,null,null,null,null,null,null,null,null,null,null,null,null,null,null,0,0,0,0,0,0,0,0,0,0]
[null,null,null,null,null,null,null,null,null,null,null,null,null,null,null,null,null,null,null,null,null,null,null,null,null,null,null,null,null,null,null,null,null,null,null,null,null,null,null,null,null,null,null,null,null,null,null,null,null,null,null,null,null,null,null,null,null,null,null,null,null,null,null,null,null,0,0,0,0,0,0,0,0,0,0]
[null,null,null,null,null,null,null,null,null,null,null,null,null,null,null,null,null,null,null,null,null,null,null,null,null,null,null,null,null,null,null,null,null,null,null,null,null,null,null,null,null,null,null,null,null,null,null,null,null,null,null,null,null,null,null,null,null,null,null,null,null,null,null,null,null,0,0,0,0,0,0,0,0,0,0]
[null,null,null,null,null,null,null,null,null,null,null,null,null,null,null,null,null,null,null,null,null,null,null,null,null,null,null,null,null,null,null,null,null,null,null,null,null,null,null,null,null,null,null,null,null,null,null,null,null,null,null,null,null,null,null,null,null,null,null,null,null,null,null,null,null,0,0,0,0,0,0,0,0,0,0]
[null,null,null,null,null,null,null,null,null,null,null,null,null,null,null,null,null,null,null,null,null,null,null,null,null,null,null,null,null,null,null,null,null,null,null,null,null,null,null,null,null,null,null,null,null,null,null,null,null,null,null,null,null,null,null,null,null,null,null,null,null,null,null,null,null,0,0,0,0,0,0,0,0,0,0]
[null,null,null,null,null,null,null,null,null,null,null,null,null,null,null,null,null,null,null,null,null,null,null,null,null,null,null,null,null,null,null,null,null,null,null,null,null,null,null,null,null,null,null,null,null,null,null,null,null,null,null,null,null,null,null,null,null,null,null,null,null,null,null,null,null,0,0,0,0,0,0,0,0,0,0]
[null,null,null,null,null,null,null,null,null,null,null,null,null,null,null,null,null,null,null,null,null,null,null,null,null,null,null,null,null,null,null,null,null,null,null,null,null,null,null,null,null,null,null,null,null,null,null,null,null,null,null,null,null,null,null,null,null,null,null,null,null,null,null,null,null,0,0,0,0,0,0,0,0,0,0]
[null,null,null,null,null,null,null,null,null,null,null,null,null,null,null,null,null,null,null,null,null,null,null,null,null,null,null,null,null,null,null,null,null,null,null,null,null,null,null,null,null,null,null,null,null,null,null,null,null,null,null,null,null,null,null,null,null,null,null,null,null,null,null,null,null,0,0,0,0,0,0,0,0,0,0]
[null,null,null,null,null,null,null,null,null,null,null,null,null,null,null,null,null,null,null,null,null,null,null,null,null,null,null,null,null,null,null,null,null,null,null,null,null,null,null,null,null,null,null,null,null,null,null,null,null,null,null,null,null,null,null,null,null,null,null,null,null,null,null,null,null,0,0,0,0,0,0,0,0,0,0]
[null,null,null,null,null,null,null,null,null,null,null,null,null,null,null,null,null,null,null,null,null,null,null,null,null,null,null,null,null,null,null,null,null,null,null,null,null,null,null,null,null,null,null,null,null,null,null,null,null,null,null,null,null,null,null,null,null,null,null,null,null,null,null,null,null,0,0,0,0,0,0,0,0,0,0]
[null,null,null,null,null,null,null,null,null,null,null,null,null,null,null,null,null,null,null,null,null,null,null,null,null,null,null,null,null,null,null,null,null,null,null,null,null,null,null,null,null,null,null,null,null,null,null,null,null,null,null,null,null,null,null,null,null,null,null,null,null,null,null,null,null,0,0,0,0,0,0,0,0,0,0]
[null,null,null,null,null,null,null,null,null,null,null,null,null,null,null,null,null,null,null,null,null,null,null,null,null,null,null,null,null,null,null,null,null,null,null,null,null,null,null,null,null,null,null,null,null,null,null,null,null,null,null,null,null,null,null,null,null,null,null,null,null,null,null,null,null,0,0,0,0,0,0,0,0,0,0]
[null,null,null,null,null,null,null,null,null,null,null,null,null,null,null,null,null,null,null,null,null,null,null,null,null,null,null,null,null,null,null,null,null,null,null,null,null,null,null,null,null,null,null,null,null,null,null,null,null,null,null,null,null,null,null,null,null,null,null,null,null,null,null,null,null,0,0,0,0,0,0,0,0,0,0]
[null,null,null,null,null,null,null,null,null,null,null,null,null,null,null,null,null,null,null,null,null,null,null,null,null,null,null,null,null,null,null,null,null,null,null,null,null,null,null,null,null,null,null,null,null,null,null,null,null,null,null,null,null,null,null,null,null,null,null,null,null,null,null,null,null,0,0,0,0,0,0,0,0,0,0]
[null,null,null,null,null,null,null,null,null,null,null,null,null,null,null,null,null,null,null,null,null,null,null,null,null,null,null,null,null,null,null,null,null,null,null,null,null,null,null,null,null,null,null,null,null,null,null,null,null,null,null,null,null,null,null,null,null,null,null,null,null,null,null,null,null,0,0,0,0,0,0,0,0,0,0]
[null,null,null,null,null,null,null,null,null,null,null,null,null,null,null,null,null,null,null,null,null,null,null,null,null,null,null,null,null,null,null,null,null,null,null,null,null,null,null,null,null,null,null,null,null,null,null,null,null,null,null,null,null,null,null,null,null,null,null,null,null,null,null,null,null,0,0,0,0,0,0,0,0,0,0]
[null,null,null,null,null,null,null,null,null,null,null,null,null,null,null,null,null,null,null,null,null,null,null,null,null,null,null,null,null,null,null,null,null,null,null,null,null,null,null,null,null,null,null,null,null,null,null,null,null,null,null,null,null,null,null,null,null,null,null,null,null,null,null,null,null,0,0,0,0,0,0,0,0,0,0]
[null,null,null,null,null,null,null,null,null,null,null,null,null,null,null,null,null,null,null,null,null,null,null,null,null,null,null,null,null,null,null,null,null,null,null,null,null,null,null,null,null,null,null,null,null,null,null,null,null,null,null,null,null,null,null,null,null,null,null,null,null,null,null,null,null,0,0,0,0,0,0,0,0,0,0]
[null,null,null,null,null,null,null,null,null,null,null,null,null,null,null,null,null,null,null,null,null,null,null,null,null,null,null,null,null,null,null,null,null,null,null,null,null,null,null,null,null,null,null,null,null,null,null,null,null,null,null,null,null,null,null,null,null,null,null,null,null,null,null,null,null,0,0,0,0,0,0,0,0,0,0]
[null,null,null,null,null,null,null,null,null,null,null,null,null,null,null,null,null,null,null,null,null,null,null,null,null,null,null,null,null,null,null,null,null,null,null,null,null,null,null,null,null,null,null,null,null,null,null,null,null,null,null,null,null,null,null,null,null,null,null,null,null,null,null,null,null,0,0,0,0,0,0,0,0,0,0]
[null,null,null,null,null,null,null,null,null,null,null,null,null,null,null,null,null,null,null,null,null,null,null,null,null,null,null,null,null,null,null,null,null,null,null,null,null,null,null,null,null,null,null,null,null,null,null,null,null,null,null,null,null,null,null,null,null,null,null,null,null,null,null,null,null,0,0,0,0,0,0,0,0,0,0]
[null,null,null,null,null,null,null,null,null,null,null,null,null,null,null,null,null,null,null,null,null,null,null,null,null,null,null,null,null,null,null,null,null,null,null,null,null,null,null,null,null,null,null,null,null,null,null,null,null,null,null,null,null,null,null,null,null,null,null,null,null,null,null,null,null,0,0,0,0,0,0,0,0,0,0]
[null,null,null,null,null,null,null,null,null,null,null,null,null,null,null,null,null,null,null,null,null,null,null,null,null,null,null,null,null,null,null,null,null,null,null,null,null,null,null,null,null,null,null,null,null,null,null,null,null,null,null,null,null,null,null,null,null,null,null,null,null,null,null,null,null,0,0,0,0,0,0,0,0,0,0]
[null,null,null,null,null,null,null,null,null,null,null,null,null,null,null,null,null,null,null,null,null,null,null,null,null,null,null,null,null,null,null,null,null,null,null,null,null,null,null,null,null,null,null,null,null,null,null,null,null,null,null,null,null,null,null,null,null,null,null,null,null,null,null,null,null,0,0,0,0,0,0,0,0,0,0]
[null,null,null,null,null,null,null,null,null,null,null,null,null,null,null,null,null,null,null,null,null,null,null,null,null,null,null,null,null,null,null,null,null,null,null,null,null,null,null,null,null,null,null,null,null,null,null,null,null,null,null,null,null,null,null,null,null,null,null,null,null,null,null,null,null,0,0,0,0,0,0,0,0,0,0]
[null,null,null,null,null,null,null,null,null,null,null,null,null,null,null,null,null,null,null,null,null,null,null,null,null,null,null,null,null,null,null,null,null,null,null,null,null,null,null,null,null,null,null,null,null,null,null,null,null,null,null,null,null,null,null,null,null,null,null,null,null,null,null,null,null,0,0,0,0,0,0,0,0,0,0]
[null,null,null,null,null,null,null,null,null,null,null,null,null,null,null,null,null,null,null,null,null,null,null,null,null,null,null,null,null,null,null,null,null,null,null,null,null,null,null,null,null,null,null,null,null,null,null,null,null,null,null,null,null,null,null,null,null,null,null,null,null,null,null,null,null,0,0,0,0,0,0,0,0,0,0]
[null,null,null,null,null,null,null,null,null,null,null,null,null,null,null,null,null,null,null,null,null,null,null,null,null,null,null,null,null,null,null,null,null,null,null,null,null,null,null,null,null,null,null,null,null,null,null,null,null,null,null,null,null,null,null,null,null,null,null,null,null,null,null,null,null,0,0,0,0,0,0,0,0,0,0]
[null,null,null,null,null,null,null,null,null,null,null,null,null,null,null,null,null,null,null,null,null,null,null,null,null,null,null,null,null,null,null,null,null,null,null,null,null,null,null,null,null,null,null,null,null,null,null,null,null,null,null,null,null,null,null,null,null,null,null,null,null,null,null,null,null,0,0,0,0,0,0,0,0,0,0]
[null,null,null,null,null,null,null,null,null,null,null,null,null,null,null,null,null,null,null,null,null,null,null,null,null,null,null,null,null,null,null,null,null,null,null,null,null,null,null,null,null,null,null,null,null,null,null,null,null,null,null,null,null,null,null,null,null,null,null,null,null,null,null,null,null,0,0,0,0,0,0,0,0,0,0]
[null,null,null,null,null,null,null,null,null,null,null,null,null,null,null,null,null,null,null,null,null,null,null,null,null,null,null,null,null,null,null,null,null,null,null,null,null,null,null,null,null,null,null,null,null,null,null,null,null,null,null,null,null,null,null,null,null,null,null,null,null,null,null,null,null,0,0,0,0,0,0,0,0,0,0]
[null,null,null,null,null,null,null,null,null,null,null,null,null,null,null,null,null,null,null,null,null,null,null,null,null,null,null,null,null,null,null,null,null,null,null,null,null,null,null,null,null,null,null,null,null,null,null,null,null,null,null,null,null,null,null,null,null,null,null,null,null,null,null,null,null,0,0,0,0,0,0,0,0,0,0]
[null,null,null,null,null,null,null,null,null,null,null,null,null,null,null,null,null,null,null,null,null,null,null,null,null,null,null,null,null,null,null,null,null,null,null,null,null,null,null,null,null,null,null,null,null,null,null,null,null,null,null,null,null,null,null,null,null,null,null,null,null,null,null,null,null,0,0,0,0,0,0,0,0,0,0]
[null,null,null,null,null,null,null,null,null,null,null,null,null,null,null,null,null,null,null,null,null,null,null,null,null,null,null,null,null,null,null,null,null,null,null,null,null,null,null,null,null,null,null,null,null,null,null,null,null,null,null,null,null,null,null,null,null,null,null,null,null,null,null,null,null,0,0,0,0,0,0,0,0,0,0]
[null,null,null,null,null,null,null,null,null,null,null,null,null,null,null,null,null,null,null,null,null,null,null,null,null,null,null,null,null,null,null,null,null,null,null,null,null,null,null,null,null,null,null,null,null,null,null,null,null,null,null,null,null,null,null,null,null,null,null,null,null,null,null,null,null,0,0,0,0,0,0,0,0,0,0]
[null,null,null,null,null,null,null,null,null,null,null,null,null,null,null,null,null,null,null,null,null,null,null,null,null,null,null,null,null,null,null,null,null,null,null,null,null,null,null,null,null,null,null,null,null,null,null,null,null,null,null,null,null,null,null,null,null,null,null,null,null,null,null,null,null,0,0,0,0,0,0,0,0,0,0]
[null,null,null,null,null,null,null,null,null,null,null,null,null,null,null,null,null,null,null,null,null,null,null,null,null,null,null,null,null,null,null,null,null,null,null,null,null,null,null,null,null,null,null,null,null,null,null,null,null,null,null,null,null,null,null,null,null,null,null,null,null,null,null,null,null,0,0,0,0,0,0,0,0,0,0]
[null,null,null,null,null,null,null,null,null,null,null,null,null,null,null,null,null,null,null,null,null,null,null,null,null,null,null,null,null,null,null,null,null,null,null,null,null,null,null,null,null,null,null,null,null,null,null,null,null,null,null,null,null,null,null,null,null,null,null,null,null,null,null,null,null,0,0,0,0,0,0,0,0,0,0]
[null,null,null,null,null,null,null,null,null,null,null,null,null,null,null,null,null,null,null,null,null,null,null,null,null,null,null,null,null,null,null,null,null,null,null,null,null,null,null,null,null,null,null,null,null,null,null,null,null,null,null,null,null,null,null,null,null,null,null,null,null,null,null,null,null,0,0,0,0,0,0,0,0,0,0]
[null,null,null,null,null,null,null,null,null,null,null,null,null,null,null,null,null,null,null,null,null,null,null,null,null,null,null,null,null,null,null,null,null,null,null,null,null,null,null,null,null,null,null,null,null,null,null,null,null,null,null,null,null,null,null,null,null,null,null,null,null,null,null,null,null,0,0,0,0,0,0,0,0,0,0]
[null,null,null,null,null,null,null,null,null,null,null,null,null,null,null,null,null,null,null,null,null,null,null,null,null,null,null,null,null,null,null,null,null,null,null,null,null,null,null,null,null,null,null,null,null,null,null,null,null,null,null,null,null,null,null,null,null,null,null,null,null,null,null,null,null,0,0,0,0,0,0,0,0,0,0]
[null,null,null,null,null,null,null,null,null,null,null,null,null,null,null,null,null,null,null,null,null,null,null,null,null,null,null,null,null,null,null,null,null,null,null,null,null,null,null,null,null,null,null,null,null,null,null,null,null,null,null,null,null,null,null,null,null,null,null,null,null,null,null,null,null,0,0,0,0,0,0,0,0,0,0]
[null,null,null,null,null,null,null,null,null,null,null,null,null,null,null,null,null,null,null,null,null,null,null,null,null,null,null,null,null,null,null,null,null,null,null,null,null,null,null,null,null,null,null,null,null,null,null,null,null,null,null,null,null,null,null,null,null,null,null,null,null,null,null,null,null,0,0,0,0,0,0,0,0,0,0]
[null,null,null,null,null,null,null,null,null,null,null,null,null,null,null,null,null,null,null,null,null,null,null,null,null,null,null,null,null,null,null,null,null,null,null,null,null,null,null,null,null,null,null,null,null,null,null,null,null,null,null,null,null,null,null,null,null,null,null,null,null,null,null,null,null,0,0,0,0,0,0,0,0,0,0]
[null,null,null,null,null,null,null,null,null,null,null,null,null,null,null,null,null,null,null,null,null,null,null,null,null,null,null,null,null,null,null,null,null,null,null,null,null,null,null,null,null,null,null,null,null,null,null,null,null,null,null,null,null,null,null,null,null,null,null,null,null,null,null,null,null,0,0,0,0,0,0,0,0,0,0]
[null,null,null,null,null,null,null,null,null,null,null,null,null,null,null,null,null,null,null,null,null,null,null,null,null,null,null,null,null,null,null,null,null,null,null,null,null,null,null,null,null,null,null,null,null,null,null,null,null,null,null,null,null,null,null,null,null,null,null,null,null,null,null,null,null,0,0,0,0,0,0,0,0,0,0]
[null,null,null,null,null,null,null,null,null,null,null,null,null,null,null,null,null,null,null,null,null,null,null,null,null,null,null,null,null,null,null,null,null,null,null,null,null,null,null,null,null,null,null,null,null,null,null,null,null,null,null,null,null,null,null,null,null,null,null,null,null,null,null,null,null,0,0,0,0,0,0,0,0,0,0]
[null,null,null,null,null,null,null,null,null,null,null,null,null,null,null,null,null,null,null,null,null,null,null,null,null,null,null,null,null,null,null,null,null,null,null,null,null,null,null,null,null,null,null,null,null,null,null,null,null,null,null,null,null,null,null,null,null,null,null,null,null,{"$f":"SUM(BH494:BH563)","v":0},null,null,null,0,0,0,0,0,0,0,0,0,0]
[null,null,null,null,null,null,null,null,null,null,null,null,null,null,null,null,null,null,null,null,null,null,null,null,null,null,null,null,null,null,null,null,null,null,null,null,null,null,null,null,null,null,null,null,null,null,null,null,null,null,null,null,null,null,null,null,null,null,null,null,null,null,null,null,null,0,0,0,0,0,0,0,0,0,0]
[null,null,null,null,null,null,null,null,null,null,null,null,null,null,null,null,null,null,null,null,null,null,null,null,null,null,null,null,null,null,null,null,null,null,null,null,null,null,null,null,null,null,null,null,null,null,null,null,null,null,null,null,null,null,null,null,null,null,null,null,null,null,null,null,null,0,0,0,0,0,0,0,0,0,0]
[null,null,null,null,null,null,null,null,null,null,null,null,null,null,null,null,null,null,null,null,null,null,null,null,null,null,null,null,null,null,null,null,null,null,null,null,null,null,null,null,null,null,null,null,null,null,null,null,null,null,null,null,null,null,null,null,null,null,null,null,null,null,null,null,null,0,0,0,0,0,0,0,0,0,0]
[null,null,null,null,null,null,null,null,null,null,null,null,null,null,null,null,null,null,null,null,null,null,null,null,null,null,null,null,null,null,null,null,null,null,null,null,null,null,null,null,null,null,null,null,null,null,null,null,null,null,null,null,null,null,null,null,null,null,null,null,null,null,null,null,null,0,0,0,0,0,0,0,0,0,0]
[null,null,null,null,null,null,null,null,null,null,null,null,null,null,null,null,null,null,null,null,null,null,null,null,null,null,null,null,null,null,null,null,null,null,null,null,null,null,null,null,null,null,null,null,null,null,null,null,null,null,null,null,null,null,null,null,null,null,null,null,null,null,null,null,null,0,0,0,0,0,0,0,0,0,0]
[null,null,null,null,null,null,null,null,null,null,null,null,null,null,null,null,null,null,null,null,null,null,null,null,null,null,null,null,null,null,null,null,null,null,null,null,null,null,null,null,null,null,null,null,null,null,null,null,null,null,null,null,null,null,null,null,null,null,null,null,null,null,null,null,null,0,0,0,0,0,0,0,0,0,0]
[null,null,null,null,null,null,null,null,null,null,null,null,null,null,null,null,null,null,null,null,null,null,null,null,null,null,null,null,null,null,null,null,null,null,null,null,null,null,null,null,null,null,null,null,null,null,null,null,null,null,null,null,null,null,null,null,null,null,null,null,null,null,null,null,null,0,0,0,0,0,0,0,0,0,0]
[null,null,null,null,null,null,null,null,null,null,null,null,null,null,null,null,null,null,null,null,null,null,null,null,null,null,null,null,null,null,null,null,null,null,null,null,null,null,null,null,null,null,null,null,null,null,null,null,null,null,null,null,null,null,null,null,null,null,null,null,null,null,null,null,null,0,0,0,0,0,0,0,0,0,0]
[null,null,null,null,null,null,null,null,null,null,null,null,null,null,null,null,null,null,null,null,null,null,null,null,null,null,null,null,null,null,null,null,null,null,null,null,null,null,null,null,null,null,null,null,null,null,null,null,null,null,null,null,null,null,null,null,null,null,null,null,null,null,null,null,null,0,0,0,0,0,0,0,0,0,0]
[null,null,null,null,null,null,null,null,null,null,null,null,null,null,null,null,null,null,null,null,null,null,null,null,null,null,null,null,null,null,null,null,null,null,null,null,null,null,null,null,null,null,null,null,null,null,null,null,null,null,null,null,null,null,null,null,null,null,null,null,null,null,null,null,null,0,0,0,0,0,0,0,0,0,0]
[null,null,null,null,null,null,null,null,null,null,null,null,null,null,null,null,null,null,null,null,null,null,null,null,null,null,null,null,null,null,null,null,null,null,null,null,null,null,null,null,null,null,null,null,null,null,null,null,null,null,null,null,null,null,null,null,null,null,null,null,null,null,null,null,null,0,0,0,0,0,0,0,0,0,0]
[null,null,null,null,null,null,null,null,null,null,null,null,null,null,null,null,null,null,null,null,null,null,null,null,null,null,null,null,null,null,null,null,null,null,null,null,null,null,null,null,null,null,null,null,null,null,null,null,null,null,null,null,null,null,null,null,null,null,null,null,null,null,null,null,null,0,0,0,0,0,0,0,0,0,0]
[null,null,null,null,null,null,null,null,null,null,null,null,null,null,null,null,null,null,null,null,null,null,null,null,null,null,null,null,null,null,null,null,null,null,null,null,null,null,null,null,null,null,null,null,null,null,null,null,null,null,null,null,null,null,null,null,null,null,null,null,null,null,null,null,null,0,0,0,0,0,0,0,0,0,0]
[null,null,null,null,null,null,null,null,null,null,null,null,null,null,null,null,null,null,null,null,null,null,null,null,null,null,null,null,null,null,null,null,null,null,null,null,null,null,null,null,null,null,null,null,null,null,null,null,null,null,null,null,null,null,null,null,null,null,null,null,null,{"$f":"SUM(BH564:BH577)","v":0},null,null,null,0,0,0,0,0,0,0,0,0,0]
[null,null,null,null,null,null,null,null,null,null,null,null,null,null,null,null,null,null,null,null,null,null,null,null,null,null,null,null,null,null,null,null,null,null,null,null,null,null,null,null,null,null,null,null,null,null,null,null,null,null,null,null,null,null,null,null,null,null,null,null,null,null,null,null,null,0,0,0,0,0,0,0,0,0,0]
[null,null,null,null,null,null,null,null,null,null,null,null,null,null,null,null,null,null,null,null,null,null,null,null,null,null,null,null,null,null,null,null,null,null,null,null,null,null,null,null,null,null,null,null,null,null,null,null,null,null,null,null,null,null,null,null,null,null,null,null,null,null,null,null,null,0,0,0,0,0,0,0,0,0,0]
[null,null,null,null,null,null,null,null,null,null,null,null,null,null,null,null,null,null,null,null,null,null,null,null,null,null,null,null,null,null,null,null,null,null,null,null,null,null,null,null,null,null,null,null,null,null,null,null,null,null,null,null,null,null,null,null,null,null,null,null,null,null,null,null,null,0,0,0,0,0,0,0,0,0,0]
[null,null,null,null,null,null,null,null,null,null,null,null,null,null,null,null,null,null,null,null,null,null,null,null,null,null,null,null,null,null,null,null,null,null,null,null,null,null,null,null,null,null,null,null,null,null,null,null,null,null,null,null,null,null,null,null,null,null,null,null,null,null,null,null,null,0,0,0,0,0,0,0,0,0,0]
[null,null,null,null,null,null,null,null,null,null,null,null,null,null,null,null,null,null,null,null,null,null,null,null,null,null,null,null,null,null,null,null,null,null,null,null,null,null,null,null,null,null,null,null,null,null,null,null,null,null,null,null,null,null,null,null,null,null,null,null,null,null,null,null,null,0,0,0,0,0,0,0,0,0,0]
[null,null,null,null,null,null,null,null,null,null,null,null,null,null,null,null,null,null,null,null,null,null,null,null,null,null,null,null,null,null,null,null,null,null,null,null,null,null,null,null,null,null,null,null,null,null,null,null,null,null,null,null,null,null,null,null,null,null,null,null,null,null,null,null,null,0,0,0,0,0,0,0,0,0,0]
[null,null,null,null,null,null,null,null,null,null,null,null,null,null,null,null,null,null,null,null,null,null,null,null,null,null,null,null,null,null,null,null,null,null,null,null,null,null,null,null,null,null,null,null,null,null,null,null,null,null,null,null,null,null,null,null,null,null,null,null,null,null,null,null,null,0,0,0,0,0,0,0,0,0,0]
[null,null,null,null,null,null,null,null,null,null,null,null,null,null,null,null,null,null,null,null,null,null,null,null,null,null,null,null,null,null,null,null,null,null,null,null,null,null,null,null,null,null,null,null,null,null,null,null,null,null,null,null,null,null,null,null,null,null,null,null,null,null,null,null,null,0,0,0,0,0,0,0,0,0,0]
[null,null,null,null,null,null,null,null,null,null,null,null,null,null,null,null,null,null,null,null,null,null,null,null,null,null,null,null,null,null,null,null,null,null,null,null,null,null,null,null,null,null,null,null,null,null,null,null,null,null,null,null,null,null,null,null,null,null,null,null,null,null,null,null,null,0,0,0,0,0,0,0,0,0,0]
[null,null,null,null,null,null,null,null,null,null,null,null,null,null,null,null,null,null,null,null,null,null,null,null,null,null,null,null,null,null,null,null,null,null,null,null,null,null,null,null,null,null,null,null,null,null,null,null,null,null,null,null,null,null,null,null,null,null,null,null,null,null,null,null,null,0,0,0,0,0,0,0,0,0,0]
[null,null,null,null,null,null,null,null,null,null,null,null,null,null,null,null,null,null,null,null,null,null,null,null,null,null,null,null,null,null,null,null,null,null,null,null,null,null,null,null,null,null,null,null,null,null,null,null,null,null,null,null,null,null,null,null,null,null,null,null,null,null,null,null,null,0,0,0,0,0,0,0,0,0,0]
[null,null,null,null,null,null,null,null,null,null,null,null,null,null,null,null,null,null,null,null,null,null,null,null,null,null,null,null,null,null,null,null,null,null,null,null,null,null,null,null,null,null,null,null,null,null,null,null,null,null,null,null,null,null,null,null,null,null,null,null,null,null,null,null,null,0,0,0,0,0,0,0,0,0,0]
[null,null,null,null,null,null,null,null,null,null,null,null,null,null,null,null,null,null,null,null,null,null,null,null,null,null,null,null,null,null,null,null,null,null,null,null,null,null,null,null,null,null,null,null,null,null,null,null,null,null,null,null,null,null,null,null,null,null,null,null,null,null,null,null,null,0,0,0,0,0,0,0,0,0,0]
[null,null,null,null,null,null,null,null,null,null,null,null,null,null,null,null,null,null,null,null,null,null,null,null,null,null,null,null,null,null,null,null,null,null,null,null,null,null,null,null,null,null,null,null,null,null,null,null,null,null,null,null,null,null,null,null,null,null,null,null,null,null,null,null,null,0,0,0,0,0,0,0,0,0,0]
[null,null,null,null,null,null,null,null,null,null,null,null,null,null,null,null,null,null,null,null,null,null,null,null,null,null,null,null,null,null,null,null,null,null,null,null,null,null,null,null,null,null,null,null,null,null,null,null,null,null,null,null,null,null,null,null,null,null,null,null,null,null,null,null,null,0,0,0,0,0,0,0,0,0,0]
[null,null,null,null,null,null,null,null,null,null,null,null,null,null,null,null,null,null,null,null,null,null,null,null,null,null,null,null,null,null,null,null,null,null,null,null,null,null,null,null,null,null,null,null,null,null,null,null,null,null,null,null,null,null,null,null,null,null,null,null,null,null,null,null,null,0,0,0,0,0,0,0,0,0,0]
[null,null,null,null,null,null,null,null,null,null,null,null,null,null,null,null,null,null,null,null,null,null,null,null,null,null,null,null,null,null,null,null,null,null,null,null,null,null,null,null,null,null,null,null,null,null,null,null,null,null,null,null,null,null,null,null,null,null,null,null,null,null,null,null,null,0,0,0,0,0,0,0,0,0,0]
[null,null,null,null,null,null,null,null,null,null,null,null,null,null,null,null,null,null,null,null,null,null,null,null,null,null,null,null,null,null,null,null,null,null,null,null,null,null,null,null,null,null,null,null,null,null,null,null,null,null,null,null,null,null,null,null,null,null,null,null,null,null,null,null,null,0,0,0,0,0,0,0,0,0,0]
[null,null,null,null,null,null,null,null,null,null,null,null,null,null,null,null,null,null,null,null,null,null,null,null,null,null,null,null,null,null,null,null,null,null,null,null,null,null,null,null,null,null,null,null,null,null,null,null,null,null,null,null,null,null,null,null,null,null,null,null,null,null,null,null,null,0,0,0,0,0,0,0,0,0,0]
[null,null,null,null,null,null,null,null,null,null,null,null,null,null,null,null,null,null,null,null,null,null,null,null,null,null,null,null,null,null,null,null,null,null,null,null,null,null,null,null,null,null,null,null,null,null,null,null,null,null,null,null,null,null,null,null,null,null,null,null,null,null,null,null,null,0,0,0,0,0,0,0,0,0,0]
[null,null,null,null,null,null,null,null,null,null,null,null,null,null,null,null,null,null,null,null,null,null,null,null,null,null,null,null,null,null,null,null,null,null,null,null,null,null,null,null,null,null,null,null,null,null,null,null,null,null,null,null,null,null,null,null,null,null,null,null,null,null,null,null,null,0,0,0,0,0,0,0,0,0,0]
[null,null,null,null,null,null,null,null,null,null,null,null,null,null,null,null,null,null,null,null,null,null,null,null,null,null,null,null,null,null,null,null,null,null,null,null,null,null,null,null,null,null,null,null,null,null,null,null,null,null,null,null,null,null,null,null,null,null,null,null,null,null,null,null,null,0,0,0,0,0,0,0,0,0,0]
[null,null,null,null,null,null,null,null,null,null,null,null,null,null,null,null,null,null,null,null,null,null,null,null,null,null,null,null,null,null,null,null,null,null,null,null,null,null,null,null,null,null,null,null,null,null,null,null,null,null,null,null,null,null,null,null,null,null,null,null,null,null,null,null,null,0,0,0,0,0,0,0,0,0,0]
[null,null,null,null,null,null,null,null,null,null,null,null,null,null,null,null,null,null,null,null,null,null,null,null,null,null,null,null,null,null,null,null,null,null,null,null,null,null,null,null,null,null,null,null,null,null,null,null,null,null,null,null,null,null,null,null,null,null,null,null,null,null,null,null,null,0,0,0,0,0,0,0,0,0,0]
[null,null,null,null,null,null,null,null,null,null,null,null,null,null,null,null,null,null,null,null,null,null,null,null,null,null,null,null,null,null,null,null,null,null,null,null,null,null,null,null,null,null,null,null,null,null,null,null,null,null,null,null,null,null,null,null,null,null,null,null,null,null,null,null,null,0,0,0,0,0,0,0,0,0,0]
[null,null,null,null,null,null,null,null,null,null,null,null,null,null,null,null,null,null,null,null,null,null,null,null,null,null,null,null,null,null,null,null,null,null,null,null,null,null,null,null,null,null,null,null,null,null,null,null,null,null,null,null,null,null,null,null,null,null,null,null,null,null,null,null,null,0,0,0,0,0,0,0,0,0,0]
[null,null,null,null,null,null,null,null,null,null,null,null,null,null,null,null,null,null,null,null,null,null,null,null,null,null,null,null,null,null,null,null,null,null,null,null,null,null,null,null,null,null,null,null,null,null,null,null,null,null,null,null,null,null,null,null,null,null,null,null,null,null,null,null,null,0,0,0,0,0,0,0,0,0,0]
[null,null,null,null,null,null,null,null,null,null,null,null,null,null,null,null,null,null,null,null,null,null,null,null,null,null,null,null,null,null,null,null,null,null,null,null,null,null,null,null,null,null,null,null,null,null,null,null,null,null,null,null,null,null,null,null,null,null,null,null,null,null,null,null,null,0,0,0,0,0,0,0,0,0,0]
[null,null,null,null,null,null,null,null,null,null,null,null,null,null,null,null,null,null,null,null,null,null,null,null,null,null,null,null,null,null,null,null,null,null,null,null,null,null,null,null,null,null,null,null,null,null,null,null,null,null,null,null,null,null,null,null,null,null,null,null,null,null,null,null,null,0,0,0,0,0,0,0,0,0,0]
[null,null,null,null,null,null,null,null,null,null,null,null,null,null,null,null,null,null,null,null,null,null,null,null,null,null,null,null,null,null,null,null,null,null,null,null,null,null,null,null,null,null,null,null,null,null,null,null,null,null,null,null,null,null,null,null,null,null,null,null,null,null,null,null,null,0,0,0,0,0,0,0,0,0,0]
[null,null,null,null,null,null,null,null,null,null,null,null,null,null,null,null,null,null,null,null,null,null,null,null,null,null,null,null,null,null,null,null,null,null,null,null,null,null,null,null,null,null,null,null,null,null,null,null,null,null,null,null,null,null,null,null,null,null,null,null,null,null,null,null,null,0,0,0,0,0,0,0,0,0,0]
[null,null,null,null,null,null,null,null,null,null,null,null,null,null,null,null,null,null,null,null,null,null,null,null,null,null,null,null,null,null,null,null,null,null,null,null,null,null,null,null,null,null,null,null,null,null,null,null,null,null,null,null,null,null,null,null,null,null,null,null,null,null,null,null,null,0,0,0,0,0,0,0,0,0,0]
[null,null,null,null,null,null,null,null,null,null,null,null,null,null,null,null,null,null,null,null,null,null,null,null,null,null,null,null,null,null,null,null,null,null,null,null,null,null,null,null,null,null,null,null,null,null,null,null,null,null,null,null,null,null,null,null,null,null,null,null,null,null,null,null,null,0,0,0,0,0,0,0,0,0,0]
[null,null,null,null,null,null,null,null,null,null,null,null,null,null,null,null,null,null,null,null,null,null,null,null,null,null,null,null,null,null,null,null,null,null,null,null,null,null,null,null,null,null,null,null,null,null,null,null,null,null,null,null,null,null,null,null,null,null,null,null,null,null,null,null,null,0,0,0,0,0,0,0,0,0,0]
[null,null,null,null,null,null,null,null,null,null,null,null,null,null,null,null,null,null,null,null,null,null,null,null,null,null,null,null,null,null,null,null,null,null,null,null,null,null,null,null,null,null,null,null,null,null,null,null,null,null,null,null,null,null,null,null,null,null,null,null,null,null,null,null,null,0,0,0,0,0,0,0,0,0,0]
[null,null,null,null,null,null,null,null,null,null,null,null,null,null,null,null,null,null,null,null,null,null,null,null,null,null,null,null,null,null,null,null,null,null,null,null,null,null,null,null,null,null,null,null,null,null,null,null,null,null,null,null,null,null,null,null,null,null,null,null,null,null,null,null,null,0,0,0,0,0,0,0,0,0,0]
[null,null,null,null,null,null,null,null,null,null,null,null,null,null,null,null,null,null,null,null,null,null,null,null,null,null,null,null,null,null,null,null,null,null,null,null,null,null,null,null,null,null,null,null,null,null,null,null,null,null,null,null,null,null,null,null,null,null,null,null,null,null,null,null,null,0,0,0,0,0,0,0,0,0,0]
[null,null,null,null,null,null,null,null,null,null,null,null,null,null,null,null,null,null,null,null,null,null,null,null,null,null,null,null,null,null,null,null,null,null,null,null,null,null,null,null,null,null,null,null,null,null,null,null,null,null,null,null,null,null,null,null,null,null,null,null,null,null,null,null,null,0,0,0,0,0,0,0,0,0,0]
[null,null,null,null,null,null,null,null,null,null,null,null,null,null,null,null,null,null,null,null,null,null,null,null,null,null,null,null,null,null,null,null,null,null,null,null,null,null,null,null,null,null,null,null,null,null,null,null,null,null,null,null,null,null,null,null,null,null,null,null,null,null,null,null,null,0,0,0,0,0,0,0,0,0,0]
[null,null,null,null,null,null,null,null,null,null,null,null,null,null,null,null,null,null,null,null,null,null,null,null,null,null,null,null,null,null,null,null,null,null,null,null,null,null,null,null,null,null,null,null,null,null,null,null,null,null,null,null,null,null,null,null,null,null,null,null,null,null,null,null,null,0,0,0,0,0,0,0,0,0,0]
[null,null,null,null,null,null,null,null,null,null,null,null,null,null,null,null,null,null,null,null,null,null,null,null,null,null,null,null,null,null,null,null,null,null,null,null,null,null,null,null,null,null,null,null,null,null,null,null,null,null,null,null,null,null,null,null,null,null,null,null,null,null,null,null,null,0,0,0,0,0,0,0,0,0,0]
[null,null,null,null,null,null,null,null,null,null,null,null,null,null,null,null,null,null,null,null,null,null,null,null,null,null,null,null,null,null,null,null,null,null,null,null,null,null,null,null,null,null,null,null,null,null,null,null,null,null,null,null,null,null,null,null,null,null,null,null,null,null,null,null,null,0,0,0,0,0,0,0,0,0,0]
[null,null,null,null,null,null,null,null,null,null,null,null,null,null,null,null,null,null,null,null,null,null,null,null,null,null,null,null,null,null,null,null,null,null,null,null,null,null,null,null,null,null,null,null,null,null,null,null,null,null,null,null,null,null,null,null,null,null,null,null,null,null,null,null,null,0,0,0,0,0,0,0,0,0,0]
[null,null,null,null,null,null,null,null,null,null,null,null,null,null,null,null,null,null,null,null,null,null,null,null,null,null,null,null,null,null,null,null,null,null,null,null,null,null,null,null,null,null,null,null,null,null,null,null,null,null,null,null,null,null,null,null,null,null,null,null,null,null,null,null,null,0,0,0,0,0,0,0,0,0,0]
[null,null,null,null,null,null,null,null,null,null,null,null,null,null,null,null,null,null,null,null,null,null,null,null,null,null,null,null,null,null,null,null,null,null,null,null,null,null,null,null,null,null,null,null,null,null,null,null,null,null,null,null,null,null,null,null,null,null,null,null,null,null,null,null,null,0,0,0,0,0,0,0,0,0,0]
[null,null,null,null,null,null,null,null,null,null,null,null,null,null,null,null,null,null,null,null,null,null,null,null,null,null,null,null,null,null,null,null,null,null,null,null,null,null,null,null,null,null,null,null,null,null,null,null,null,null,null,null,null,null,null,null,null,null,null,null,null,null,null,null,null,0,0,0,0,0,0,0,0,0,0]
[null,null,null,null,null,null,null,null,null,null,null,null,null,null,null,null,null,null,null,null,null,null,null,null,null,null,null,null,null,null,null,null,null,null,null,null,null,null,null,null,null,null,null,null,null,null,null,null,null,null,null,null,null,null,null,null,null,null,null,null,null,{"$f":"SUM(BH578:BH624)","v":0},null,null,null,0,0,0,0,0,0,0,0,0,0]
[null,null,null,null,null,null,null,null,null,null,null,null,null,null,null,null,null,null,null,null,null,null,null,null,null,null,null,null,null,null,null,null,null,null,null,null,null,null,null,null,null,null,null,null,null,null,null,null,null,null,null,null,null,null,null,null,null,null,null,null,null,null,null,null,null,0,0,0,0,0,0,0,0,0,0]
[null,null,null,null,null,null,null,null,null,null,null,null,null,null,null,null,null,null,null,null,null,null,null,null,null,null,null,null,null,null,null,null,null,null,null,null,null,null,null,null,null,null,null,null,null,null,null,null,null,null,null,null,null,null,null,null,null,null,null,null,null,null,null,null,null,0,0,0,0,0,0,0,0,0,0]
[null,null,null,null,null,null,null,null,null,null,null,null,null,null,null,null,null,null,null,null,null,null,null,null,null,null,null,null,null,null,null,null,null,null,null,null,null,null,null,null,null,null,null,null,null,null,null,null,null,null,null,null,null,null,null,null,null,null,null,null,null,null,null,null,null,0,0,0,0,0,0,0,0,0,0]
[null,null,null,null,null,null,null,null,null,null,null,null,null,null,null,null,null,null,null,null,null,null,null,null,null,null,null,null,null,null,null,null,null,null,null,null,null,null,null,null,null,null,null,null,null,null,null,null,null,null,null,null,null,null,null,null,null,null,null,null,null,null,null,null,null,0,0,0,0,0,0,0,0,0,0]
[null,null,null,null,null,null,null,null,null,null,null,null,null,null,null,null,null,null,null,null,null,null,null,null,null,null,null,null,null,null,null,null,null,null,null,null,null,null,null,null,null,null,null,null,null,null,null,null,null,null,null,null,null,null,null,null,null,null,null,null,null,null,null,null,null,0,0,0,0,0,0,0,0,0,0]
[null,null,null,null,null,null,null,null,null,null,null,null,null,null,null,null,null,null,null,null,null,null,null,null,null,null,null,null,null,null,null,null,null,null,null,null,null,null,null,null,null,null,null,null,null,null,null,null,null,null,null,null,null,null,null,null,null,null,null,null,null,null,null,null,null,0,0,0,0,0,0,0,0,0,0]
[null,null,null,null,null,null,null,null,null,null,null,null,null,null,null,null,null,null,null,null,null,null,null,null,null,null,null,null,null,null,null,null,null,null,null,null,null,null,null,null,null,null,null,null,null,null,null,null,null,null,null,null,null,null,null,null,null,null,null,null,null,null,null,null,null,0,0,0,0,0,0,0,0,0,0]
[null,null,null,null,null,null,null,null,null,null,null,null,null,null,null,null,null,null,null,null,null,null,null,null,null,null,null,null,null,null,null,null,null,null,null,null,null,null,null,null,null,null,null,null,null,null,null,null,null,null,null,null,null,null,null,null,null,null,null,null,null,null,null,null,null,0,0,0,0,0,0,0,0,0,0]
[null,null,null,null,null,null,null,null,null,null,null,null,null,null,null,null,null,null,null,null,null,null,null,null,null,null,null,null,null,null,null,null,null,null,null,null,null,null,null,null,null,null,null,null,null,null,null,null,null,null,null,null,null,null,null,null,null,null,null,null,null,null,null,null,null,0,0,0,0,0,0,0,0,0,0]
[null,null,null,null,null,null,null,null,null,null,null,null,null,null,null,null,null,null,null,null,null,null,null,null,null,null,null,null,null,null,null,null,null,null,null,null,null,null,null,null,null,null,null,null,null,null,null,null,null,null,null,null,null,null,null,null,null,null,null,null,null,null,null,null,null,0,0,0,0,0,0,0,0,0,0]
[null,null,null,null,null,null,null,null,null,null,null,null,null,null,null,null,null,null,null,null,null,null,null,null,null,null,null,null,null,null,null,null,null,null,null,null,null,null,null,null,null,null,null,null,null,null,null,null,null,null,null,null,null,null,null,null,null,null,null,null,null,{"$f":"SUM(BH626:BH635)","v":0},null,null,null,0,0,0,0,0,0,0,0,0,0]
[null,null,null,null,null,null,null,null,null,null,null,null,null,null,null,null,null,null,null,null,null,null,null,null,null,null,null,null,null,null,null,null,null,null,null,null,null,null,null,null,null,null,null,null,null,null,null,null,null,null,null,null,null,null,null,null,null,null,null,null,null,null,null,null,null,0,0,0,0,0,0,0,0,0,0]
[null,null,null,null,null,null,null,null,null,null,null,null,null,null,null,null,null,null,null,null,null,null,null,null,null,null,null,null,null,null,null,null,null,null,null,null,null,null,null,null,null,null,null,null,null,null,null,null,null,null,null,null,null,null,null,null,null,null,null,null,null,null,null,null,null,0,0,0,0,0,0,0,0,0,0]
[null,null,null,null,null,null,null,null,null,null,null,null,null,null,null,null,null,null,null,null,null,null,null,null,null,null,null,null,null,null,null,null,null,null,null,null,null,null,null,null,null,null,null,null,null,null,null,null,null,null,null,null,null,null,null,null,null,null,null,null,null,null,null,null,null,0,0,0,0,0,0,0,0,0,0]
[null,null,null,null,null,null,null,null,null,null,null,null,null,null,null,null,null,null,null,null,null,null,null,null,null,null,null,null,null,null,null,null,null,null,null,null,null,null,null,null,null,null,null,null,null,null,null,null,null,null,null,null,null,null,null,null,null,null,null,null,null,null,null,null,null,0,0,0,0,0,0,0,0,0,0]
[null,null,null,null,null,null,null,null,null,null,null,null,null,null,null,null,null,null,null,null,null,null,null,null,null,null,null,null,null,null,null,null,null,null,null,null,null,null,null,null,null,null,null,null,null,null,null,null,null,null,null,null,null,null,null,null,null,null,null,null,null,null,null,null,null,0,0,0,0,0,0,0,0,0,0]
[null,null,null,null,null,null,null,null,null,null,null,null,null,null,null,null,null,null,null,null,null,null,null,null,null,null,null,null,null,null,null,null,null,null,null,null,null,null,null,null,null,null,null,null,null,null,null,null,null,null,null,null,null,null,null,null,null,null,null,null,null,null,null,null,null,0,0,0,0,0,0,0,0,0,0]
[null,null,null,null,null,null,null,null,null,null,null,null,null,null,null,null,null,null,null,null,null,null,null,null,null,null,null,null,null,null,null,null,null,null,null,null,null,null,null,null,null,null,null,null,null,null,null,null,null,null,null,null,null,null,null,null,null,null,null,null,null,null,null,null,null,0,0,0,0,0,0,0,0,0,0]
[null,null,null,null,null,null,null,null,null,null,null,null,null,null,null,null,null,null,null,null,null,null,null,null,null,null,null,null,null,null,null,null,null,null,null,null,null,null,null,null,null,null,null,null,null,null,null,null,null,null,null,null,null,null,null,null,null,null,null,null,null,null,null,null,null,0,0,0,0,0,0,0,0,0,0]
[null,null,null,null,null,null,null,null,null,null,null,null,null,null,null,null,null,null,null,null,null,null,null,null,null,null,null,null,null,null,null,null,null,null,null,null,null,null,null,null,null,null,null,null,null,null,null,null,null,null,null,null,null,null,null,null,null,null,null,null,null,null,null,null,null,0,0,0,0,0,0,0,0,0,0]
[null,null,null,null,null,null,null,null,null,null,null,null,null,null,null,null,null,null,null,null,null,null,null,null,null,null,null,null,null,null,null,null,null,null,null,null,null,null,null,null,null,null,null,null,null,null,null,null,null,null,null,null,null,null,null,null,null,null,null,null,null,null,null,null,null,0,0,0,0,0,0,0,0,0,0]
[null,null,null,null,null,null,null,null,null,null,null,null,null,null,null,null,null,null,null,null,null,null,null,null,null,null,null,null,null,null,null,null,null,null,null,null,null,null,null,null,null,null,null,null,null,null,null,null,null,null,null,null,null,null,null,null,null,null,null,null,null,null,null,null,null,0,0,0,0,0,0,0,0,0,0]
[null,null,null,null,null,null,null,null,null,null,null,null,null,null,null,null,null,null,null,null,null,null,null,null,null,null,null,null,null,null,null,null,null,null,null,null,null,null,null,null,null,null,null,null,null,null,null,null,null,null,null,null,null,null,null,null,null,null,null,null,null,null,null,null,null,0,0,0,0,0,0,0,0,0,0]
[null,null,null,null,null,null,null,null,null,null,null,null,null,null,null,null,null,null,null,null,null,null,null,null,null,null,null,null,null,null,null,null,null,null,null,null,null,null,null,null,null,null,null,null,null,null,null,null,null,null,null,null,null,null,null,null,null,null,null,null,null,null,null,null,null,0,0,0,0,0,0,0,0,0,0]
[null,null,null,null,null,null,null,null,null,null,null,null,null,null,null,null,null,null,null,null,null,null,null,null,null,null,null,null,null,null,null,null,null,null,null,null,null,null,null,null,null,null,null,null,null,null,null,null,null,null,null,null,null,null,null,null,null,null,null,null,null,null,null,null,null,0,0,0,0,0,0,0,0,0,0]
[null,null,null,null,null,null,null,null,null,null,null,null,null,null,null,null,null,null,null,null,null,null,null,null,null,null,null,null,null,null,null,null,null,null,null,null,null,null,null,null,null,null,null,null,null,null,null,null,null,null,null,null,null,null,null,null,null,null,null,null,null,null,null,null,null,0,0,0,0,0,0,0,0,0,0]
[null,null,null,null,null,null,null,null,null,null,null,null,null,null,null,null,null,null,null,null,null,null,null,null,null,null,null,null,null,null,null,null,null,null,null,null,null,null,null,null,null,null,null,null,null,null,null,null,null,null,null,null,null,null,null,null,null,null,null,null,null,null,null,null,null,0,0,0,0,0,0,0,0,0,0]
[null,null,null,null,null,null,null,null,null,null,null,null,null,null,null,null,null,null,null,null,null,null,null,null,null,null,null,null,null,null,null,null,null,null,null,null,null,null,null,null,null,null,null,null,null,null,null,null,null,null,null,null,null,null,null,null,null,null,null,null,null,null,null,null,null,0,0,0,0,0,0,0,0,0,0]
[null,null,null,null,null,null,null,null,null,null,null,null,null,null,null,null,null,null,null,null,null,null,null,null,null,null,null,null,null,null,null,null,null,null,null,null,null,null,null,null,null,null,null,null,null,null,null,null,null,null,null,null,null,null,null,null,null,null,null,null,null,null,null,null,null,0,0,0,0,0,0,0,0,0,0]
[null,null,null,null,null,null,null,null,null,null,null,null,null,null,null,null,null,null,null,null,null,null,null,null,null,null,null,null,null,null,null,null,null,null,null,null,null,null,null,null,null,null,null,null,null,null,null,null,null,null,null,null,null,null,null,null,null,null,null,null,null,null,null,null,null,0,0,0,0,0,0,0,0,0,0]
[null,null,null,null,null,null,null,null,null,null,null,null,null,null,null,null,null,null,null,null,null,null,null,null,null,null,null,null,null,null,null,null,null,null,null,null,null,null,null,null,null,null,null,null,null,null,null,null,null,null,null,null,null,null,null,null,null,null,null,null,null,null,null,null,null,0,0,0,0,0,0,0,0,0,0]
[null,null,null,null,null,null,null,null,null,null,null,null,null,null,null,null,null,null,null,null,null,null,null,null,null,null,null,null,null,null,null,null,null,null,null,null,null,null,null,null,null,null,null,null,null,null,null,null,null,null,null,null,null,null,null,null,null,null,null,null,null,{"$f":"SUM(BH636:BH656)","v":0},null,null,null,0,0,0,0,0,0,0,0,0,0]
[null,null,null,null,null,null,null,null,null,null,null,null,null,null,null,null,null,null,null,null,null,null,null,null,null,null,null,null,null,null,null,null,null,null,null,null,null,null,null,null,null,null,null,null,null,null,null,null,null,null,null,null,null,null,null,null,null,null,null,null,null,null,null,null,null,0,0,0,0,0,0,0,0,0,0]
[null,null,null,null,null,null,null,null,null,null,null,null,null,null,null,null,null,null,null,null,null,null,null,null,null,null,null,null,null,null,null,null,null,null,null,null,null,null,null,null,null,null,null,null,null,null,null,null,null,null,null,null,null,null,null,null,null,null,null,null,null,null,null,null,null,0,0,0,0,0,0,0,0,0,0]
[null,null,null,null,null,null,null,null,null,null,null,null,null,null,null,null,null,null,null,null,null,null,null,null,null,null,null,null,null,null,null,null,null,null,null,null,null,null,null,null,null,null,null,null,null,null,null,null,null,null,null,null,null,null,null,null,null,null,null,null,null,null,null,null,null,0,0,0,0,0,0,0,0,0,0]
[null,null,null,null,null,null,null,null,null,null,null,null,null,null,null,null,null,null,null,null,null,null,null,null,null,null,null,null,null,null,null,null,null,null,null,null,null,null,null,null,null,null,null,null,null,null,null,null,null,null,null,null,null,null,null,null,null,null,null,null,null,null,null,null,null,0,0,0,0,0,0,0,0,0,0]
[null,null,null,null,null,null,null,null,null,null,null,null,null,null,null,null,null,null,null,null,null,null,null,null,null,null,null,null,null,null,null,null,null,null,null,null,null,null,null,null,null,null,null,null,null,null,null,null,null,null,null,null,null,null,null,null,null,null,null,null,null,null,null,null,null,0,0,0,0,0,0,0,0,0,0]
[null,null,null,null,null,null,null,null,null,null,null,null,null,null,null,null,null,null,null,null,null,null,null,null,null,null,null,null,null,null,null,null,null,null,null,null,null,null,null,null,null,null,null,null,null,null,null,null,null,null,null,null,null,null,null,null,null,null,null,null,null,null,null,null,null,0,0,0,0,0,0,0,0,0,0]
[null,null,null,null,null,null,null,null,null,null,null,null,null,null,null,null,null,null,null,null,null,null,null,null,null,null,null,null,null,null,null,null,null,null,null,null,null,null,null,null,null,null,null,null,null,null,null,null,null,null,null,null,null,null,null,null,null,null,null,null,null,null,null,null,null,0,0,0,0,0,0,0,0,0,0]
[null,null,null,null,null,null,null,null,null,null,null,null,null,null,null,null,null,null,null,null,null,null,null,null,null,null,null,null,null,null,null,null,null,null,null,null,null,null,null,null,null,null,null,null,null,null,null,null,null,null,null,null,null,null,null,null,null,null,null,null,null,null,null,null,null,0,0,0,0,0,0,0,0,0,0]
[null,null,null,null,null,null,null,null,null,null,null,null,null,null,null,null,null,null,null,null,null,null,null,null,null,null,null,null,null,null,null,null,null,null,null,null,null,null,null,null,null,null,null,null,null,null,null,null,null,null,null,null,null,null,null,null,null,null,null,null,null,null,null,null,null,0,0,0,0,0,0,0,0,0,0]
[null,null,null,null,null,null,null,null,null,null,null,null,null,null,null,null,null,null,null,null,null,null,null,null,null,null,null,null,null,null,null,null,null,null,null,null,null,null,null,null,null,null,null,null,null,null,null,null,null,null,null,null,null,null,null,null,null,null,null,null,null,null,null,null,null,0,0,0,0,0,0,0,0,0,0]
[null,null,null,null,null,null,null,null,null,null,null,null,null,null,null,null,null,null,null,null,null,null,null,null,null,null,null,null,null,null,null,null,null,null,null,null,null,null,null,null,null,null,null,null,null,null,null,null,null,null,null,null,null,null,null,null,null,null,null,null,null,null,null,null,null,0,0,0,0,0,0,0,0,0,0]
[null,null,null,null,null,null,null,null,null,null,null,null,null,null,null,null,null,null,null,null,null,null,null,null,null,null,null,null,null,null,null,null,null,null,null,null,null,null,null,null,null,null,null,null,null,null,null,null,null,null,null,null,null,null,null,null,null,null,null,null,null,null,null,null,null,0,0,0,0,0,0,0,0,0,0]
[null,null,null,null,null,null,null,null,null,null,null,null,null,null,null,null,null,null,null,null,null,null,null,null,null,null,null,null,null,null,null,null,null,null,null,null,null,null,null,null,null,null,null,null,null,null,null,null,null,null,null,null,null,null,null,null,null,null,null,null,null,null,null,null,null,0,0,0,0,0,0,0,0,0,0]
[null,null,null,null,null,null,null,null,null,null,null,null,null,null,null,null,null,null,null,null,null,null,null,null,null,null,null,null,null,null,null,null,null,null,null,null,null,null,null,null,null,null,null,null,null,null,null,null,null,null,null,null,null,null,null,null,null,null,null,null,null,null,null,null,null,0,0,0,0,0,0,0,0,0,0]
[null,null,null,null,null,null,null,null,null,null,null,null,null,null,null,null,null,null,null,null,null,null,null,null,null,null,null,null,null,null,null,null,null,null,null,null,null,null,null,null,null,null,null,null,null,null,null,null,null,null,null,null,null,null,null,null,null,null,null,null,null,null,null,null,null,0,0,0,0,0,0,0,0,0,0]
[null,null,null,null,null,null,null,null,null,null,null,null,null,null,null,null,null,null,null,null,null,null,null,null,null,null,null,null,null,null,null,null,null,null,null,null,null,null,null,null,null,null,null,null,null,null,null,null,null,null,null,null,null,null,null,null,null,null,null,null,null,null,null,null,null,0,0,0,0,0,0,0,0,0,0]
[null,null,null,null,null,null,null,null,null,null,null,null,null,null,null,null,null,null,null,null,null,null,null,null,null,null,null,null,null,null,null,null,null,null,null,null,null,null,null,null,null,null,null,null,null,null,null,null,null,null,null,null,null,null,null,null,null,null,null,null,null,null,null,null,null,0,0,0,0,0,0,0,0,0,0]
[null,null,null,null,null,null,null,null,null,null,null,null,null,null,null,null,null,null,null,null,null,null,null,null,null,null,null,null,null,null,null,null,null,null,null,null,null,null,null,null,null,null,null,null,null,null,null,null,null,null,null,null,null,null,null,null,null,null,null,null,null,null,null,null,null,0,0,0,0,0,0,0,0,0,0]
[null,null,null,null,null,null,null,null,null,null,null,null,null,null,null,null,null,null,null,null,null,null,null,null,null,null,null,null,null,null,null,null,null,null,null,null,null,null,null,null,null,null,null,null,null,null,null,null,null,null,null,null,null,null,null,null,null,null,null,null,null,null,null,null,null,0,0,0,0,0,0,0,0,0,0]
[null,null,null,null,null,null,null,null,null,null,null,null,null,null,null,null,null,null,null,null,null,null,null,null,null,null,null,null,null,null,null,null,null,null,null,null,null,null,null,null,null,null,null,null,null,null,null,null,null,null,null,null,null,null,null,null,null,null,null,null,null,null,null,null,null,0,0,0,0,0,0,0,0,0,0]
[null,null,null,null,null,null,null,null,null,null,null,null,null,null,null,null,null,null,null,null,null,null,null,null,null,null,null,null,null,null,null,null,null,null,null,null,null,null,null,null,null,null,null,null,null,null,null,null,null,null,null,null,null,null,null,null,null,null,null,null,null,null,null,null,null,0,0,0,0,0,0,0,0,0,0]
[null,null,null,null,null,null,null,null,null,null,null,null,null,null,null,null,null,null,null,null,null,null,null,null,null,null,null,null,null,null,null,null,null,null,null,null,null,null,null,null,null,null,null,null,null,null,null,null,null,null,null,null,null,null,null,null,null,null,null,null,null,null,null,null,null,0,0,0,0,0,0,0,0,0,0]
[null,null,null,null,null,null,null,null,null,null,null,null,null,null,null,null,null,null,null,null,null,null,null,null,null,null,null,null,null,null,null,null,null,null,null,null,null,null,null,null,null,null,null,null,null,null,null,null,null,null,null,null,null,null,null,null,null,null,null,null,null,null,null,null,null,0,0,0,0,0,0,0,0,0,0]
[null,null,null,null,null,null,null,null,null,null,null,null,null,null,null,null,null,null,null,null,null,null,null,null,null,null,null,null,null,null,null,null,null,null,null,null,null,null,null,null,null,null,null,null,null,null,null,null,null,null,null,null,null,null,null,null,null,null,null,null,null,null,null,null,null,0,0,0,0,0,0,0,0,0,0]
[null,null,null,null,null,null,null,null,null,null,null,null,null,null,null,null,null,null,null,null,null,null,null,null,null,null,null,null,null,null,null,null,null,null,null,null,null,null,null,null,null,null,null,null,null,null,null,null,null,null,null,null,null,null,null,null,null,null,null,null,null,null,null,null,null,0,0,0,0,0,0,0,0,0,0]
[null,null,null,null,null,null,null,null,null,null,null,null,null,null,null,null,null,null,null,null,null,null,null,null,null,null,null,null,null,null,null,null,null,null,null,null,null,null,null,null,null,null,null,null,null,null,null,null,null,null,null,null,null,null,null,null,null,null,null,null,null,null,null,null,null,0,0,0,0,0,0,0,0,0,0]
[null,null,null,null,null,null,null,null,null,null,null,null,null,null,null,null,null,null,null,null,null,null,null,null,null,null,null,null,null,null,null,null,null,null,null,null,null,null,null,null,null,null,null,null,null,null,null,null,null,null,null,null,null,null,null,null,null,null,null,null,null,{"$f":"SUM(BH657:BH683)","v":0},null,null,null,0,0,0,0,0,0,0,0,0,0]
[null,null,null,null,null,null,null,null,null,null,null,null,null,null,null,null,null,null,null,null,null,null,null,null,null,null,null,null,null,null,null,null,null,null,null,null,null,null,null,null,null,null,null,null,null,null,null,null,null,null,null,null,null,null,null,null,null,null,null,null,null,null,null,null,null,0,0,0,0,0,0,0,0,0,0]
[null,null,null,null,null,null,null,null,null,null,null,null,null,null,null,null,null,null,null,null,null,null,null,null,null,null,null,null,null,null,null,null,null,null,null,null,null,null,null,null,null,null,null,null,null,null,null,null,null,null,null,null,null,null,null,null,null,null,null,null,null,null,null,null,null,0,0,0,0,0,0,0,0,0,0]
[null,null,null,null,null,null,null,null,null,null,null,null,null,null,null,null,null,null,null,null,null,null,null,null,null,null,null,null,null,null,null,null,null,null,null,null,null,null,null,null,null,null,null,null,null,null,null,null,null,null,null,null,null,null,null,null,null,null,null,null,null,null,null,null,null,0,0,0,0,0,0,0,0,0,0]
[null,null,null,null,null,null,null,null,null,null,null,null,null,null,null,null,null,null,null,null,null,null,null,null,null,null,null,null,null,null,null,null,null,null,null,null,null,null,null,null,null,null,null,null,null,null,null,null,null,null,null,null,null,null,null,null,null,null,null,null,null,null,null,null,null,0,0,0,0,0,0,0,0,0,0]
[null,null,null,null,null,null,null,null,null,null,null,null,null,null,null,null,null,null,null,null,null,null,null,null,null,null,null,null,null,null,null,null,null,null,null,null,null,null,null,null,null,null,null,null,null,null,null,null,null,null,null,null,null,null,null,null,null,null,null,null,null,null,null,null,null,0,0,0,0,0,0,0,0,0,0]
[null,null,null,null,null,null,null,null,null,null,null,null,null,null,null,null,null,null,null,null,null,null,null,null,null,null,null,null,null,null,null,null,null,null,null,null,null,null,null,null,null,null,null,null,null,null,null,null,null,null,null,null,null,null,null,null,null,null,null,null,null,null,null,null,null,0,0,0,0,0,0,0,0,0,0]
[null,null,null,null,null,null,null,null,null,null,null,null,null,null,null,null,null,null,null,null,null,null,null,null,null,null,null,null,null,null,null,null,null,null,null,null,null,null,null,null,null,null,null,null,null,null,null,null,null,null,null,null,null,null,null,null,null,null,null,null,null,null,null,null,null,0,0,0,0,0,0,0,0,0,0]
[null,null,null,null,null,null,null,null,null,null,null,null,null,null,null,null,null,null,null,null,null,null,null,null,null,null,null,null,null,null,null,null,null,null,null,null,null,null,null,null,null,null,null,null,null,null,null,null,null,null,null,null,null,null,null,null,null,null,null,null,null,null,null,null,null,0,0,0,0,0,0,0,0,0,0]
[null,null,null,null,null,null,null,null,null,null,null,null,null,null,null,null,null,null,null,null,null,null,null,null,null,null,null,null,null,null,null,null,null,null,null,null,null,null,null,null,null,null,null,null,null,null,null,null,null,null,null,null,null,null,null,null,null,null,null,null,null,null,null,null,null,0,0,0,0,0,0,0,0,0,0]
[null,null,null,null,null,null,null,null,null,null,null,null,null,null,null,null,null,null,null,null,null,null,null,null,null,null,null,null,null,null,null,null,null,null,null,null,null,null,null,null,null,null,null,null,null,null,null,null,null,null,null,null,null,null,null,null,null,null,null,null,null,null,null,null,null,0,0,0,0,0,0,0,0,0,0]
[null,null,null,null,null,null,null,null,null,null,null,null,null,null,null,null,null,null,null,null,null,null,null,null,null,null,null,null,null,null,null,null,null,null,null,null,null,null,null,null,null,null,null,null,null,null,null,null,null,null,null,null,null,null,null,null,null,null,null,null,null,null,null,null,null,0,0,0,0,0,0,0,0,0,0]
[null,null,null,null,null,null,null,null,null,null,null,null,null,null,null,null,null,null,null,null,null,null,null,null,null,null,null,null,null,null,null,null,null,null,null,null,null,null,null,null,null,null,null,null,null,null,null,null,null,null,null,null,null,null,null,null,null,null,null,null,null,null,null,null,null,0,0,0,0,0,0,0,0,0,0]
[null,null,null,null,null,null,null,null,null,null,null,null,null,null,null,null,null,null,null,null,null,null,null,null,null,null,null,null,null,null,null,null,null,null,null,null,null,null,null,null,null,null,null,null,null,null,null,null,null,null,null,null,null,null,null,null,null,null,null,null,null,null,null,null,null,0,0,0,0,0,0,0,0,0,0]
[null,null,null,null,null,null,null,null,null,null,null,null,null,null,null,null,null,null,null,null,null,null,null,null,null,null,null,null,null,null,null,null,null,null,null,null,null,null,null,null,null,null,null,null,null,null,null,null,null,null,null,null,null,null,null,null,null,null,null,null,null,null,null,null,null,0,0,0,0,0,0,0,0,0,0]
[null,null,null,null,null,null,null,null,null,null,null,null,null,null,null,null,null,null,null,null,null,null,null,null,null,null,null,null,null,null,null,null,null,null,null,null,null,null,null,null,null,null,null,null,null,null,null,null,null,null,null,null,null,null,null,null,null,null,null,null,null,null,null,null,null,0,0,0,0,0,0,0,0,0,0]
[null,null,null,null,null,null,null,null,null,null,null,null,null,null,null,null,null,null,null,null,null,null,null,null,null,null,null,null,null,null,null,null,null,null,null,null,null,null,null,null,null,null,null,null,null,null,null,null,null,null,null,null,null,null,null,null,null,null,null,null,null,null,null,null,null,0,0,0,0,0,0,0,0,0,0]
[null,null,null,null,null,null,null,null,null,null,null,null,null,null,null,null,null,null,null,null,null,null,null,null,null,null,null,null,null,null,null,null,null,null,null,null,null,null,null,null,null,null,null,null,null,null,null,null,null,null,null,null,null,null,null,null,null,null,null,null,null,null,null,null,null,0,0,0,0,0,0,0,0,0,0]
[null,null,null,null,null,null,null,null,null,null,null,null,null,null,null,null,null,null,null,null,null,null,null,null,null,null,null,null,null,null,null,null,null,null,null,null,null,null,null,null,null,null,null,null,null,null,null,null,null,null,null,null,null,null,null,null,null,null,null,null,null,null,null,null,null,0,0,0,0,0,0,0,0,0,0]
[null,null,null,null,null,null,null,null,null,null,null,null,null,null,null,null,null,null,null,null,null,null,null,null,null,null,null,null,null,null,null,null,null,null,null,null,null,null,null,null,null,null,null,null,null,null,null,null,null,null,null,null,null,null,null,null,null,null,null,null,null,null,null,null,null,0,0,0,0,0,0,0,0,0,0]
[null,null,null,null,null,null,null,null,null,null,null,null,null,null,null,null,null,null,null,null,null,null,null,null,null,null,null,null,null,null,null,null,null,null,null,null,null,null,null,null,null,null,null,null,null,null,null,null,null,null,null,null,null,null,null,null,null,null,null,null,null,null,null,null,null,0,0,0,0,0,0,0,0,0,0]
[null,null,null,null,null,null,null,null,null,null,null,null,null,null,null,null,null,null,null,null,null,null,null,null,null,null,null,null,null,null,null,null,null,null,null,null,null,null,null,null,null,null,null,null,null,null,null,null,null,null,null,null,null,null,null,null,null,null,null,null,null,null,null,null,null,0,0,0,0,0,0,0,0,0,0]
[null,null,null,null,null,null,null,null,null,null,null,null,null,null,null,null,null,null,null,null,null,null,null,null,null,null,null,null,null,null,null,null,null,null,null,null,null,null,null,null,null,null,null,null,null,null,null,null,null,null,null,null,null,null,null,null,null,null,null,null,null,null,null,null,null,0,0,0,0,0,0,0,0,0,0]
[null,null,null,null,null,null,null,null,null,null,null,null,null,null,null,null,null,null,null,null,null,null,null,null,null,null,null,null,null,null,null,null,null,null,null,null,null,null,null,null,null,null,null,null,null,null,null,null,null,null,null,null,null,null,null,null,null,null,null,null,null,null,null,null,null,0,0,0,0,0,0,0,0,0,0]
[null,null,null,null,null,null,null,null,null,null,null,null,null,null,null,null,null,null,null,null,null,null,null,null,null,null,null,null,null,null,null,null,null,null,null,null,null,null,null,null,null,null,null,null,null,null,null,null,null,null,null,null,null,null,null,null,null,null,null,null,null,null,null,null,null,0,0,0,0,0,0,0,0,0,0]
[null,null,null,null,null,null,null,null,null,null,null,null,null,null,null,null,null,null,null,null,null,null,null,null,null,null,null,null,null,null,null,null,null,null,null,null,null,null,null,null,null,null,null,null,null,null,null,null,null,null,null,null,null,null,null,null,null,null,null,null,null,null,null,null,null,0,0,0,0,0,0,0,0,0,0]
[null,null,null,null,null,null,null,null,null,null,null,null,null,null,null,null,null,null,null,null,null,null,null,null,null,null,null,null,null,null,null,null,null,null,null,null,null,null,null,null,null,null,null,null,null,null,null,null,null,null,null,null,null,null,null,null,null,null,null,null,null,null,null,null,null,0,0,0,0,0,0,0,0,0,0]
[null,null,null,null,null,null,null,null,null,null,null,null,null,null,null,null,null,null,null,null,null,null,null,null,null,null,null,null,null,null,null,null,null,null,null,null,null,null,null,null,null,null,null,null,null,null,null,null,null,null,null,null,null,null,null,null,null,null,null,null,null,null,null,null,null,0,0,0,0,0,0,0,0,0,0]
[null,null,null,null,null,null,null,null,null,null,null,null,null,null,null,null,null,null,null,null,null,null,null,null,null,null,null,null,null,null,null,null,null,null,null,null,null,null,null,null,null,null,null,null,null,null,null,null,null,null,null,null,null,null,null,null,null,null,null,null,null,null,null,null,null,0,0,0,0,0,0,0,0,0,0]
[null,null,null,null,null,null,null,null,null,null,null,null,null,null,null,null,null,null,null,null,null,null,null,null,null,null,null,null,null,null,null,null,null,null,null,null,null,null,null,null,null,null,null,null,null,null,null,null,null,null,null,null,null,null,null,null,null,null,null,null,null,null,null,null,null,0,0,0,0,0,0,0,0,0,0]
[null,null,null,null,null,null,null,null,null,null,null,null,null,null,null,null,null,null,null,null,null,null,null,null,null,null,null,null,null,null,null,null,null,null,null,null,null,null,null,null,null,null,null,null,null,null,null,null,null,null,null,null,null,null,null,null,null,null,null,null,null,null,null,null,null,0,0,0,0,0,0,0,0,0,0]
[null,null,null,null,null,null,null,null,null,null,null,null,null,null,null,null,null,null,null,null,null,null,null,null,null,null,null,null,null,null,null,null,null,null,null,null,null,null,null,null,null,null,null,null,null,null,null,null,null,null,null,null,null,null,null,null,null,null,null,null,null,null,null,null,null,0,0,0,0,0,0,0,0,0,0]
[null,null,null,null,null,null,null,null,null,null,null,null,null,null,null,null,null,null,null,null,null,null,null,null,null,null,null,null,null,null,null,null,null,null,null,null,null,null,null,null,null,null,null,null,null,null,null,null,null,null,null,null,null,null,null,null,null,null,null,null,null,null,null,null,null,0,0,0,0,0,0,0,0,0,0]
[null,null,null,null,null,null,null,null,null,null,null,null,null,null,null,null,null,null,null,null,null,null,null,null,null,null,null,null,null,null,null,null,null,null,null,null,null,null,null,null,null,null,null,null,null,null,null,null,null,null,null,null,null,null,null,null,null,null,null,null,null,null,null,null,null,0,0,0,0,0,0,0,0,0,0]
[null,null,null,null,null,null,null,null,null,null,null,null,null,null,null,null,null,null,null,null,null,null,null,null,null,null,null,null,null,null,null,null,null,null,null,null,null,null,null,null,null,null,null,null,null,null,null,null,null,null,null,null,null,null,null,null,null,null,null,null,null,null,null,null,null,0,0,0,0,0,0,0,0,0,0]
[null,null,null,null,null,null,null,null,null,null,null,null,null,null,null,null,null,null,null,null,null,null,null,null,null,null,null,null,null,null,null,null,null,null,null,null,null,null,null,null,null,null,null,null,null,null,null,null,null,null,null,null,null,null,null,null,null,null,null,null,null,null,null,null,null,0,0,0,0,0,0,0,0,0,0]
[null,null,null,null,null,null,null,null,null,null,null,null,null,null,null,null,null,null,null,null,null,null,null,null,null,null,null,null,null,null,null,null,null,null,null,null,null,null,null,null,null,null,null,null,null,null,null,null,null,null,null,null,null,null,null,null,null,null,null,null,null,null,null,null,null,0,0,0,0,0,0,0,0,0,0]
[null,null,null,null,null,null,null,null,null,null,null,null,null,null,null,null,null,null,null,null,null,null,null,null,null,null,null,null,null,null,null,null,null,null,null,null,null,null,null,null,null,null,null,null,null,null,null,null,null,null,null,null,null,null,null,null,null,null,null,null,null,null,null,null,null,0,0,0,0,0,0,0,0,0,0]
[null,null,null,null,null,null,null,null,null,null,null,null,null,null,null,null,null,null,null,null,null,null,null,null,null,null,null,null,null,null,null,null,null,null,null,null,null,null,null,null,null,null,null,null,null,null,null,null,null,null,null,null,null,null,null,null,null,null,null,null,null,null,null,null,null,0,0,0,0,0,0,0,0,0,0]
[null,null,null,null,null,null,null,null,null,null,null,null,null,null,null,null,null,null,null,null,null,null,null,null,null,null,null,null,null,null,null,null,null,null,null,null,null,null,null,null,null,null,null,null,null,null,null,null,null,null,null,null,null,null,null,null,null,null,null,null,null,null,null,null,null,0,0,0,0,0,0,0,0,0,0]
[null,null,null,null,null,null,null,null,null,null,null,null,null,null,null,null,null,null,null,null,null,null,null,null,null,null,null,null,null,null,null,null,null,null,null,null,null,null,null,null,null,null,null,null,null,null,null,null,null,null,null,null,null,null,null,null,null,null,null,null,null,null,null,null,null,0,0,0,0,0,0,0,0,0,0]
[null,null,null,null,null,null,null,null,null,null,null,null,null,null,null,null,null,null,null,null,null,null,null,null,null,null,null,null,null,null,null,null,null,null,null,null,null,null,null,null,null,null,null,null,null,null,null,null,null,null,null,null,null,null,null,null,null,null,null,null,null,null,null,null,null,0,0,0,0,0,0,0,0,0,0]
[null,null,null,null,null,null,null,null,null,null,null,null,null,null,null,null,null,null,null,null,null,null,null,null,null,null,null,null,null,null,null,null,null,null,null,null,null,null,null,null,null,null,null,null,null,null,null,null,null,null,null,null,null,null,null,null,null,null,null,null,null,null,null,null,null,0,0,0,0,0,0,0,0,0,0]
[null,null,null,null,null,null,null,null,null,null,null,null,null,null,null,null,null,null,null,null,null,null,null,null,null,null,null,null,null,null,null,null,null,null,null,null,null,null,null,null,null,null,null,null,null,null,null,null,null,null,null,null,null,null,null,null,null,null,null,null,null,null,null,null,null,0,0,0,0,0,0,0,0,0,0]
[null,null,null,null,null,null,null,null,null,null,null,null,null,null,null,null,null,null,null,null,null,null,null,null,null,null,null,null,null,null,null,null,null,null,null,null,null,null,null,null,null,null,null,null,null,null,null,null,null,null,null,null,null,null,null,null,null,null,null,null,null,null,null,null,null,0,0,0,0,0,0,0,0,0,0]
[null,null,null,null,null,null,null,null,null,null,null,null,null,null,null,null,null,null,null,null,null,null,null,null,null,null,null,null,null,null,null,null,null,null,null,null,null,null,null,null,null,null,null,null,null,null,null,null,null,null,null,null,null,null,null,null,null,null,null,null,null,null,null,null,null,0,0,0,0,0,0,0,0,0,0]
[null,null,null,null,null,null,null,null,null,null,null,null,null,null,null,null,null,null,null,null,null,null,null,null,null,null,null,null,null,null,null,null,null,null,null,null,null,null,null,null,null,null,null,null,null,null,null,null,null,null,null,null,null,null,null,null,null,null,null,null,null,null,null,null,null,0,0,0,0,0,0,0,0,0,0]
[null,null,null,null,null,null,null,null,null,null,null,null,null,null,null,null,null,null,null,null,null,null,null,null,null,null,null,null,null,null,null,null,null,null,null,null,null,null,null,null,null,null,null,null,null,null,null,null,null,null,null,null,null,null,null,null,null,null,null,null,null,null,null,null,null,0,0,0,0,0,0,0,0,0,0]
[null,null,null,null,null,null,null,null,null,null,null,null,null,null,null,null,null,null,null,null,null,null,null,null,null,null,null,null,null,null,null,null,null,null,null,null,null,null,null,null,null,null,null,null,null,null,null,null,null,null,null,null,null,null,null,null,null,null,null,null,null,null,null,null,null,0,0,0,0,0,0,0,0,0,0]
[null,null,null,null,null,null,null,null,null,null,null,null,null,null,null,null,null,null,null,null,null,null,null,null,null,null,null,null,null,null,null,null,null,null,null,null,null,null,null,null,null,null,null,null,null,null,null,null,null,null,null,null,null,null,null,null,null,null,null,null,null,null,null,null,null,0,0,0,0,0,0,0,0,0,0]
[null,null,null,null,null,null,null,null,null,null,null,null,null,null,null,null,null,null,null,null,null,null,null,null,null,null,null,null,null,null,null,null,null,null,null,null,null,null,null,null,null,null,null,null,null,null,null,null,null,null,null,null,null,null,null,null,null,null,null,null,null,null,null,null,null,0,0,0,0,0,0,0,0,0,0]
[null,null,null,null,null,null,null,null,null,null,null,null,null,null,null,null,null,null,null,null,null,null,null,null,null,null,null,null,null,null,null,null,null,null,null,null,null,null,null,null,null,null,null,null,null,null,null,null,null,null,null,null,null,null,null,null,null,null,null,null,null,null,null,null,null,0,0,0,0,0,0,0,0,0,0]
[null,null,null,null,null,null,null,null,null,null,null,null,null,null,null,null,null,null,null,null,null,null,null,null,null,null,null,null,null,null,null,null,null,null,null,null,null,null,null,null,null,null,null,null,null,null,null,null,null,null,null,null,null,null,null,null,null,null,null,null,null,null,null,null,null,0,0,0,0,0,0,0,0,0,0]
[null,null,null,null,null,null,null,null,null,null,null,null,null,null,null,null,null,null,null,null,null,null,null,null,null,null,null,null,null,null,null,null,null,null,null,null,null,null,null,null,null,null,null,null,null,null,null,null,null,null,null,null,null,null,null,null,null,null,null,null,null,null,null,null,null,0,0,0,0,0,0,0,0,0,0]
[null,null,null,null,null,null,null,null,null,null,null,null,null,null,null,null,null,null,null,null,null,null,null,null,null,null,null,null,null,null,null,null,null,null,null,null,null,null,null,null,null,null,null,null,null,null,null,null,null,null,null,null,null,null,null,null,null,null,null,null,null,null,null,null,null,0,0,0,0,0,0,0,0,0,0]
[null,null,null,null,null,null,null,null,null,null,null,null,null,null,null,null,null,null,null,null,null,null,null,null,null,null,null,null,null,null,null,null,null,null,null,null,null,null,null,null,null,null,null,null,null,null,null,null,null,null,null,null,null,null,null,null,null,null,null,null,null,null,null,null,null,0,0,0,0,0,0,0,0,0,0]
[null,null,null,null,null,null,null,null,null,null,null,null,null,null,null,null,null,null,null,null,null,null,null,null,null,null,null,null,null,null,null,null,null,null,null,null,null,null,null,null,null,null,null,null,null,null,null,null,null,null,null,null,null,null,null,null,null,null,null,null,null,null,null,null,null,0,0,0,0,0,0,0,0,0,0]
[null,null,null,null,null,null,null,null,null,null,null,null,null,null,null,null,null,null,null,null,null,null,null,null,null,null,null,null,null,null,null,null,null,null,null,null,null,null,null,null,null,null,null,null,null,null,null,null,null,null,null,null,null,null,null,null,null,null,null,null,null,null,null,null,null,0,0,0,0,0,0,0,0,0,0]
[null,null,null,null,null,null,null,null,null,null,null,null,null,null,null,null,null,null,null,null,null,null,null,null,null,null,null,null,null,null,null,null,null,null,null,null,null,null,null,null,null,null,null,null,null,null,null,null,null,null,null,null,null,null,null,null,null,null,null,null,null,null,null,null,null,0,0,0,0,0,0,0,0,0,0]
[null,null,null,null,null,null,null,null,null,null,null,null,null,null,null,null,null,null,null,null,null,null,null,null,null,null,null,null,null,null,null,null,null,null,null,null,null,null,null,null,null,null,null,null,null,null,null,null,null,null,null,null,null,null,null,null,null,null,null,null,null,null,null,null,null,0,0,0,0,0,0,0,0,0,0]
[null,null,null,null,null,null,null,null,null,null,null,null,null,null,null,null,null,null,null,null,null,null,null,null,null,null,null,null,null,null,null,null,null,null,null,null,null,null,null,null,null,null,null,null,null,null,null,null,null,null,null,null,null,null,null,null,null,null,null,null,null,{"$f":"SUM(BH684:BH743)","v":0},null,null,null,0,0,0,0,0,0,0,0,0,0]
[null,null,null,null,null,null,null,null,null,null,null,null,null,null,null,null,null,null,null,null,null,null,null,null,null,null,null,null,null,null,null,null,null,null,null,null,null,null,null,null,null,null,null,null,null,null,null,null,null,null,null,null,null,null,null,null,null,null,null,null,null,null,null,null,null,0,0,0,0,0,0,0,0,0,0]
[null,null,null,null,null,null,null,null,null,null,null,null,null,null,null,null,null,null,null,null,null,null,null,null,null,null,null,null,null,null,null,null,null,null,null,null,null,null,null,null,null,null,null,null,null,null,null,null,null,null,null,null,null,null,null,null,null,null,null,null,null,null,null,null,null,0,0,0,0,0,0,0,0,0,0]
[null,null,null,null,null,null,null,null,null,null,null,null,null,null,null,null,null,null,null,null,null,null,null,null,null,null,null,null,null,null,null,null,null,null,null,null,null,null,null,null,null,null,null,null,null,null,null,null,null,null,null,null,null,null,null,null,null,null,null,null,null,null,null,null,null,0,0,0,0,0,0,0,0,0,0]
[null,null,null,null,null,null,null,null,null,null,null,null,null,null,null,null,null,null,null,null,null,null,null,null,null,null,null,null,null,null,null,null,null,null,null,null,null,null,null,null,null,null,null,null,null,null,null,null,null,null,null,null,null,null,null,null,null,null,null,null,null,null,null,null,null,0,0,0,0,0,0,0,0,0,0]
[null,null,null,null,null,null,null,null,null,null,null,null,null,null,null,null,null,null,null,null,null,null,null,null,null,null,null,null,null,null,null,null,null,null,null,null,null,null,null,null,null,null,null,null,null,null,null,null,null,null,null,null,null,null,null,null,null,null,null,null,null,null,null,null,null,0,0,0,0,0,0,0,0,0,0]
[null,null,null,null,null,null,null,null,null,null,null,null,null,null,null,null,null,null,null,null,null,null,null,null,null,null,null,null,null,null,null,null,null,null,null,null,null,null,null,null,null,null,null,null,null,null,null,null,null,null,null,null,null,null,null,null,null,null,null,null,null,null,null,null,null,0,0,0,0,0,0,0,0,0,0]
[null,null,null,null,null,null,null,null,null,null,null,null,null,null,null,null,null,null,null,null,null,null,null,null,null,null,null,null,null,null,null,null,null,null,null,null,null,null,null,null,null,null,null,null,null,null,null,null,null,null,null,null,null,null,null,null,null,null,null,null,null,null,null,null,null,0,0,0,0,0,0,0,0,0,0]
[null,null,null,null,null,null,null,null,null,null,null,null,null,null,null,null,null,null,null,null,null,null,null,null,null,null,null,null,null,null,null,null,null,null,null,null,null,null,null,null,null,null,null,null,null,null,null,null,null,null,null,null,null,null,null,null,null,null,null,null,null,null,null,null,null,0,0,0,0,0,0,0,0,0,0]
[null,null,null,null,null,null,null,null,null,null,null,null,null,null,null,null,null,null,null,null,null,null,null,null,null,null,null,null,null,null,null,null,null,null,null,null,null,null,null,null,null,null,null,null,null,null,null,null,null,null,null,null,null,null,null,null,null,null,null,null,null,null,null,null,null,0,0,0,0,0,0,0,0,0,0]
[null,null,null,null,null,null,null,null,null,null,null,null,null,null,null,null,null,null,null,null,null,null,null,null,null,null,null,null,null,null,null,null,null,null,null,null,null,null,null,null,null,null,null,null,null,null,null,null,null,null,null,null,null,null,null,null,null,null,null,null,null,null,null,null,null,0,0,0,0,0,0,0,0,0,0]
[null,null,null,null,null,null,null,null,null,null,null,null,null,null,null,null,null,null,null,null,null,null,null,null,null,null,null,null,null,null,null,null,null,null,null,null,null,null,null,null,null,null,null,null,null,null,null,null,null,null,null,null,null,null,null,null,null,null,null,null,null,null,null,null,null,0,0,0,0,0,0,0,0,0,0]
[null,null,null,null,null,null,null,null,null,null,null,null,null,null,null,null,null,null,null,null,null,null,null,null,null,null,null,null,null,null,null,null,null,null,null,null,null,null,null,null,null,null,null,null,null,null,null,null,null,null,null,null,null,null,null,null,null,null,null,null,null,null,null,null,null,0,0,0,0,0,0,0,0,0,0]
[null,null,null,null,null,null,null,null,null,null,null,null,null,null,null,null,null,null,null,null,null,null,null,null,null,null,null,null,null,null,null,null,null,null,null,null,null,null,null,null,null,null,null,null,null,null,null,null,null,null,null,null,null,null,null,null,null,null,null,null,null,null,null,null,null,0,0,0,0,0,0,0,0,0,0]
[null,null,null,null,null,null,null,null,null,null,null,null,null,null,null,null,null,null,null,null,null,null,null,null,null,null,null,null,null,null,null,null,null,null,null,null,null,null,null,null,null,null,null,null,null,null,null,null,null,null,null,null,null,null,null,null,null,null,null,null,null,{"$f":"SUM(BH744:BH757)","v":0},null,null,null,0,0,0,0,0,0,0,0,0,0]
[null,null,null,null,null,null,null,null,null,null,null,null,null,null,null,null,null,null,null,null,null,null,null,null,null,null,null,null,null,null,null,null,null,null,null,null,null,null,null,null,null,null,null,null,null,null,null,null,null,null,null,null,null,null,null,null,null,null,null,null,null,null,null,null,null,0,0,0,0,0,0,0,0,0,0]
[null,null,null,null,null,null,null,null,null,null,null,null,null,null,null,null,null,null,null,null,null,null,null,null,null,null,null,null,null,null,null,null,null,null,null,null,null,null,null,null,null,null,null,null,null,null,null,null,null,null,null,null,null,null,null,null,null,null,null,null,null,null,null,null,null,0,0,0,0,0,0,0,0,0,0]
[null,null,null,null,null,null,null,null,null,null,null,null,null,null,null,null,null,null,null,null,null,null,null,null,null,null,null,null,null,null,null,null,null,null,null,null,null,null,null,null,null,null,null,null,null,null,null,null,null,null,null,null,null,null,null,null,null,null,null,null,null,null,null,null,null,0,0,0,0,0,0,0,0,0,0]
[null,null,null,null,null,null,null,null,null,null,null,null,null,null,null,null,null,null,null,null,null,null,null,null,null,null,null,null,null,null,null,null,null,null,null,null,null,null,null,null,null,null,null,null,null,null,null,null,null,null,null,null,null,null,null,null,null,null,null,null,null,null,null,null,null,0,0,0,0,0,0,0,0,0,0]
[null,null,null,null,null,null,null,null,null,null,null,null,null,null,null,null,null,null,null,null,null,null,null,null,null,null,null,null,null,null,null,null,null,null,null,null,null,null,null,null,null,null,null,null,null,null,null,null,null,null,null,null,null,null,null,null,null,null,null,null,null,null,null,null,null,0,0,0,0,0,0,0,0,0,0]
[null,null,null,null,null,null,null,null,null,null,null,null,null,null,null,null,null,null,null,null,null,null,null,null,null,null,null,null,null,null,null,null,null,null,null,null,null,null,null,null,null,null,null,null,null,null,null,null,null,null,null,null,null,null,null,null,null,null,null,null,null,null,null,null,null,0,0,0,0,0,0,0,0,0,0]
[null,null,null,null,null,null,null,null,null,null,null,null,null,null,null,null,null,null,null,null,null,null,null,null,null,null,null,null,null,null,null,null,null,null,null,null,null,null,null,null,null,null,null,null,null,null,null,null,null,null,null,null,null,null,null,null,null,null,null,null,null,null,null,null,null,0,0,0,0,0,0,0,0,0,0]
[null,null,null,null,null,null,null,null,null,null,null,null,null,null,null,null,null,null,null,null,null,null,null,null,null,null,null,null,null,null,null,null,null,null,null,null,null,null,null,null,null,null,null,null,null,null,null,null,null,null,null,null,null,null,null,null,null,null,null,null,null,null,null,null,null,0,0,0,0,0,0,0,0,0,0]
[null,null,null,null,null,null,null,null,null,null,null,null,null,null,null,null,null,null,null,null,null,null,null,null,null,null,null,null,null,null,null,null,null,null,null,null,null,null,null,null,null,null,null,null,null,null,null,null,null,null,null,null,null,null,null,null,null,null,null,null,null,null,null,null,null,0,0,0,0,0,0,0,0,0,0]
[null,null,null,null,null,null,null,null,null,null,null,null,null,null,null,null,null,null,null,null,null,null,null,null,null,null,null,null,null,null,null,null,null,null,null,null,null,null,null,null,null,null,null,null,null,null,null,null,null,null,null,null,null,null,null,null,null,null,null,null,null,null,null,null,null,0,0,0,0,0,0,0,0,0,0]
[null,null,null,null,null,null,null,null,null,null,null,null,null,null,null,null,null,null,null,null,null,null,null,null,null,null,null,null,null,null,null,null,null,null,null,null,null,null,null,null,null,null,null,null,null,null,null,null,null,null,null,null,null,null,null,null,null,null,null,null,null,null,null,null,null,0,0,0,0,0,0,0,0,0,0]
[null,null,null,null,null,null,null,null,null,null,null,null,null,null,null,null,null,null,null,null,null,null,null,null,null,null,null,null,null,null,null,null,null,null,null,null,null,null,null,null,null,null,null,null,null,null,null,null,null,null,null,null,null,null,null,null,null,null,null,null,null,null,null,null,null,0,0,0,0,0,0,0,0,0,0]
[null,null,null,null,null,null,null,null,null,null,null,null,null,null,null,null,null,null,null,null,null,null,null,null,null,null,null,null,null,null,null,null,null,null,null,null,null,null,null,null,null,null,null,null,null,null,null,null,null,null,null,null,null,null,null,null,null,null,null,null,null,null,null,null,null,0,0,0,0,0,0,0,0,0,0]
[null,null,null,null,null,null,null,null,null,null,null,null,null,null,null,null,null,null,null,null,null,null,null,null,null,null,null,null,null,null,null,null,null,null,null,null,null,null,null,null,null,null,null,null,null,null,null,null,null,null,null,null,null,null,null,null,null,null,null,null,null,null,null,null,null,0,0,0,0,0,0,0,0,0,0]
[null,null,null,null,null,null,null,null,null,null,null,null,null,null,null,null,null,null,null,null,null,null,null,null,null,null,null,null,null,null,null,null,null,null,null,null,null,null,null,null,null,null,null,null,null,null,null,null,null,null,null,null,null,null,null,null,null,null,null,null,null,{"$f":"SUM(BH758:BH772)","v":0},null,null,null,0,0,0,0,0,0,0,0,0,0]
[null,null,null,null,null,null,null,null,null,null,null,null,null,null,null,null,null,null,null,null,null,null,null,null,null,null,null,null,null,null,null,null,null,null,null,null,null,null,null,null,null,null,null,null,null,null,null,null,null,null,null,null,null,null,null,null,null,null,null,null,null,null,null,null,null,0,0,0,0,0,0,0,0,0,0]
[null,null,null,null,null,null,null,null,null,null,null,null,null,null,null,null,null,null,null,null,null,null,null,null,null,null,null,null,null,null,null,null,null,null,null,null,null,null,null,null,null,null,null,null,null,null,null,null,null,null,null,null,null,null,null,null,null,null,null,null,null,null,null,null,null,0,0,0,0,0,0,0,0,0,0]
[null,null,null,null,null,null,null,null,null,null,null,null,null,null,null,null,null,null,null,null,null,null,null,null,null,null,null,null,null,null,null,null,null,null,null,null,null,null,null,null,null,null,null,null,null,null,null,null,null,null,null,null,null,null,null,null,null,null,null,null,null,null,null,null,null,0,0,0,0,0,0,0,0,0,0]
[null,null,null,null,null,null,null,null,null,null,null,null,null,null,null,null,null,null,null,null,null,null,null,null,null,null,null,null,null,null,null,null,null,null,null,null,null,null,null,null,null,null,null,null,null,null,null,null,null,null,null,null,null,null,null,null,null,null,null,null,null,{"$f":"SUM(BH773:BH776)","v":0},null,null,null,0,0,0,0,0,0,0,0,0,0]
[null,null,null,null,null,null,null,null,null,null,null,null,null,null,null,null,null,null,null,null,null,null,null,null,null,null,null,null,null,null,null,null,null,null,null,null,null,null,null,null,null,null,null,null,null,null,null,null,null,null,null,null,null,null,null,null,null,null,null,null,null,null,null,null,null,0,0,0,0,0,0,0,0,0,0]
[null,null,null,null,null,null,null,null,null,null,null,null,null,null,null,null,null,null,null,null,null,null,null,null,null,null,null,null,null,null,null,null,null,null,null,null,null,null,null,null,null,null,null,null,null,null,null,null,null,null,null,null,null,null,null,null,null,null,null,null,null,null,null,null,null,0,0,0,0,0,0,0,0,0,0]
[null,null,null,null,null,null,null,null,null,null,null,null,null,null,null,null,null,null,null,null,null,null,null,null,null,null,null,null,null,null,null,null,null,null,null,null,null,null,null,null,null,null,null,null,null,null,null,null,null,null,null,null,null,null,null,null,null,null,null,null,null,null,null,null,null,0,0,0,0,0,0,0,0,0,0]
[null,null,null,null,null,null,null,null,null,null,null,null,null,null,null,null,null,null,null,null,null,null,null,null,null,null,null,null,null,null,null,null,null,null,null,null,null,null,null,null,null,null,null,null,null,null,null,null,null,null,null,null,null,null,null,null,null,null,null,null,null,null,null,null,null,0,0,0,0,0,0,0,0,0,0]
[null,null,null,null,null,null,null,null,null,null,null,null,null,null,null,null,null,null,null,null,null,null,null,null,null,null,null,null,null,null,null,null,null,null,null,null,null,null,null,null,null,null,null,null,null,null,null,null,null,null,null,null,null,null,null,null,null,null,null,null,null,null,null,null,null,0,0,0,0,0,0,0,0,0,0]
[null,null,null,null,null,null,null,null,null,null,null,null,null,null,null,null,null,null,null,null,null,null,null,null,null,null,null,null,null,null,null,null,null,null,null,null,null,null,null,null,null,null,null,null,null,null,null,null,null,null,null,null,null,null,null,null,null,null,null,null,null,null,null,null,null,0,0,0,0,0,0,0,0,0,0]
[null,null,null,null,null,null,null,null,null,null,null,null,null,null,null,null,null,null,null,null,null,null,null,null,null,null,null,null,null,null,null,null,null,null,null,null,null,null,null,null,null,null,null,null,null,null,null,null,null,null,null,null,null,null,null,null,null,null,null,null,null,null,null,null,null,0,0,0,0,0,0,0,0,0,0]
[null,null,null,null,null,null,null,null,null,null,null,null,null,null,null,null,null,null,null,null,null,null,null,null,null,null,null,null,null,null,null,null,null,null,null,null,null,null,null,null,null,null,null,null,null,null,null,null,null,null,null,null,null,null,null,null,null,null,null,null,null,null,null,null,null,0,0,0,0,0,0,0,0,0,0]
[null,null,null,null,null,null,null,null,null,null,null,null,null,null,null,null,null,null,null,null,null,null,null,null,null,null,null,null,null,null,null,null,null,null,null,null,null,null,null,null,null,null,null,null,null,null,null,null,null,null,null,null,null,null,null,null,null,null,null,null,null,null,null,null,null,0,0,0,0,0,0,0,0,0,0]
[null,null,null,null,null,null,null,null,null,null,null,null,null,null,null,null,null,null,null,null,null,null,null,null,null,null,null,null,null,null,null,null,null,null,null,null,null,null,null,null,null,null,null,null,null,null,null,null,null,null,null,null,null,null,null,null,null,null,null,null,null,null,null,null,null,0,0,0,0,0,0,0,0,0,0]
[null,null,null,null,null,null,null,null,null,null,null,null,null,null,null,null,null,null,null,null,null,null,null,null,null,null,null,null,null,null,null,null,null,null,null,null,null,null,null,null,null,null,null,null,null,null,null,null,null,null,null,null,null,null,null,null,null,null,null,null,null,null,null,null,null,0,0,0,0,0,0,0,0,0,0]
[null,null,null,null,null,null,null,null,null,null,null,null,null,null,null,null,null,null,null,null,null,null,null,null,null,null,null,null,null,null,null,null,null,null,null,null,null,null,null,null,null,null,null,null,null,null,null,null,null,null,null,null,null,null,null,null,null,null,null,null,null,null,null,null,null,0,0,0,0,0,0,0,0,0,0]
[null,null,null,null,null,null,null,null,null,null,null,null,null,null,null,null,null,null,null,null,null,null,null,null,null,null,null,null,null,null,null,null,null,null,null,null,null,null,null,null,null,null,null,null,null,null,null,null,null,null,null,null,null,null,null,null,null,null,null,null,null,null,null,null,null,0,0,0,0,0,0,0,0,0,0]
[null,null,null,null,null,null,null,null,null,null,null,null,null,null,null,null,null,null,null,null,null,null,null,null,null,null,null,null,null,null,null,null,null,null,null,null,null,null,null,null,null,null,null,null,null,null,null,null,null,null,null,null,null,null,null,null,null,null,null,null,null,null,null,null,null,0,0,0,0,0,0,0,0,0,0]
[null,null,null,null,null,null,null,null,null,null,null,null,null,null,null,null,null,null,null,null,null,null,null,null,null,null,null,null,null,null,null,null,null,null,null,null,null,null,null,null,null,null,null,null,null,null,null,null,null,null,null,null,null,null,null,null,null,null,null,null,null,null,null,null,null,0,0,0,0,0,0,0,0,0,0]
[null,null,null,null,null,null,null,null,null,null,null,null,null,null,null,null,null,null,null,null,null,null,null,null,null,null,null,null,null,null,null,null,null,null,null,null,null,null,null,null,null,null,null,null,null,null,null,null,null,null,null,null,null,null,null,null,null,null,null,null,null,null,null,null,null,0,0,0,0,0,0,0,0,0,0]
[null,null,null,null,null,null,null,null,null,null,null,null,null,null,null,null,null,null,null,null,null,null,null,null,null,null,null,null,null,null,null,null,null,null,null,null,null,null,null,null,null,null,null,null,null,null,null,null,null,null,null,null,null,null,null,null,null,null,null,null,null,null,null,null,null,0,0,0,0,0,0,0,0,0,0]
[null,null,null,null,null,null,null,null,null,null,null,null,null,null,null,null,null,null,null,null,null,null,null,null,null,null,null,null,null,null,null,null,null,null,null,null,null,null,null,null,null,null,null,null,null,null,null,null,null,null,null,null,null,null,null,null,null,null,null,null,null,null,null,null,null,0,0,0,0,0,0,0,0,0,0]
[null,null,null,null,null,null,null,null,null,null,null,null,null,null,null,null,null,null,null,null,null,null,null,null,null,null,null,null,null,null,null,null,null,null,null,null,null,null,null,null,null,null,null,null,null,null,null,null,null,null,null,null,null,null,null,null,null,null,null,null,null,{"$f":"SUM(BH777:BH795)","v":0},null,null,null,0,0,0,0,0,0,0,0,0,0]
[null,null,null,null,null,null,null,null,null,null,null,null,null,null,null,null,null,null,null,null,null,null,null,null,null,null,null,null,null,null,null,null,null,null,null,null,null,null,null,null,null,null,null,null,null,null,null,null,null,null,null,null,null,null,null,null,null,null,null,null,null,null,null,null,null,0,0,0,0,0,0,0,0,0,0]
[null,null,null,null,null,null,null,null,null,null,null,null,null,null,null,null,null,null,null,null,null,null,null,null,null,null,null,null,null,null,null,null,null,null,null,null,null,null,null,null,null,null,null,null,null,null,null,null,null,null,null,null,null,null,null,null,null,null,null,null,null,null,null,null,null,0,0,0,0,0,0,0,0,0,0]
[null,null,null,null,null,null,null,null,null,null,null,null,null,null,null,null,null,null,null,null,null,null,null,null,null,null,null,null,null,null,null,null,null,null,null,null,null,null,null,null,null,null,null,null,null,null,null,null,null,null,null,null,null,null,null,null,null,null,null,null,null,null,null,null,null,0,0,0,0,0,0,0,0,0,0]
[null,null,null,null,null,null,null,null,null,null,null,null,null,null,null,null,null,null,null,null,null,null,null,null,null,null,null,null,null,null,null,null,null,null,null,null,null,null,null,null,null,null,null,null,null,null,null,null,null,null,null,null,null,null,null,null,null,null,null,null,null,null,null,null,null,0,0,0,0,0,0,0,0,0,0]
[null,null,null,null,null,null,null,null,null,null,null,null,null,null,null,null,null,null,null,null,null,null,null,null,null,null,null,null,null,null,null,null,null,null,null,null,null,null,null,null,null,null,null,null,null,null,null,null,null,null,null,null,null,null,null,null,null,null,null,null,null,null,null,null,null,0,0,0,0,0,0,0,0,0,0]
[null,null,null,null,null,null,null,null,null,null,null,null,null,null,null,null,null,null,null,null,null,null,null,null,null,null,null,null,null,null,null,null,null,null,null,null,null,null,null,null,null,null,null,null,null,null,null,null,null,null,null,null,null,null,null,null,null,null,null,null,null,null,null,null,null,0,0,0,0,0,0,0,0,0,0]
[null,null,null,null,null,null,null,null,null,null,null,null,null,null,null,null,null,null,null,null,null,null,null,null,null,null,null,null,null,null,null,null,null,null,null,null,null,null,null,null,null,null,null,null,null,null,null,null,null,null,null,null,null,null,null,null,null,null,null,null,null,null,null,null,null,0,0,0,0,0,0,0,0,0,0]
[null,null,null,null,null,null,null,null,null,null,null,null,null,null,null,null,null,null,null,null,null,null,null,null,null,null,null,null,null,null,null,null,null,null,null,null,null,null,null,null,null,null,null,null,null,null,null,null,null,null,null,null,null,null,null,null,null,null,null,null,null,null,null,null,null,0,0,0,0,0,0,0,0,0,0]
[null,null,null,null,null,null,null,null,null,null,null,null,null,null,null,null,null,null,null,null,null,null,null,null,null,null,null,null,null,null,null,null,null,null,null,null,null,null,null,null,null,null,null,null,null,null,null,null,null,null,null,null,null,null,null,null,null,null,null,null,null,null,null,null,null,0,0,0,0,0,0,0,0,0,0]
[null,null,null,null,null,null,null,null,null,null,null,null,null,null,null,null,null,null,null,null,null,null,null,null,null,null,null,null,null,null,null,null,null,null,null,null,null,null,null,null,null,null,null,null,null,null,null,null,null,null,null,null,null,null,null,null,null,null,null,null,null,null,null,null,null,0,0,0,0,0,0,0,0,0,0]
[null,null,null,null,null,null,null,null,null,null,null,null,null,null,null,null,null,null,null,null,null,null,null,null,null,null,null,null,null,null,null,null,null,null,null,null,null,null,null,null,null,null,null,null,null,null,null,null,null,null,null,null,null,null,null,null,null,null,null,null,null,null,null,null,null,0,0,0,0,0,0,0,0,0,0]
[null,null,null,null,null,null,null,null,null,null,null,null,null,null,null,null,null,null,null,null,null,null,null,null,null,null,null,null,null,null,null,null,null,null,null,null,null,null,null,null,null,null,null,null,null,null,null,null,null,null,null,null,null,null,null,null,null,null,null,null,null,null,null,null,null,0,0,0,0,0,0,0,0,0,0]
[null,null,null,null,null,null,null,null,null,null,null,null,null,null,null,null,null,null,null,null,null,null,null,null,null,null,null,null,null,null,null,null,null,null,null,null,null,null,null,null,null,null,null,null,null,null,null,null,null,null,null,null,null,null,null,null,null,null,null,null,null,null,null,null,null,0,0,0,0,0,0,0,0,0,0]
[null,null,null,null,null,null,null,null,null,null,null,null,null,null,null,null,null,null,null,null,null,null,null,null,null,null,null,null,null,null,null,null,null,null,null,null,null,null,null,null,null,null,null,null,null,null,null,null,null,null,null,null,null,null,null,null,null,null,null,null,null,null,null,null,null,0,0,0,0,0,0,0,0,0,0]
[null,null,null,null,null,null,null,null,null,null,null,null,null,null,null,null,null,null,null,null,null,null,null,null,null,null,null,null,null,null,null,null,null,null,null,null,null,null,null,null,null,null,null,null,null,null,null,null,null,null,null,null,null,null,null,null,null,null,null,null,null,null,null,null,null,0,0,0,0,0,0,0,0,0,0]
[null,null,null,null,null,null,null,null,null,null,null,null,null,null,null,null,null,null,null,null,null,null,null,null,null,null,null,null,null,null,null,null,null,null,null,null,null,null,null,null,null,null,null,null,null,null,null,null,null,null,null,null,null,null,null,null,null,null,null,null,null,null,null,null,null,0,0,0,0,0,0,0,0,0,0]
[null,null,null,null,null,null,null,null,null,null,null,null,null,null,null,null,null,null,null,null,null,null,null,null,null,null,null,null,null,null,null,null,null,null,null,null,null,null,null,null,null,null,null,null,null,null,null,null,null,null,null,null,null,null,null,null,null,null,null,null,null,null,null,null,null,0,0,0,0,0,0,0,0,0,0]
[null,null,null,null,null,null,null,null,null,null,null,null,null,null,null,null,null,null,null,null,null,null,null,null,null,null,null,null,null,null,null,null,null,null,null,null,null,null,null,null,null,null,null,null,null,null,null,null,null,null,null,null,null,null,null,null,null,null,null,null,null,null,null,null,null,0,0,0,0,0,0,0,0,0,0]
[null,null,null,null,null,null,null,null,null,null,null,null,null,null,null,null,null,null,null,null,null,null,null,null,null,null,null,null,null,null,null,null,null,null,null,null,null,null,null,null,null,null,null,null,null,null,null,null,null,null,null,null,null,null,null,null,null,null,null,null,null,null,null,null,null,0,0,0,0,0,0,0,0,0,0]
[null,null,null,null,null,null,null,null,null,null,null,null,null,null,null,null,null,null,null,null,null,null,null,null,null,null,null,null,null,null,null,null,null,null,null,null,null,null,null,null,null,null,null,null,null,null,null,null,null,null,null,null,null,null,null,null,null,null,null,null,null,null,null,null,null,0,0,0,0,0,0,0,0,0,0]
[null,null,null,null,null,null,null,null,null,null,null,null,null,null,null,null,null,null,null,null,null,null,null,null,null,null,null,null,null,null,null,null,null,null,null,null,null,null,null,null,null,null,null,null,null,null,null,null,null,null,null,null,null,null,null,null,null,null,null,null,null,null,null,null,null,0,0,0,0,0,0,0,0,0,0]
[null,null,null,null,null,null,null,null,null,null,null,null,null,null,null,null,null,null,null,null,null,null,null,null,null,null,null,null,null,null,null,null,null,null,null,null,null,null,null,null,null,null,null,null,null,null,null,null,null,null,null,null,null,null,null,null,null,null,null,null,null,null,null,null,null,0,0,0,0,0,0,0,0,0,0]
[null,null,null,null,null,null,null,null,null,null,null,null,null,null,null,null,null,null,null,null,null,null,null,null,null,null,null,null,null,null,null,null,null,null,null,null,null,null,null,null,null,null,null,null,null,null,null,null,null,null,null,null,null,null,null,null,null,null,null,null,null,null,null,null,null,0,0,0,0,0,0,0,0,0,0]
[null,null,null,null,null,null,null,null,null,null,null,null,null,null,null,null,null,null,null,null,null,null,null,null,null,null,null,null,null,null,null,null,null,null,null,null,null,null,null,null,null,null,null,null,null,null,null,null,null,null,null,null,null,null,null,null,null,null,null,null,null,null,null,null,null,0,0,0,0,0,0,0,0,0,0]
[null,null,null,null,null,null,null,null,null,null,null,null,null,null,null,null,null,null,null,null,null,null,null,null,null,null,null,null,null,null,null,null,null,null,null,null,null,null,null,null,null,null,null,null,null,null,null,null,null,null,null,null,null,null,null,null,null,null,null,null,null,null,null,null,null,0,0,0,0,0,0,0,0,0,0]
[null,null,null,null,null,null,null,null,null,null,null,null,null,null,null,null,null,null,null,null,null,null,null,null,null,null,null,null,null,null,null,null,null,null,null,null,null,null,null,null,null,null,null,null,null,null,null,null,null,null,null,null,null,null,null,null,null,null,null,null,null,null,null,null,null,0,0,0,0,0,0,0,0,0,0]
[null,null,null,null,null,null,null,null,null,null,null,null,null,null,null,null,null,null,null,null,null,null,null,null,null,null,null,null,null,null,null,null,null,null,null,null,null,null,null,null,null,null,null,null,null,null,null,null,null,null,null,null,null,null,null,null,null,null,null,null,null,null,null,null,null,0,0,0,0,0,0,0,0,0,0]
[null,null,null,null,null,null,null,null,null,null,null,null,null,null,null,null,null,null,null,null,null,null,null,null,null,null,null,null,null,null,null,null,null,null,null,null,null,null,null,null,null,null,null,null,null,null,null,null,null,null,null,null,null,null,null,null,null,null,null,null,null,null,null,null,null,0,0,0,0,0,0,0,0,0,0]
[null,null,null,null,null,null,null,null,null,null,null,null,null,null,null,null,null,null,null,null,null,null,null,null,null,null,null,null,null,null,null,null,null,null,null,null,null,null,null,null,null,null,null,null,null,null,null,null,null,null,null,null,null,null,null,null,null,null,null,null,null,null,null,null,null,0,0,0,0,0,0,0,0,0,0]
[null,null,null,null,null,null,null,null,null,null,null,null,null,null,null,null,null,null,null,null,null,null,null,null,null,null,null,null,null,null,null,null,null,null,null,null,null,null,null,null,null,null,null,null,null,null,null,null,null,null,null,null,null,null,null,null,null,null,null,null,null,null,null,null,null,0,0,0,0,0,0,0,0,0,0]
[null,null,null,null,null,null,null,null,null,null,null,null,null,null,null,null,null,null,null,null,null,null,null,null,null,null,null,null,null,null,null,null,null,null,null,null,null,null,null,null,null,null,null,null,null,null,null,null,null,null,null,null,null,null,null,null,null,null,null,null,null,null,null,null,null,0,0,0,0,0,0,0,0,0,0]
[null,null,null,null,null,null,null,null,null,null,null,null,null,null,null,null,null,null,null,null,null,null,null,null,null,null,null,null,null,null,null,null,null,null,null,null,null,null,null,null,null,null,null,null,null,null,null,null,null,null,null,null,null,null,null,null,null,null,null,null,null,null,null,null,null,0,0,0,0,0,0,0,0,0,0]
[null,null,null,null,null,null,null,null,null,null,null,null,null,null,null,null,null,null,null,null,null,null,null,null,null,null,null,null,null,null,null,null,null,null,null,null,null,null,null,null,null,null,null,null,null,null,null,null,null,null,null,null,null,null,null,null,null,null,null,null,null,null,null,null,null,0,0,0,0,0,0,0,0,0,0]
[null,null,null,null,null,null,null,null,null,null,null,null,null,null,null,null,null,null,null,null,null,null,null,null,null,null,null,null,null,null,null,null,null,null,null,null,null,null,null,null,null,null,null,null,null,null,null,null,null,null,null,null,null,null,null,null,null,null,null,null,null,null,null,null,null,0,0,0,0,0,0,0,0,0,0]
[null,null,null,null,null,null,null,null,null,null,null,null,null,null,null,null,null,null,null,null,null,null,null,null,null,null,null,null,null,null,null,null,null,null,null,null,null,null,null,null,null,null,null,null,null,null,null,null,null,null,null,null,null,null,null,null,null,null,null,null,null,null,null,null,null,0,0,0,0,0,0,0,0,0,0]
[null,null,null,null,null,null,null,null,null,null,null,null,null,null,null,null,null,null,null,null,null,null,null,null,null,null,null,null,null,null,null,null,null,null,null,null,null,null,null,null,null,null,null,null,null,null,null,null,null,null,null,null,null,null,null,null,null,null,null,null,null,null,null,null,null,0,0,0,0,0,0,0,0,0,0]
[null,null,null,null,null,null,null,null,null,null,null,null,null,null,null,null,null,null,null,null,null,null,null,null,null,null,null,null,null,null,null,null,null,null,null,null,null,null,null,null,null,null,null,null,null,null,null,null,null,null,null,null,null,null,null,null,null,null,null,null,null,null,null,null,null,0,0,0,0,0,0,0,0,0,0]
[null,null,null,null,null,null,null,null,null,null,null,null,null,null,null,null,null,null,null,null,null,null,null,null,null,null,null,null,null,null,null,null,null,null,null,null,null,null,null,null,null,null,null,null,null,null,null,null,null,null,null,null,null,null,null,null,null,null,null,null,null,null,null,null,null,0,0,0,0,0,0,0,0,0,0]
[null,null,null,null,null,null,null,null,null,null,null,null,null,null,null,null,null,null,null,null,null,null,null,null,null,null,null,null,null,null,null,null,null,null,null,null,null,null,null,null,null,null,null,null,null,null,null,null,null,null,null,null,null,null,null,null,null,null,null,null,null,null,null,null,null,0,0,0,0,0,0,0,0,0,0]
[null,null,null,null,null,null,null,null,null,null,null,null,null,null,null,null,null,null,null,null,null,null,null,null,null,null,null,null,null,null,null,null,null,null,null,null,null,null,null,null,null,null,null,null,null,null,null,null,null,null,null,null,null,null,null,null,null,null,null,null,null,null,null,null,null,0,0,0,0,0,0,0,0,0,0]
[null,null,null,null,null,null,null,null,null,null,null,null,null,null,null,null,null,null,null,null,null,null,null,null,null,null,null,null,null,null,null,null,null,null,null,null,null,null,null,null,null,null,null,null,null,null,null,null,null,null,null,null,null,null,null,null,null,null,null,null,null,null,null,null,null,0,0,0,0,0,0,0,0,0,0]
[null,null,null,null,null,null,null,null,null,null,null,null,null,null,null,null,null,null,null,null,null,null,null,null,null,null,null,null,null,null,null,null,null,null,null,null,null,null,null,null,null,null,null,null,null,null,null,null,null,null,null,null,null,null,null,null,null,null,null,null,null,null,null,null,null,0,0,0,0,0,0,0,0,0,0]
[null,null,null,null,null,null,null,null,null,null,null,null,null,null,null,null,null,null,null,null,null,null,null,null,null,null,null,null,null,null,null,null,null,null,null,null,null,null,null,null,null,null,null,null,null,null,null,null,null,null,null,null,null,null,null,null,null,null,null,null,null,null,null,null,null,0,0,0,0,0,0,0,0,0,0]
[null,null,null,null,null,null,null,null,null,null,null,null,null,null,null,null,null,null,null,null,null,null,null,null,null,null,null,null,null,null,null,null,null,null,null,null,null,null,null,null,null,null,null,null,null,null,null,null,null,null,null,null,null,null,null,null,null,null,null,null,null,null,null,null,null,0,0,0,0,0,0,0,0,0,0]
[null,null,null,null,null,null,null,null,null,null,null,null,null,null,null,null,null,null,null,null,null,null,null,null,null,null,null,null,null,null,null,null,null,null,null,null,null,null,null,null,null,null,null,null,null,null,null,null,null,null,null,null,null,null,null,null,null,null,null,null,null,null,null,null,null,0,0,0,0,0,0,0,0,0,0]
[null,null,null,null,null,null,null,null,null,null,null,null,null,null,null,null,null,null,null,null,null,null,null,null,null,null,null,null,null,null,null,null,null,null,null,null,null,null,null,null,null,null,null,null,null,null,null,null,null,null,null,null,null,null,null,null,null,null,null,null,null,null,null,null,null,0,0,0,0,0,0,0,0,0,0]
[null,null,null,null,null,null,null,null,null,null,null,null,null,null,null,null,null,null,null,null,null,null,null,null,null,null,null,null,null,null,null,null,null,null,null,null,null,null,null,null,null,null,null,null,null,null,null,null,null,null,null,null,null,null,null,null,null,null,null,null,null,null,null,null,null,0,0,0,0,0,0,0,0,0,0]
[null,null,null,null,null,null,null,null,null,null,null,null,null,null,null,null,null,null,null,null,null,null,null,null,null,null,null,null,null,null,null,null,null,null,null,null,null,null,null,null,null,null,null,null,null,null,null,null,null,null,null,null,null,null,null,null,null,null,null,null,null,null,null,null,null,0,0,0,0,0,0,0,0,0,0]
[null,null,null,null,null,null,null,null,null,null,null,null,null,null,null,null,null,null,null,null,null,null,null,null,null,null,null,null,null,null,null,null,null,null,null,null,null,null,null,null,null,null,null,null,null,null,null,null,null,null,null,null,null,null,null,null,null,null,null,null,null,null,null,null,null,0,0,0,0,0,0,0,0,0,0]
[null,null,null,null,null,null,null,null,null,null,null,null,null,null,null,null,null,null,null,null,null,null,null,null,null,null,null,null,null,null,null,null,null,null,null,null,null,null,null,null,null,null,null,null,null,null,null,null,null,null,null,null,null,null,null,null,null,null,null,null,null,null,null,null,null,0,0,0,0,0,0,0,0,0,0]
[null,null,null,null,null,null,null,null,null,null,null,null,null,null,null,null,null,null,null,null,null,null,null,null,null,null,null,null,null,null,null,null,null,null,null,null,null,null,null,null,null,null,null,null,null,null,null,null,null,null,null,null,null,null,null,null,null,null,null,null,null,null,null,null,null,0,0,0,0,0,0,0,0,0,0]
[null,null,null,null,null,null,null,null,null,null,null,null,null,null,null,null,null,null,null,null,null,null,null,null,null,null,null,null,null,null,null,null,null,null,null,null,null,null,null,null,null,null,null,null,null,null,null,null,null,null,null,null,null,null,null,null,null,null,null,null,null,null,null,null,null,0,0,0,0,0,0,0,0,0,0]
[null,null,null,null,null,null,null,null,null,null,null,null,null,null,null,null,null,null,null,null,null,null,null,null,null,null,null,null,null,null,null,null,null,null,null,null,null,null,null,null,null,null,null,null,null,null,null,null,null,null,null,null,null,null,null,null,null,null,null,null,null,null,null,null,null,0,0,0,0,0,0,0,0,0,0]
[null,null,null,null,null,null,null,null,null,null,null,null,null,null,null,null,null,null,null,null,null,null,null,null,null,null,null,null,null,null,null,null,null,null,null,null,null,null,null,null,null,null,null,null,null,null,null,null,null,null,null,null,null,null,null,null,null,null,null,null,null,null,null,null,null,0,0,0,0,0,0,0,0,0,0]
[null,null,null,null,null,null,null,null,null,null,null,null,null,null,null,null,null,null,null,null,null,null,null,null,null,null,null,null,null,null,null,null,null,null,null,null,null,null,null,null,null,null,null,null,null,null,null,null,null,null,null,null,null,null,null,null,null,null,null,null,null,null,null,null,null,0,0,0,0,0,0,0,0,0,0]
[null,null,null,null,null,null,null,null,null,null,null,null,null,null,null,null,null,null,null,null,null,null,null,null,null,null,null,null,null,null,null,null,null,null,null,null,null,null,null,null,null,null,null,null,null,null,null,null,null,null,null,null,null,null,null,null,null,null,null,null,null,null,null,null,null,0,0,0,0,0,0,0,0,0,0]
[null,null,null,null,null,null,null,null,null,null,null,null,null,null,null,null,null,null,null,null,null,null,null,null,null,null,null,null,null,null,null,null,null,null,null,null,null,null,null,null,null,null,null,null,null,null,null,null,null,null,null,null,null,null,null,null,null,null,null,null,null,null,null,null,null,0,0,0,0,0,0,0,0,0,0]
[null,null,null,null,null,null,null,null,null,null,null,null,null,null,null,null,null,null,null,null,null,null,null,null,null,null,null,null,null,null,null,null,null,null,null,null,null,null,null,null,null,null,null,null,null,null,null,null,null,null,null,null,null,null,null,null,null,null,null,null,null,null,null,null,null,0,0,0,0,0,0,0,0,0,0]
[null,null,null,null,null,null,null,null,null,null,null,null,null,null,null,null,null,null,null,null,null,null,null,null,null,null,null,null,null,null,null,null,null,null,null,null,null,null,null,null,null,null,null,null,null,null,null,null,null,null,null,null,null,null,null,null,null,null,null,null,null,null,null,null,null,0,0,0,0,0,0,0,0,0,0]
[null,null,null,null,null,null,null,null,null,null,null,null,null,null,null,null,null,null,null,null,null,null,null,null,null,null,null,null,null,null,null,null,null,null,null,null,null,null,null,null,null,null,null,null,null,null,null,null,null,null,null,null,null,null,null,null,null,null,null,null,null,null,null,null,null,0,0,0,0,0,0,0,0,0,0]
[null,null,null,null,null,null,null,null,null,null,null,null,null,null,null,null,null,null,null,null,null,null,null,null,null,null,null,null,null,null,null,null,null,null,null,null,null,null,null,null,null,null,null,null,null,null,null,null,null,null,null,null,null,null,null,null,null,null,null,null,null,null,null,null,null,0,0,0,0,0,0,0,0,0,0]
[null,null,null,null,null,null,null,null,null,null,null,null,null,null,null,null,null,null,null,null,null,null,null,null,null,null,null,null,null,null,null,null,null,null,null,null,null,null,null,null,null,null,null,null,null,null,null,null,null,null,null,null,null,null,null,null,null,null,null,null,null,null,null,null,null,0,0,0,0,0,0,0,0,0,0]
[null,null,null,null,null,null,null,null,null,null,null,null,null,null,null,null,null,null,null,null,null,null,null,null,null,null,null,null,null,null,null,null,null,null,null,null,null,null,null,null,null,null,null,null,null,null,null,null,null,null,null,null,null,null,null,null,null,null,null,null,null,null,null,null,null,0,0,0,0,0,0,0,0,0,0]
[null,null,null,null,null,null,null,null,null,null,null,null,null,null,null,null,null,null,null,null,null,null,null,null,null,null,null,null,null,null,null,null,null,null,null,null,null,null,null,null,null,null,null,null,null,null,null,null,null,null,null,null,null,null,null,null,null,null,null,null,null,null,null,null,null,0,0,0,0,0,0,0,0,0,0]
[null,null,null,null,null,null,null,null,null,null,null,null,null,null,null,null,null,null,null,null,null,null,null,null,null,null,null,null,null,null,null,null,null,null,null,null,null,null,null,null,null,null,null,null,null,null,null,null,null,null,null,null,null,null,null,null,null,null,null,null,null,null,null,null,null,0,0,0,0,0,0,0,0,0,0]
[null,null,null,null,null,null,null,null,null,null,null,null,null,null,null,null,null,null,null,null,null,null,null,null,null,null,null,null,null,null,null,null,null,null,null,null,null,null,null,null,null,null,null,null,null,null,null,null,null,null,null,null,null,null,null,null,null,null,null,null,null,null,null,null,null,0,0,0,0,0,0,0,0,0,0]
[null,null,null,null,null,null,null,null,null,null,null,null,null,null,null,null,null,null,null,null,null,null,null,null,null,null,null,null,null,null,null,null,null,null,null,null,null,null,null,null,null,null,null,null,null,null,null,null,null,null,null,null,null,null,null,null,null,null,null,null,null,null,null,null,null,0,0,0,0,0,0,0,0,0,0]
[null,null,null,null,null,null,null,null,null,null,null,null,null,null,null,null,null,null,null,null,null,null,null,null,null,null,null,null,null,null,null,null,null,null,null,null,null,null,null,null,null,null,null,null,null,null,null,null,null,null,null,null,null,null,null,null,null,null,null,null,null,null,null,null,null,0,0,0,0,0,0,0,0,0,0]
[null,null,null,null,null,null,null,null,null,null,null,null,null,null,null,null,null,null,null,null,null,null,null,null,null,null,null,null,null,null,null,null,null,null,null,null,null,null,null,null,null,null,null,null,null,null,null,null,null,null,null,null,null,null,null,null,null,null,null,null,null,null,null,null,null,0,0,0,0,0,0,0,0,0,0]
[null,null,null,null,null,null,null,null,null,null,null,null,null,null,null,null,null,null,null,null,null,null,null,null,null,null,null,null,null,null,null,null,null,null,null,null,null,null,null,null,null,null,null,null,null,null,null,null,null,null,null,null,null,null,null,null,null,null,null,null,null,null,null,null,null,0,0,0,0,0,0,0,0,0,0]
[null,null,null,null,null,null,null,null,null,null,null,null,null,null,null,null,null,null,null,null,null,null,null,null,null,null,null,null,null,null,null,null,null,null,null,null,null,null,null,null,null,null,null,null,null,null,null,null,null,null,null,null,null,null,null,null,null,null,null,null,null,null,null,null,null,0,0,0,0,0,0,0,0,0,0]
[null,null,null,null,null,null,null,null,null,null,null,null,null,null,null,null,null,null,null,null,null,null,null,null,null,null,null,null,null,null,null,null,null,null,null,null,null,null,null,null,null,null,null,null,null,null,null,null,null,null,null,null,null,null,null,null,null,null,null,null,null,null,null,null,null,0,0,0,0,0,0,0,0,0,0]
[null,null,null,null,null,null,null,null,null,null,null,null,null,null,null,null,null,null,null,null,null,null,null,null,null,null,null,null,null,null,null,null,null,null,null,null,null,null,null,null,null,null,null,null,null,null,null,null,null,null,null,null,null,null,null,null,null,null,null,null,null,null,null,null,null,0,0,0,0,0,0,0,0,0,0]
[null,null,null,null,null,null,null,null,null,null,null,null,null,null,null,null,null,null,null,null,null,null,null,null,null,null,null,null,null,null,null,null,null,null,null,null,null,null,null,null,null,null,null,null,null,null,null,null,null,null,null,null,null,null,null,null,null,null,null,null,null,null,null,null,null,0,0,0,0,0,0,0,0,0,0]
[null,null,null,null,null,null,null,null,null,null,null,null,null,null,null,null,null,null,null,null,null,null,null,null,null,null,null,null,null,null,null,null,null,null,null,null,null,null,null,null,null,null,null,null,null,null,null,null,null,null,null,null,null,null,null,null,null,null,null,null,null,null,null,null,null,0,0,0,0,0,0,0,0,0,0]
[null,null,null,null,null,null,null,null,null,null,null,null,null,null,null,null,null,null,null,null,null,null,null,null,null,null,null,null,null,null,null,null,null,null,null,null,null,null,null,null,null,null,null,null,null,null,null,null,null,null,null,null,null,null,null,null,null,null,null,null,null,null,null,null,null,0,0,0,0,0,0,0,0,0,0]
[null,null,null,null,null,null,null,null,null,null,null,null,null,null,null,null,null,null,null,null,null,null,null,null,null,null,null,null,null,null,null,null,null,null,null,null,null,null,null,null,null,null,null,null,null,null,null,null,null,null,null,null,null,null,null,null,null,null,null,null,null,null,null,null,null,0,0,0,0,0,0,0,0,0,0]
[null,null,null,null,null,null,null,null,null,null,null,null,null,null,null,null,null,null,null,null,null,null,null,null,null,null,null,null,null,null,null,null,null,null,null,null,null,null,null,null,null,null,null,null,null,null,null,null,null,null,null,null,null,null,null,null,null,null,null,null,null,null,null,null,null,0,0,0,0,0,0,0,0,0,0]
[null,null,null,null,null,null,null,null,null,null,null,null,null,null,null,null,null,null,null,null,null,null,null,null,null,null,null,null,null,null,null,null,null,null,null,null,null,null,null,null,null,null,null,null,null,null,null,null,null,null,null,null,null,null,null,null,null,null,null,null,null,null,null,null,null,0,0,0,0,0,0,0,0,0,0]
[null,null,null,null,null,null,null,null,null,null,null,null,null,null,null,null,null,null,null,null,null,null,null,null,null,null,null,null,null,null,null,null,null,null,null,null,null,null,null,null,null,null,null,null,null,null,null,null,null,null,null,null,null,null,null,null,null,null,null,null,null,null,null,null,null,0,0,0,0,0,0,0,0,0,0]
[null,null,null,null,null,null,null,null,null,null,null,null,null,null,null,null,null,null,null,null,null,null,null,null,null,null,null,null,null,null,null,null,null,null,null,null,null,null,null,null,null,null,null,null,null,null,null,null,null,null,null,null,null,null,null,null,null,null,null,null,null,null,null,null,null,0,0,0,0,0,0,0,0,0,0]
[null,null,null,null,null,null,null,null,null,null,null,null,null,null,null,null,null,null,null,null,null,null,null,null,null,null,null,null,null,null,null,null,null,null,null,null,null,null,null,null,null,null,null,null,null,null,null,null,null,null,null,null,null,null,null,null,null,null,null,null,null,null,null,null,null,0,0,0,0,0,0,0,0,0,0]
[null,null,null,null,null,null,null,null,null,null,null,null,null,null,null,null,null,null,null,null,null,null,null,null,null,null,null,null,null,null,null,null,null,null,null,null,null,null,null,null,null,null,null,null,null,null,null,null,null,null,null,null,null,null,null,null,null,null,null,null,null,null,null,null,null,0,0,0,0,0,0,0,0,0,0]
[null,null,null,null,null,null,null,null,null,null,null,null,null,null,null,null,null,null,null,null,null,null,null,null,null,null,null,null,null,null,null,null,null,null,null,null,null,null,null,null,null,null,null,null,null,null,null,null,null,null,null,null,null,null,null,null,null,null,null,null,null,null,null,null,null,0,0,0,0,0,0,0,0,0,0]
[null,null,null,null,null,null,null,null,null,null,null,null,null,null,null,null,null,null,null,null,null,null,null,null,null,null,null,null,null,null,null,null,null,null,null,null,null,null,null,null,null,null,null,null,null,null,null,null,null,null,null,null,null,null,null,null,null,null,null,null,null,null,null,null,null,0,0,0,0,0,0,0,0,0,0]
[null,null,null,null,null,null,null,null,null,null,null,null,null,null,null,null,null,null,null,null,null,null,null,null,null,null,null,null,null,null,null,null,null,null,null,null,null,null,null,null,null,null,null,null,null,null,null,null,null,null,null,null,null,null,null,null,null,null,null,null,null,null,null,null,null,0,0,0,0,0,0,0,0,0,0]
[null,null,null,null,null,null,null,null,null,null,null,null,null,null,null,null,null,null,null,null,null,null,null,null,null,null,null,null,null,null,null,null,null,null,null,null,null,null,null,null,null,null,null,null,null,null,null,null,null,null,null,null,null,null,null,null,null,null,null,null,null,null,null,null,null,0,0,0,0,0,0,0,0,0,0]
[null,null,null,null,null,null,null,null,null,null,null,null,null,null,null,null,null,null,null,null,null,null,null,null,null,null,null,null,null,null,null,null,null,null,null,null,null,null,null,null,null,null,null,null,null,null,null,null,null,null,null,null,null,null,null,null,null,null,null,null,null,null,null,null,null,0,0,0,0,0,0,0,0,0,0]
[null,null,null,null,null,null,null,null,null,null,null,null,null,null,null,null,null,null,null,null,null,null,null,null,null,null,null,null,null,null,null,null,null,null,null,null,null,null,null,null,null,null,null,null,null,null,null,null,null,null,null,null,null,null,null,null,null,null,null,null,null,null,null,null,null,0,0,0,0,0,0,0,0,0,0]
[null,null,null,null,null,null,null,null,null,null,null,null,null,null,null,null,null,null,null,null,null,null,null,null,null,null,null,null,null,null,null,null,null,null,null,null,null,null,null,null,null,null,null,null,null,null,null,null,null,null,null,null,null,null,null,null,null,null,null,null,null,null,null,null,null,0,0,0,0,0,0,0,0,0,0]
[null,null,null,null,null,null,null,null,null,null,null,null,null,null,null,null,null,null,null,null,null,null,null,null,null,null,null,null,null,null,null,null,null,null,null,null,null,null,null,null,null,null,null,null,null,null,null,null,null,null,null,null,null,null,null,null,null,null,null,null,null,null,null,null,null,0,0,0,0,0,0,0,0,0,0]
[null,null,null,null,null,null,null,null,null,null,null,null,null,null,null,null,null,null,null,null,null,null,null,null,null,null,null,null,null,null,null,null,null,null,null,null,null,null,null,null,null,null,null,null,null,null,null,null,null,null,null,null,null,null,null,null,null,null,null,null,null,null,null,null,null,0,0,0,0,0,0,0,0,0,0]
[null,null,null,null,null,null,null,null,null,null,null,null,null,null,null,null,null,null,null,null,null,null,null,null,null,null,null,null,null,null,null,null,null,null,null,null,null,null,null,null,null,null,null,null,null,null,null,null,null,null,null,null,null,null,null,null,null,null,null,null,null,null,null,null,null,0,0,0,0,0,0,0,0,0,0]
[null,null,null,null,null,null,null,null,null,null,null,null,null,null,null,null,null,null,null,null,null,null,null,null,null,null,null,null,null,null,null,null,null,null,null,null,null,null,null,null,null,null,null,null,null,null,null,null,null,null,null,null,null,null,null,null,null,null,null,null,null,null,null,null,null,0,0,0,0,0,0,0,0,0,0]
[null,null,null,null,null,null,null,null,null,null,null,null,null,null,null,null,null,null,null,null,null,null,null,null,null,null,null,null,null,null,null,null,null,null,null,null,null,null,null,null,null,null,null,null,null,null,null,null,null,null,null,null,null,null,null,null,null,null,null,null,null,null,null,null,null,0,0,0,0,0,0,0,0,0,0]
[null,null,null,null,null,null,null,null,null,null,null,null,null,null,null,null,null,null,null,null,null,null,null,null,null,null,null,null,null,null,null,null,null,null,null,null,null,null,null,null,null,null,null,null,null,null,null,null,null,null,null,null,null,null,null,null,null,null,null,null,null,null,null,null,null,0,0,0,0,0,0,0,0,0,0]
[null,null,null,null,null,null,null,null,null,null,null,null,null,null,null,null,null,null,null,null,null,null,null,null,null,null,null,null,null,null,null,null,null,null,null,null,null,null,null,null,null,null,null,null,null,null,null,null,null,null,null,null,null,null,null,null,null,null,null,null,null,null,null,null,null,0,0,0,0,0,0,0,0,0,0]
[null,null,null,null,null,null,null,null,null,null,null,null,null,null,null,null,null,null,null,null,null,null,null,null,null,null,null,null,null,null,null,null,null,null,null,null,null,null,null,null,null,null,null,null,null,null,null,null,null,null,null,null,null,null,null,null,null,null,null,null,null,null,null,null,null,0,0,0,0,0,0,0,0,0,0]
[null,null,null,null,null,null,null,null,null,null,null,null,null,null,null,null,null,null,null,null,null,null,null,null,null,null,null,null,null,null,null,null,null,null,null,null,null,null,null,null,null,null,null,null,null,null,null,null,null,null,null,null,null,null,null,null,null,null,null,null,null,null,null,null,null,0,0,0,0,0,0,0,0,0,0]
[null,null,null,null,null,null,null,null,null,null,null,null,null,null,null,null,null,null,null,null,null,null,null,null,null,null,null,null,null,null,null,null,null,null,null,null,null,null,null,null,null,null,null,null,null,null,null,null,null,null,null,null,null,null,null,null,null,null,null,null,null,null,null,null,null,0,0,0,0,0,0,0,0,0,0]
[null,null,null,null,null,null,null,null,null,null,null,null,null,null,null,null,null,null,null,null,null,null,null,null,null,null,null,null,null,null,null,null,null,null,null,null,null,null,null,null,null,null,null,null,null,null,null,null,null,null,null,null,null,null,null,null,null,null,null,null,null,null,null,null,null,0,0,0,0,0,0,0,0,0,0]
[null,null,null,null,null,null,null,null,null,null,null,null,null,null,null,null,null,null,null,null,null,null,null,null,null,null,null,null,null,null,null,null,null,null,null,null,null,null,null,null,null,null,null,null,null,null,null,null,null,null,null,null,null,null,null,null,null,null,null,null,null,null,null,null,null,0,0,0,0,0,0,0,0,0,0]
[null,null,null,null,null,null,null,null,null,null,null,null,null,null,null,null,null,null,null,null,null,null,null,null,null,null,null,null,null,null,null,null,null,null,null,null,null,null,null,null,null,null,null,null,null,null,null,null,null,null,null,null,null,null,null,null,null,null,null,null,null,null,null,null,null,0,0,0,0,0,0,0,0,0,0]
[null,null,null,null,null,null,null,null,null,null,null,null,null,null,null,null,null,null,null,null,null,null,null,null,null,null,null,null,null,null,null,null,null,null,null,null,null,null,null,null,null,null,null,null,null,null,null,null,null,null,null,null,null,null,null,null,null,null,null,null,null,null,null,null,null,0,0,0,0,0,0,0,0,0,0]
[null,null,null,null,null,null,null,null,null,null,null,null,null,null,null,null,null,null,null,null,null,null,null,null,null,null,null,null,null,null,null,null,null,null,null,null,null,null,null,null,null,null,null,null,null,null,null,null,null,null,null,null,null,null,null,null,null,null,null,null,null,null,null,null,null,0,0,0,0,0,0,0,0,0,0]
[null,null,null,null,null,null,null,null,null,null,null,null,null,null,null,null,null,null,null,null,null,null,null,null,null,null,null,null,null,null,null,null,null,null,null,null,null,null,null,null,null,null,null,null,null,null,null,null,null,null,null,null,null,null,null,null,null,null,null,null,null,null,null,null,null,0,0,0,0,0,0,0,0,0,0]
[null,null,null,null,null,null,null,null,null,null,null,null,null,null,null,null,null,null,null,null,null,null,null,null,null,null,null,null,null,null,null,null,null,null,null,null,null,null,null,null,null,null,null,null,null,null,null,null,null,null,null,null,null,null,null,null,null,null,null,null,null,null,null,null,null,0,0,0,0,0,0,0,0,0,0]
[null,null,null,null,null,null,null,null,null,null,null,null,null,null,null,null,null,null,null,null,null,null,null,null,null,null,null,null,null,null,null,null,null,null,null,null,null,null,null,null,null,null,null,null,null,null,null,null,null,null,null,null,null,null,null,null,null,null,null,null,null,null,null,null,null,0,0,0,0,0,0,0,0,0,0]
[null,null,null,null,null,null,null,null,null,null,null,null,null,null,null,null,null,null,null,null,null,null,null,null,null,null,null,null,null,null,null,null,null,null,null,null,null,null,null,null,null,null,null,null,null,null,null,null,null,null,null,null,null,null,null,null,null,null,null,null,null,null,null,null,null,0,0,0,0,0,0,0,0,0,0]
[null,null,null,null,null,null,null,null,null,null,null,null,null,null,null,null,null,null,null,null,null,null,null,null,null,null,null,null,null,null,null,null,null,null,null,null,null,null,null,null,null,null,null,null,null,null,null,null,null,null,null,null,null,null,null,null,null,null,null,null,null,null,null,null,null,0,0,0,0,0,0,0,0,0,0]
[null,null,null,null,null,null,null,null,null,null,null,null,null,null,null,null,null,null,null,null,null,null,null,null,null,null,null,null,null,null,null,null,null,null,null,null,null,null,null,null,null,null,null,null,null,null,null,null,null,null,null,null,null,null,null,null,null,null,null,null,null,null,null,null,null,0,0,0,0,0,0,0,0,0,0]
[null,null,null,null,null,null,null,null,null,null,null,null,null,null,null,null,null,null,null,null,null,null,null,null,null,null,null,null,null,null,null,null,null,null,null,null,null,null,null,null,null,null,null,null,null,null,null,null,null,null,null,null,null,null,null,null,null,null,null,null,null,null,null,null,null,0,0,0,0,0,0,0,0,0,0]
[null,null,null,null,null,null,null,null,null,null,null,null,null,null,null,null,null,null,null,null,null,null,null,null,null,null,null,null,null,null,null,null,null,null,null,null,null,null,null,null,null,null,null,null,null,null,null,null,null,null,null,null,null,null,null,null,null,null,null,null,null,null,null,null,null,0,0,0,0,0,0,0,0,0,0]
[null,null,null,null,null,null,null,null,null,null,null,null,null,null,null,null,null,null,null,null,null,null,null,null,null,null,null,null,null,null,null,null,null,null,null,null,null,null,null,null,null,null,null,null,null,null,null,null,null,null,null,null,null,null,null,null,null,null,null,null,null,null,null,null,null,0,0,0,0,0,0,0,0,0,0]
[null,null,null,null,null,null,null,null,null,null,null,null,null,null,null,null,null,null,null,null,null,null,null,null,null,null,null,null,null,null,null,null,null,null,null,null,null,null,null,null,null,null,null,null,null,null,null,null,null,null,null,null,null,null,null,null,null,null,null,null,null,null,null,null,null,0,0,0,0,0,0,0,0,0,0]
[null,null,null,null,null,null,null,null,null,null,null,null,null,null,null,null,null,null,null,null,null,null,null,null,null,null,null,null,null,null,null,null,null,null,null,null,null,null,null,null,null,null,null,null,null,null,null,null,null,null,null,null,null,null,null,null,null,null,null,null,null,null,null,null,null,0,0,0,0,0,0,0,0,0,0]
[null,null,null,null,null,null,null,null,null,null,null,null,null,null,null,null,null,null,null,null,null,null,null,null,null,null,null,null,null,null,null,null,null,null,null,null,null,null,null,null,null,null,null,null,null,null,null,null,null,null,null,null,null,null,null,null,null,null,null,null,null,null,null,null,null,0,0,0,0,0,0,0,0,0,0]
[null,null,null,null,null,null,null,null,null,null,null,null,null,null,null,null,null,null,null,null,null,null,null,null,null,null,null,null,null,null,null,null,null,null,null,null,null,null,null,null,null,null,null,null,null,null,null,null,null,null,null,null,null,null,null,null,null,null,null,null,null,null,null,null,null,0,0,0,0,0,0,0,0,0,0]
[null,null,null,null,null,null,null,null,null,null,null,null,null,null,null,null,null,null,null,null,null,null,null,null,null,null,null,null,null,null,null,null,null,null,null,null,null,null,null,null,null,null,null,null,null,null,null,null,null,null,null,null,null,null,null,null,null,null,null,null,null,null,null,null,null,0,0,0,0,0,0,0,0,0,0]
[null,null,null,null,null,null,null,null,null,null,null,null,null,null,null,null,null,null,null,null,null,null,null,null,null,null,null,null,null,null,null,null,null,null,null,null,null,null,null,null,null,null,null,null,null,null,null,null,null,null,null,null,null,null,null,null,null,null,null,null,null,null,null,null,null,0,0,0,0,0,0,0,0,0,0]
[null,null,null,null,null,null,null,null,null,null,null,null,null,null,null,null,null,null,null,null,null,null,null,null,null,null,null,null,null,null,null,null,null,null,null,null,null,null,null,null,null,null,null,null,null,null,null,null,null,null,null,null,null,null,null,null,null,null,null,null,null,null,null,null,null,0,0,0,0,0,0,0,0,0,0]
[null,null,null,null,null,null,null,null,null,null,null,null,null,null,null,null,null,null,null,null,null,null,null,null,null,null,null,null,null,null,null,null,null,null,null,null,null,null,null,null,null,null,null,null,null,null,null,null,null,null,null,null,null,null,null,null,null,null,null,null,null,null,null,null,null,0,0,0,0,0,0,0,0,0,0]
[null,null,null,null,null,null,null,null,null,null,null,null,null,null,null,null,null,null,null,null,null,null,null,null,null,null,null,null,null,null,null,null,null,null,null,null,null,null,null,null,null,null,null,null,null,null,null,null,null,null,null,null,null,null,null,null,null,null,null,null,null,null,null,null,null,0,0,0,0,0,0,0,0,0,0]
[null,null,null,null,null,null,null,null,null,null,null,null,null,null,null,null,null,null,null,null,null,null,null,null,null,null,null,null,null,null,null,null,null,null,null,null,null,null,null,null,null,null,null,null,null,null,null,null,null,null,null,null,null,null,null,null,null,null,null,null,null,{"$f":"SUM(BH798:BH919)","v":0},null,null,null,0,0,0,0,0,0,0,0,0,0]
[null,null,null,null,null,null,null,null,null,null,null,null,null,null,null,null,null,null,null,null,null,null,null,null,null,null,null,null,null,null,null,null,null,null,null,null,null,null,null,null,null,null,null,null,null,null,null,null,null,null,null,null,null,null,null,null,null,null,null,null,null,null,null,null,null,0,0,0,0,0,0,0,0,0,0]
[null,null,null,null,null,null,null,null,null,null,null,null,null,null,null,null,null,null,null,null,null,null,null,null,null,null,null,null,null,null,null,null,null,null,null,null,null,null,null,null,null,null,null,null,null,null,null,null,null,null,null,null,null,null,null,null,null,null,null,null,null,null,null,null,null,0,0,0,0,0,0,0,0,0,0]
[null,null,null,null,null,null,null,null,null,null,null,null,null,null,null,null,null,null,null,null,null,null,null,null,null,null,null,null,null,null,null,null,null,null,null,null,null,null,null,null,null,null,null,null,null,null,null,null,null,null,null,null,null,null,null,null,null,null,null,null,null,null,null,null,null,0,0,0,0,0,0,0,0,0,0]
[null,null,null,null,null,null,null,null,null,null,null,null,null,null,null,null,null,null,null,null,null,null,null,null,null,null,null,null,null,null,null,null,null,null,null,null,null,null,null,null,null,null,null,null,null,null,null,null,null,null,null,null,null,null,null,null,null,null,null,null,null,null,null,null,null,0,0,0,0,0,0,0,0,0,0]
[null,null,null,null,null,null,null,null,null,null,null,null,null,null,null,null,null,null,null,null,null,null,null,null,null,null,null,null,null,null,null,null,null,null,null,null,null,null,null,null,null,null,null,null,null,null,null,null,null,null,null,null,null,null,null,null,null,null,null,null,null,null,null,null,null,0,0,0,0,0,0,0,0,0,0]
[null,null,null,null,null,null,null,null,null,null,null,null,null,null,null,null,null,null,null,null,null,null,null,null,null,null,null,null,null,null,null,null,null,null,null,null,null,null,null,null,null,null,null,null,null,null,null,null,null,null,null,null,null,null,null,null,null,null,null,null,null,null,null,null,null,0,0,0,0,0,0,0,0,0,0]
[null,null,null,null,null,null,null,null,null,null,null,null,null,null,null,null,null,null,null,null,null,null,null,null,null,null,null,null,null,null,null,null,null,null,null,null,null,null,null,null,null,null,null,null,null,null,null,null,null,null,null,null,null,null,null,null,null,null,null,null,null,null,null,null,null,0,0,0,0,0,0,0,0,0,0]
[null,null,null,null,null,null,null,null,null,null,null,null,null,null,null,null,null,null,null,null,null,null,null,null,null,null,null,null,null,null,null,null,null,null,null,null,null,null,null,null,null,null,null,null,null,null,null,null,null,null,null,null,null,null,null,null,null,null,null,null,null,null,null,null,null,0,0,0,0,0,0,0,0,0,0]
[null,null,null,null,null,null,null,null,null,null,null,null,null,null,null,null,null,null,null,null,null,null,null,null,null,null,null,null,null,null,null,null,null,null,null,null,null,null,null,null,null,null,null,null,null,null,null,null,null,null,null,null,null,null,null,null,null,null,null,null,null,null,null,null,null,0,0,0,0,0,0,0,0,0,0]
[null,null,null,null,null,null,null,null,null,null,null,null,null,null,null,null,null,null,null,null,null,null,null,null,null,null,null,null,null,null,null,null,null,null,null,null,null,null,null,null,null,null,null,null,null,null,null,null,null,null,null,null,null,null,null,null,null,null,null,null,null,null,null,null,null,0,0,0,0,0,0,0,0,0,0]
[null,null,null,null,null,null,null,null,null,null,null,null,null,null,null,null,null,null,null,null,null,null,null,null,null,null,null,null,null,null,null,null,null,null,null,null,null,null,null,null,null,null,null,null,null,null,null,null,null,null,null,null,null,null,null,null,null,null,null,null,null,null,null,null,null,0,0,0,0,0,0,0,0,0,0]
[null,null,null,null,null,null,null,null,null,null,null,null,null,null,null,null,null,null,null,null,null,null,null,null,null,null,null,null,null,null,null,null,null,null,null,null,null,null,null,null,null,null,null,null,null,null,null,null,null,null,null,null,null,null,null,null,null,null,null,null,null,null,null,null,null,0,0,0,0,0,0,0,0,0,0]
[null,null,null,null,null,null,null,null,null,null,null,null,null,null,null,null,null,null,null,null,null,null,null,null,null,null,null,null,null,null,null,null,null,null,null,null,null,null,null,null,null,null,null,null,null,null,null,null,null,null,null,null,null,null,null,null,null,null,null,null,null,null,null,null,null,0,0,0,0,0,0,0,0,0,0]
[null,null,null,null,null,null,null,null,null,null,null,null,null,null,null,null,null,null,null,null,null,null,null,null,null,null,null,null,null,null,null,null,null,null,null,null,null,null,null,null,null,null,null,null,null,null,null,null,null,null,null,null,null,null,null,null,null,null,null,null,null,null,null,null,null,0,0,0,0,0,0,0,0,0,0]
[null,null,null,null,null,null,null,null,null,null,null,null,null,null,null,null,null,null,null,null,null,null,null,null,null,null,null,null,null,null,null,null,null,null,null,null,null,null,null,null,null,null,null,null,null,null,null,null,null,null,null,null,null,null,null,null,null,null,null,null,null,null,null,null,null,0,0,0,0,0,0,0,0,0,0]
[null,null,null,null,null,null,null,null,null,null,null,null,null,null,null,null,null,null,null,null,null,null,null,null,null,null,null,null,null,null,null,null,null,null,null,null,null,null,null,null,null,null,null,null,null,null,null,null,null,null,null,null,null,null,null,null,null,null,null,null,null,null,null,null,null,0,0,0,0,0,0,0,0,0,0]
[null,null,null,null,null,null,null,null,null,null,null,null,null,null,null,null,null,null,null,null,null,null,null,null,null,null,null,null,null,null,null,null,null,null,null,null,null,null,null,null,null,null,null,null,null,null,null,null,null,null,null,null,null,null,null,null,null,null,null,null,null,null,null,null,null,0,0,0,0,0,0,0,0,0,0]
[null,null,null,null,null,null,null,null,null,null,null,null,null,null,null,null,null,null,null,null,null,null,null,null,null,null,null,null,null,null,null,null,null,null,null,null,null,null,null,null,null,null,null,null,null,null,null,null,null,null,null,null,null,null,null,null,null,null,null,null,null,null,null,null,null,0,0,0,0,0,0,0,0,0,0]
[null,null,null,null,null,null,null,null,null,null,null,null,null,null,null,null,null,null,null,null,null,null,null,null,null,null,null,null,null,null,null,null,null,null,null,null,null,null,null,null,null,null,null,null,null,null,null,null,null,null,null,null,null,null,null,null,null,null,null,null,null,null,null,null,null,0,0,0,0,0,0,0,0,0,0]
[null,null,null,null,null,null,null,null,null,null,null,null,null,null,null,null,null,null,null,null,null,null,null,null,null,null,null,null,null,null,null,null,null,null,null,null,null,null,null,null,null,null,null,null,null,null,null,null,null,null,null,null,null,null,null,null,null,null,null,null,null,null,null,null,null,0,0,0,0,0,0,0,0,0,0]
[null,null,null,null,null,null,null,null,null,null,null,null,null,null,null,null,null,null,null,null,null,null,null,null,null,null,null,null,null,null,null,null,null,null,null,null,null,null,null,null,null,null,null,null,null,null,null,null,null,null,null,null,null,null,null,null,null,null,null,null,null,null,null,null,null,0,0,0,0,0,0,0,0,0,0]
[null,null,null,null,null,null,null,null,null,null,null,null,null,null,null,null,null,null,null,null,null,null,null,null,null,null,null,null,null,null,null,null,null,null,null,null,null,null,null,null,null,null,null,null,null,null,null,null,null,null,null,null,null,null,null,null,null,null,null,null,null,null,null,null,null,0,0,0,0,0,0,0,0,0,0]
[null,null,null,null,null,null,null,null,null,null,null,null,null,null,null,null,null,null,null,null,null,null,null,null,null,null,null,null,null,null,null,null,null,null,null,null,null,null,null,null,null,null,null,null,null,null,null,null,null,null,null,null,null,null,null,null,null,null,null,null,null,null,null,null,null,0,0,0,0,0,0,0,0,0,0]
[null,null,null,null,null,null,null,null,null,null,null,null,null,null,null,null,null,null,null,null,null,null,null,null,null,null,null,null,null,null,null,null,null,null,null,null,null,null,null,null,null,null,null,null,null,null,null,null,null,null,null,null,null,null,null,null,null,null,null,null,null,null,null,null,null,0,0,0,0,0,0,0,0,0,0]
[null,null,null,null,null,null,null,null,null,null,null,null,null,null,null,null,null,null,null,null,null,null,null,null,null,null,null,null,null,null,null,null,null,null,null,null,null,null,null,null,null,null,null,null,null,null,null,null,null,null,null,null,null,null,null,null,null,null,null,null,null,null,null,null,null,0,0,0,0,0,0,0,0,0,0]
[null,null,null,null,null,null,null,null,null,null,null,null,null,null,null,null,null,null,null,null,null,null,null,null,null,null,null,null,null,null,null,null,null,null,null,null,null,null,null,null,null,null,null,null,null,null,null,null,null,null,null,null,null,null,null,null,null,null,null,null,null,null,null,null,null,0,0,0,0,0,0,0,0,0,0]
[null,null,null,null,null,null,null,null,null,null,null,null,null,null,null,null,null,null,null,null,null,null,null,null,null,null,null,null,null,null,null,null,null,null,null,null,null,null,null,null,null,null,null,null,null,null,null,null,null,null,null,null,null,null,null,null,null,null,null,null,null,null,null,null,null,0,0,0,0,0,0,0,0,0,0]
[null,null,null,null,null,null,null,null,null,null,null,null,null,null,null,null,null,null,null,null,null,null,null,null,null,null,null,null,null,null,null,null,null,null,null,null,null,null,null,null,null,null,null,null,null,null,null,null,null,null,null,null,null,null,null,null,null,null,null,null,null,null,null,null,null,0,0,0,0,0,0,0,0,0,0]
[null,null,null,null,null,null,null,null,null,null,null,null,null,null,null,null,null,null,null,null,null,null,null,null,null,null,null,null,null,null,null,null,null,null,null,null,null,null,null,null,null,null,null,null,null,null,null,null,null,null,null,null,null,null,null,null,null,null,null,null,null,null,null,null,null,0,0,0,0,0,0,0,0,0,0]
[null,null,null,null,null,null,null,null,null,null,null,null,null,null,null,null,null,null,null,null,null,null,null,null,null,null,null,null,null,null,null,null,null,null,null,null,null,null,null,null,null,null,null,null,null,null,null,null,null,null,null,null,null,null,null,null,null,null,null,null,null,null,null,null,null,0,0,0,0,0,0,0,0,0,0]
[null,null,null,null,null,null,null,null,null,null,null,null,null,null,null,null,null,null,null,null,null,null,null,null,null,null,null,null,null,null,null,null,null,null,null,null,null,null,null,null,null,null,null,null,null,null,null,null,null,null,null,null,null,null,null,null,null,null,null,null,null,null,null,null,null,0,0,0,0,0,0,0,0,0,0]
[null,null,null,null,null,null,null,null,null,null,null,null,null,null,null,null,null,null,null,null,null,null,null,null,null,null,null,null,null,null,null,null,null,null,null,null,null,null,null,null,null,null,null,null,null,null,null,null,null,null,null,null,null,null,null,null,null,null,null,null,null,null,null,null,null,0,0,0,0,0,0,0,0,0,0]
[null,null,null,null,null,null,null,null,null,null,null,null,null,null,null,null,null,null,null,null,null,null,null,null,null,null,null,null,null,null,null,null,null,null,null,null,null,null,null,null,null,null,null,null,null,null,null,null,null,null,null,null,null,null,null,null,null,null,null,null,null,null,null,null,null,0,0,0,0,0,0,0,0,0,0]
[null,null,null,null,null,null,null,null,null,null,null,null,null,null,null,null,null,null,null,null,null,null,null,null,null,null,null,null,null,null,null,null,null,null,null,null,null,null,null,null,null,null,null,null,null,null,null,null,null,null,null,null,null,null,null,null,null,null,null,null,null,null,null,null,null,0,0,0,0,0,0,0,0,0,0]
[null,null,null,null,null,null,null,null,null,null,null,null,null,null,null,null,null,null,null,null,null,null,null,null,null,null,null,null,null,null,null,null,null,null,null,null,null,null,null,null,null,null,null,null,null,null,null,null,null,null,null,null,null,null,null,null,null,null,null,null,null,null,null,null,null,0,0,0,0,0,0,0,0,0,0]
[null,null,null,null,null,null,null,null,null,null,null,null,null,null,null,null,null,null,null,null,null,null,null,null,null,null,null,null,null,null,null,null,null,null,null,null,null,null,null,null,null,null,null,null,null,null,null,null,null,null,null,null,null,null,null,null,null,null,null,null,null,null,null,null,null,0,0,0,0,0,0,0,0,0,0]
[null,null,null,null,null,null,null,null,null,null,null,null,null,null,null,null,null,null,null,null,null,null,null,null,null,null,null,null,null,null,null,null,null,null,null,null,null,null,null,null,null,null,null,null,null,null,null,null,null,null,null,null,null,null,null,null,null,null,null,null,null,null,null,null,null,0,0,0,0,0,0,0,0,0,0]
[null,null,null,null,null,null,null,null,null,null,null,null,null,null,null,null,null,null,null,null,null,null,null,null,null,null,null,null,null,null,null,null,null,null,null,null,null,null,null,null,null,null,null,null,null,null,null,null,null,null,null,null,null,null,null,null,null,null,null,null,null,null,null,null,null,0,0,0,0,0,0,0,0,0,0]
[null,null,null,null,null,null,null,null,null,null,null,null,null,null,null,null,null,null,null,null,null,null,null,null,null,null,null,null,null,null,null,null,null,null,null,null,null,null,null,null,null,null,null,null,null,null,null,null,null,null,null,null,null,null,null,null,null,null,null,null,null,null,null,null,null,0,0,0,0,0,0,0,0,0,0]
[null,null,null,null,null,null,null,null,null,null,null,null,null,null,null,null,null,null,null,null,null,null,null,null,null,null,null,null,null,null,null,null,null,null,null,null,null,null,null,null,null,null,null,null,null,null,null,null,null,null,null,null,null,null,null,null,null,null,null,null,null,null,null,null,null,0,0,0,0,0,0,0,0,0,0]
[null,null,null,null,null,null,null,null,null,null,null,null,null,null,null,null,null,null,null,null,null,null,null,null,null,null,null,null,null,null,null,null,null,null,null,null,null,null,null,null,null,null,null,null,null,null,null,null,null,null,null,null,null,null,null,null,null,null,null,null,null,null,null,null,null,0,0,0,0,0,0,0,0,0,0]
[null,null,null,null,null,null,null,null,null,null,null,null,null,null,null,null,null,null,null,null,null,null,null,null,null,null,null,null,null,null,null,null,null,null,null,null,null,null,null,null,null,null,null,null,null,null,null,null,null,null,null,null,null,null,null,null,null,null,null,null,null,null,null,null,null,0,0,0,0,0,0,0,0,0,0]
[null,null,null,null,null,null,null,null,null,null,null,null,null,null,null,null,null,null,null,null,null,null,null,null,null,null,null,null,null,null,null,null,null,null,null,null,null,null,null,null,null,null,null,null,null,null,null,null,null,null,null,null,null,null,null,null,null,null,null,null,null,null,null,null,null,0,0,0,0,0,0,0,0,0,0]
[null,null,null,null,null,null,null,null,null,null,null,null,null,null,null,null,null,null,null,null,null,null,null,null,null,null,null,null,null,null,null,null,null,null,null,null,null,null,null,null,null,null,null,null,null,null,null,null,null,null,null,null,null,null,null,null,null,null,null,null,null,null,null,null,null,0,0,0,0,0,0,0,0,0,0]
[null,null,null,null,null,null,null,null,null,null,null,null,null,null,null,null,null,null,null,null,null,null,null,null,null,null,null,null,null,null,null,null,null,null,null,null,null,null,null,null,null,null,null,null,null,null,null,null,null,null,null,null,null,null,null,null,null,null,null,null,null,null,null,null,null,0,0,0,0,0,0,0,0,0,0]
[null,null,null,null,null,null,null,null,null,null,null,null,null,null,null,null,null,null,null,null,null,null,null,null,null,null,null,null,null,null,null,null,null,null,null,null,null,null,null,null,null,null,null,null,null,null,null,null,null,null,null,null,null,null,null,null,null,null,null,null,null,null,null,null,null,0,0,0,0,0,0,0,0,0,0]
[null,null,null,null,null,null,null,null,null,null,null,null,null,null,null,null,null,null,null,null,null,null,null,null,null,null,null,null,null,null,null,null,null,null,null,null,null,null,null,null,null,null,null,null,null,null,null,null,null,null,null,null,null,null,null,null,null,null,null,null,null,null,null,null,null,0,0,0,0,0,0,0,0,0,0]
[null,null,null,null,null,null,null,null,null,null,null,null,null,null,null,null,null,null,null,null,null,null,null,null,null,null,null,null,null,null,null,null,null,null,null,null,null,null,null,null,null,null,null,null,null,null,null,null,null,null,null,null,null,null,null,null,null,null,null,null,null,null,null,null,null,0,0,0,0,0,0,0,0,0,0]
[null,null,null,null,null,null,null,null,null,null,null,null,null,null,null,null,null,null,null,null,null,null,null,null,null,null,null,null,null,null,null,null,null,null,null,null,null,null,null,null,null,null,null,null,null,null,null,null,null,null,null,null,null,null,null,null,null,null,null,null,null,null,null,null,null,0,0,0,0,0,0,0,0,0,0]
[null,null,null,null,null,null,null,null,null,null,null,null,null,null,null,null,null,null,null,null,null,null,null,null,null,null,null,null,null,null,null,null,null,null,null,null,null,null,null,null,null,null,null,null,null,null,null,null,null,null,null,null,null,null,null,null,null,null,null,null,null,null,null,null,null,0,0,0,0,0,0,0,0,0,0]
[null,null,null,null,null,null,null,null,null,null,null,null,null,null,null,null,null,null,null,null,null,null,null,null,null,null,null,null,null,null,null,null,null,null,null,null,null,null,null,null,null,null,null,null,null,null,null,null,null,null,null,null,null,null,null,null,null,null,null,null,null,null,null,null,null,0,0,0,0,0,0,0,0,0,0]
[null,null,null,null,null,null,null,null,null,null,null,null,null,null,null,null,null,null,null,null,null,null,null,null,null,null,null,null,null,null,null,null,null,null,null,null,null,null,null,null,null,null,null,null,null,null,null,null,null,null,null,null,null,null,null,null,null,null,null,null,null,null,null,null,null,0,0,0,0,0,0,0,0,0,0]
[null,null,null,null,null,null,null,null,null,null,null,null,null,null,null,null,null,null,null,null,null,null,null,null,null,null,null,null,null,null,null,null,null,null,null,null,null,null,null,null,null,null,null,null,null,null,null,null,null,null,null,null,null,null,null,null,null,null,null,null,null,null,null,null,null,0,0,0,0,0,0,0,0,0,0]
[null,null,null,null,null,null,null,null,null,null,null,null,null,null,null,null,null,null,null,null,null,null,null,null,null,null,null,null,null,null,null,null,null,null,null,null,null,null,null,null,null,null,null,null,null,null,null,null,null,null,null,null,null,null,null,null,null,null,null,null,null,null,null,null,null,0,0,0,0,0,0,0,0,0,0]
[null,null,null,null,null,null,null,null,null,null,null,null,null,null,null,null,null,null,null,null,null,null,null,null,null,null,null,null,null,null,null,null,null,null,null,null,null,null,null,null,null,null,null,null,null,null,null,null,null,null,null,null,null,null,null,null,null,null,null,null,null,null,null,null,null,0,0,0,0,0,0,0,0,0,0]
[null,null,null,null,null,null,null,null,null,null,null,null,null,null,null,null,null,null,null,null,null,null,null,null,null,null,null,null,null,null,null,null,null,null,null,null,null,null,null,null,null,null,null,null,null,null,null,null,null,null,null,null,null,null,null,null,null,null,null,null,null,null,null,null,null,0,0,0,0,0,0,0,0,0,0]
[null,null,null,null,null,null,null,null,null,null,null,null,null,null,null,null,null,null,null,null,null,null,null,null,null,null,null,null,null,null,null,null,null,null,null,null,null,null,null,null,null,null,null,null,null,null,null,null,null,null,null,null,null,null,null,null,null,null,null,null,null,null,null,null,null,0,0,0,0,0,0,0,0,0,0]
[null,null,null,null,null,null,null,null,null,null,null,null,null,null,null,null,null,null,null,null,null,null,null,null,null,null,null,null,null,null,null,null,null,null,null,null,null,null,null,null,null,null,null,null,null,null,null,null,null,null,null,null,null,null,null,null,null,null,null,null,null,null,null,null,null,0,0,0,0,0,0,0,0,0,0]
[null,null,null,null,null,null,null,null,null,null,null,null,null,null,null,null,null,null,null,null,null,null,null,null,null,null,null,null,null,null,null,null,null,null,null,null,null,null,null,null,null,null,null,null,null,null,null,null,null,null,null,null,null,null,null,null,null,null,null,null,null,null,null,null,null,0,0,0,0,0,0,0,0,0,0]
[null,null,null,null,null,null,null,null,null,null,null,null,null,null,null,null,null,null,null,null,null,null,null,null,null,null,null,null,null,null,null,null,null,null,null,null,null,null,null,null,null,null,null,null,null,null,null,null,null,null,null,null,null,null,null,null,null,null,null,null,null,null,null,null,null,0,0,0,0,0,0,0,0,0,0]
[null,null,null,null,null,null,null,null,null,null,null,null,null,null,null,null,null,null,null,null,null,null,null,null,null,null,null,null,null,null,null,null,null,null,null,null,null,null,null,null,null,null,null,null,null,null,null,null,null,null,null,null,null,null,null,null,null,null,null,null,null,null,null,null,null,0,0,0,0,0,0,0,0,0,0]
[null,null,null,null,null,null,null,null,null,null,null,null,null,null,null,null,null,null,null,null,null,null,null,null,null,null,null,null,null,null,null,null,null,null,null,null,null,null,null,null,null,null,null,null,null,null,null,null,null,null,null,null,null,null,null,null,null,null,null,null,null,null,null,null,null,0,0,0,0,0,0,0,0,0,0]
[null,null,null,null,null,null,null,null,null,null,null,null,null,null,null,null,null,null,null,null,null,null,null,null,null,null,null,null,null,null,null,null,null,null,null,null,null,null,null,null,null,null,null,null,null,null,null,null,null,null,null,null,null,null,null,null,null,null,null,null,null,null,null,null,null,0,0,0,0,0,0,0,0,0,0]
[null,null,null,null,null,null,null,null,null,null,null,null,null,null,null,null,null,null,null,null,null,null,null,null,null,null,null,null,null,null,null,null,null,null,null,null,null,null,null,null,null,null,null,null,null,null,null,null,null,null,null,null,null,null,null,null,null,null,null,null,null,null,null,null,null,0,0,0,0,0,0,0,0,0,0]
[null,null,null,null,null,null,null,null,null,null,null,null,null,null,null,null,null,null,null,null,null,null,null,null,null,null,null,null,null,null,null,null,null,null,null,null,null,null,null,null,null,null,null,null,null,null,null,null,null,null,null,null,null,null,null,null,null,null,null,null,null,null,null,null,null,0,0,0,0,0,0,0,0,0,0]
[null,null,null,null,null,null,null,null,null,null,null,null,null,null,null,null,null,null,null,null,null,null,null,null,null,null,null,null,null,null,null,null,null,null,null,null,null,null,null,null,null,null,null,null,null,null,null,null,null,null,null,null,null,null,null,null,null,null,null,null,null,null,null,null,null,0,0,0,0,0,0,0,0,0,0]
[null,null,null,null,null,null,null,null,null,null,null,null,null,null,null,null,null,null,null,null,null,null,null,null,null,null,null,null,null,null,null,null,null,null,null,null,null,null,null,null,null,null,null,null,null,null,null,null,null,null,null,null,null,null,null,null,null,null,null,null,null,null,null,null,null,0,0,0,0,0,0,0,0,0,0]
[null,null,null,null,null,null,null,null,null,null,null,null,null,null,null,null,null,null,null,null,null,null,null,null,null,null,null,null,null,null,null,null,null,null,null,null,null,null,null,null,null,null,null,null,null,null,null,null,null,null,null,null,null,null,null,null,null,null,null,null,null,null,null,null,null,0,0,0,0,0,0,0,0,0,0]
[null,null,null,null,null,null,null,null,null,null,null,null,null,null,null,null,null,null,null,null,null,null,null,null,null,null,null,null,null,null,null,null,null,null,null,null,null,null,null,null,null,null,null,null,null,null,null,null,null,null,null,null,null,null,null,null,null,null,null,null,null,null,null,null,null,0,0,0,0,0,0,0,0,0,0]
[null,null,null,null,null,null,null,null,null,null,null,null,null,null,null,null,null,null,null,null,null,null,null,null,null,null,null,null,null,null,null,null,null,null,null,null,null,null,null,null,null,null,null,null,null,null,null,null,null,null,null,null,null,null,null,null,null,null,null,null,null,null,null,null,null,0,0,0,0,0,0,0,0,0,0]
[null,null,null,null,null,null,null,null,null,null,null,null,null,null,null,null,null,null,null,null,null,null,null,null,null,null,null,null,null,null,null,null,null,null,null,null,null,null,null,null,null,null,null,null,null,null,null,null,null,null,null,null,null,null,null,null,null,null,null,null,null,null,null,null,null,0,0,0,0,0,0,0,0,0,0]
[null,null,null,null,null,null,null,null,null,null,null,null,null,null,null,null,null,null,null,null,null,null,null,null,null,null,null,null,null,null,null,null,null,null,null,null,null,null,null,null,null,null,null,null,null,null,null,null,null,null,null,null,null,null,null,null,null,null,null,null,null,null,null,null,null,0,0,0,0,0,0,0,0,0,0]
[null,null,null,null,null,null,null,null,null,null,null,null,null,null,null,null,null,null,null,null,null,null,null,null,null,null,null,null,null,null,null,null,null,null,null,null,null,null,null,null,null,null,null,null,null,null,null,null,null,null,null,null,null,null,null,null,null,null,null,null,null,null,null,null,null,0,0,0,0,0,0,0,0,0,0]
[null,null,null,null,null,null,null,null,null,null,null,null,null,null,null,null,null,null,null,null,null,null,null,null,null,null,null,null,null,null,null,null,null,null,null,null,null,null,null,null,null,null,null,null,null,null,null,null,null,null,null,null,null,null,null,null,null,null,null,null,null,null,null,null,null,0,0,0,0,0,0,0,0,0,0]
[null,null,null,null,null,null,null,null,null,null,null,null,null,null,null,null,null,null,null,null,null,null,null,null,null,null,null,null,null,null,null,null,null,null,null,null,null,null,null,null,null,null,null,null,null,null,null,null,null,null,null,null,null,null,null,null,null,null,null,null,null,null,null,null,null,0,0,0,0,0,0,0,0,0,0]
[null,null,null,null,null,null,null,null,null,null,null,null,null,null,null,null,null,null,null,null,null,null,null,null,null,null,null,null,null,null,null,null,null,null,null,null,null,null,null,null,null,null,null,null,null,null,null,null,null,null,null,null,null,null,null,null,null,null,null,null,null,null,null,null,null,0,0,0,0,0,0,0,0,0,0]
[null,null,null,null,null,null,null,null,null,null,null,null,null,null,null,null,null,null,null,null,null,null,null,null,null,null,null,null,null,null,null,null,null,null,null,null,null,null,null,null,null,null,null,null,null,null,null,null,null,null,null,null,null,null,null,null,null,null,null,null,null,null,null,null,null,0,0,0,0,0,0,0,0,0,0]
[null,null,null,null,null,null,null,null,null,null,null,null,null,null,null,null,null,null,null,null,null,null,null,null,null,null,null,null,null,null,null,null,null,null,null,null,null,null,null,null,null,null,null,null,null,null,null,null,null,null,null,null,null,null,null,null,null,null,null,null,null,null,null,null,null,0,0,0,0,0,0,0,0,0,0]
[null,null,null,null,null,null,null,null,null,null,null,null,null,null,null,null,null,null,null,null,null,null,null,null,null,null,null,null,null,null,null,null,null,null,null,null,null,null,null,null,null,null,null,null,null,null,null,null,null,null,null,null,null,null,null,null,null,null,null,null,null,null,null,null,null,0,0,0,0,0,0,0,0,0,0]
[null,null,null,null,null,null,null,null,null,null,null,null,null,null,null,null,null,null,null,null,null,null,null,null,null,null,null,null,null,null,null,null,null,null,null,null,null,null,null,null,null,null,null,null,null,null,null,null,null,null,null,null,null,null,null,null,null,null,null,null,null,null,null,null,null,0,0,0,0,0,0,0,0,0,0]
[null,null,null,null,null,null,null,null,null,null,null,null,null,null,null,null,null,null,null,null,null,null,null,null,null,null,null,null,null,null,null,null,null,null,null,null,null,null,null,null,null,null,null,null,null,null,null,null,null,null,null,null,null,null,null,null,null,null,null,null,null,null,null,null,null,0,0,0,0,0,0,0,0,0,0]
[null,null,null,null,null,null,null,null,null,null,null,null,null,null,null,null,null,null,null,null,null,null,null,null,null,null,null,null,null,null,null,null,null,null,null,null,null,null,null,null,null,null,null,null,null,null,null,null,null,null,null,null,null,null,null,null,null,null,null,null,null,null,null,null,null,0,0,0,0,0,0,0,0,0,0]
[null,null,null,null,null,null,null,null,null,null,null,null,null,null,null,null,null,null,null,null,null,null,null,null,null,null,null,null,null,null,null,null,null,null,null,null,null,null,null,null,null,null,null,null,null,null,null,null,null,null,null,null,null,null,null,null,null,null,null,null,null,null,null,null,null,0,0,0,0,0,0,0,0,0,0]
[null,null,null,null,null,null,null,null,null,null,null,null,null,null,null,null,null,null,null,null,null,null,null,null,null,null,null,null,null,null,null,null,null,null,null,null,null,null,null,null,null,null,null,null,null,null,null,null,null,null,null,null,null,null,null,null,null,null,null,null,null,null,null,null,null,0,0,0,0,0,0,0,0,0,0]
[null,null,null,null,null,null,null,null,null,null,null,null,null,null,null,null,null,null,null,null,null,null,null,null,null,null,null,null,null,null,null,null,null,null,null,null,null,null,null,null,null,null,null,null,null,null,null,null,null,null,null,null,null,null,null,null,null,null,null,null,null,null,null,null,null,0,0,0,0,0,0,0,0,0,0]
[null,null,null,null,null,null,null,null,null,null,null,null,null,null,null,null,null,null,null,null,null,null,null,null,null,null,null,null,null,null,null,null,null,null,null,null,null,null,null,null,null,null,null,null,null,null,null,null,null,null,null,null,null,null,null,null,null,null,null,null,null,null,null,null,null,0,0,0,0,0,0,0,0,0,0]
[null,null,null,null,null,null,null,null,null,null,null,null,null,null,null,null,null,null,null,null,null,null,null,null,null,null,null,null,null,null,null,null,null,null,null,null,null,null,null,null,null,null,null,null,null,null,null,null,null,null,null,null,null,null,null,null,null,null,null,null,null,null,null,null,null,0,0,0,0,0,0,0,0,0,0]
[null,null,null,null,null,null,null,null,null,null,null,null,null,null,null,null,null,null,null,null,null,null,null,null,null,null,null,null,null,null,null,null,null,null,null,null,null,null,null,null,null,null,null,null,null,null,null,null,null,null,null,null,null,null,null,null,null,null,null,null,null,null,null,null,null,0,0,0,0,0,0,0,0,0,0]
[null,null,null,null,null,null,null,null,null,null,null,null,null,null,null,null,null,null,null,null,null,null,null,null,null,null,null,null,null,null,null,null,null,null,null,null,null,null,null,null,null,null,null,null,null,null,null,null,null,null,null,null,null,null,null,null,null,null,null,null,null,null,null,null,null,0,0,0,0,0,0,0,0,0,0]
[null,null,null,null,null,null,null,null,null,null,null,null,null,null,null,null,null,null,null,null,null,null,null,null,null,null,null,null,null,null,null,null,null,null,null,null,null,null,null,null,null,null,null,null,null,null,null,null,null,null,null,null,null,null,null,null,null,null,null,null,null,null,null,null,null,0,0,0,0,0,0,0,0,0,0]
[null,null,null,null,null,null,null,null,null,null,null,null,null,null,null,null,null,null,null,null,null,null,null,null,null,null,null,null,null,null,null,null,null,null,null,null,null,null,null,null,null,null,null,null,null,null,null,null,null,null,null,null,null,null,null,null,null,null,null,null,null,null,null,null,null,0,0,0,0,0,0,0,0,0,0]
[null,null,null,null,null,null,null,null,null,null,null,null,null,null,null,null,null,null,null,null,null,null,null,null,null,null,null,null,null,null,null,null,null,null,null,null,null,null,null,null,null,null,null,null,null,null,null,null,null,null,null,null,null,null,null,null,null,null,null,null,null,null,null,null,null,0,0,0,0,0,0,0,0,0,0]
[null,null,null,null,null,null,null,null,null,null,null,null,null,null,null,null,null,null,null,null,null,null,null,null,null,null,null,null,null,null,null,null,null,null,null,null,null,null,null,null,null,null,null,null,null,null,null,null,null,null,null,null,null,null,null,null,null,null,null,null,null,null,null,null,null,0,0,0,0,0,0,0,0,0,0]
[null,null,null,null,null,null,null,null,null,null,null,null,null,null,null,null,null,null,null,null,null,null,null,null,null,null,null,null,null,null,null,null,null,null,null,null,null,null,null,null,null,null,null,null,null,null,null,null,null,null,null,null,null,null,null,null,null,null,null,null,null,null,null,null,null,0,0,0,0,0,0,0,0,0,0]
[null,null,null,null,null,null,null,null,null,null,null,null,null,null,null,null,null,null,null,null,null,null,null,null,null,null,null,null,null,null,null,null,null,null,null,null,null,null,null,null,null,null,null,null,null,null,null,null,null,null,null,null,null,null,null,null,null,null,null,null,null,null,null,null,null,0,0,0,0,0,0,0,0,0,0]
[null,null,null,null,null,null,null,null,null,null,null,null,null,null,null,null,null,null,null,null,null,null,null,null,null,null,null,null,null,null,null,null,null,null,null,null,null,null,null,null,null,null,null,null,null,null,null,null,null,null,null,null,null,null,null,null,null,null,null,null,null,null,null,null,null,0,0,0,0,0,0,0,0,0,0]
[null,null,null,null,null,null,null,null,null,null,null,null,null,null,null,null,null,null,null,null,null,null,null,null,null,null,null,null,null,null,null,null,null,null,null,null,null,null,null,null,null,null,null,null,null,null,null,null,null,null,null,null,null,null,null,null,null,null,null,null,null,null,null,null,null,0,0,0,0,0,0,0,0,0,0]
[null,null,null,null,null,null,null,null,null,null,null,null,null,null,null,null,null,null,null,null,null,null,null,null,null,null,null,null,null,null,null,null,null,null,null,null,null,null,null,null,null,null,null,null,null,null,null,null,null,null,null,null,null,null,null,null,null,null,null,null,null,null,null,null,null,0,0,0,0,0,0,0,0,0,0]
[null,null,null,null,null,null,null,null,null,null,null,null,null,null,null,null,null,null,null,null,null,null,null,null,null,null,null,null,null,null,null,null,null,null,null,null,null,null,null,null,null,null,null,null,null,null,null,null,null,null,null,null,null,null,null,null,null,null,null,null,null,null,null,null,null,0,0,0,0,0,0,0,0,0,0]
[null,null,null,null,null,null,null,null,null,null,null,null,null,null,null,null,null,null,null,null,null,null,null,null,null,null,null,null,null,null,null,null,null,null,null,null,null,null,null,null,null,null,null,null,null,null,null,null,null,null,null,null,null,null,null,null,null,null,null,null,null,null,null,null,null,0,0,0,0,0,0,0,0,0,0]
[null,null,null,null,null,null,null,null,null,null,null,null,null,null,null,null,null,null,null,null,null,null,null,null,null,null,null,null,null,null,null,null,null,null,null,null,null,null,null,null,null,null,null,null,null,null,null,null,null,null,null,null,null,null,null,null,null,null,null,null,null,null,null,null,null,0,0,0,0,0,0,0,0,0,0]
[null,null,null,null,null,null,null,null,null,null,null,null,null,null,null,null,null,null,null,null,null,null,null,null,null,null,null,null,null,null,null,null,null,null,null,null,null,null,null,null,null,null,null,null,null,null,null,null,null,null,null,null,null,null,null,null,null,null,null,null,null,null,null,null,null,0,0,0,0,0,0,0,0,0,0]
[null,null,null,null,null,null,null,null,null,null,null,null,null,null,null,null,null,null,null,null,null,null,null,null,null,null,null,null,null,null,null,null,null,null,null,null,null,null,null,null,null,null,null,null,null,null,null,null,null,null,null,null,null,null,null,null,null,null,null,null,null,null,null,null,null,0,0,0,0,0,0,0,0,0,0]
[null,null,null,null,null,null,null,null,null,null,null,null,null,null,null,null,null,null,null,null,null,null,null,null,null,null,null,null,null,null,null,null,null,null,null,null,null,null,null,null,null,null,null,null,null,null,null,null,null,null,null,null,null,null,null,null,null,null,null,null,null,null,null,null,null,0,0,0,0,0,0,0,0,0,0]
[null,null,null,null,null,null,null,null,null,null,null,null,null,null,null,null,null,null,null,null,null,null,null,null,null,null,null,null,null,null,null,null,null,null,null,null,null,null,null,null,null,null,null,null,null,null,null,null,null,null,null,null,null,null,null,null,null,null,null,null,null,null,null,null,null,0,0,0,0,0,0,0,0,0,0]
[null,null,null,null,null,null,null,null,null,null,null,null,null,null,null,null,null,null,null,null,null,null,null,null,null,null,null,null,null,null,null,null,null,null,null,null,null,null,null,null,null,null,null,null,null,null,null,null,null,null,null,null,null,null,null,null,null,null,null,null,null,null,null,null,null,0,0,0,0,0,0,0,0,0,0]
[null,null,null,null,null,null,null,null,null,null,null,null,null,null,null,null,null,null,null,null,null,null,null,null,null,null,null,null,null,null,null,null,null,null,null,null,null,null,null,null,null,null,null,null,null,null,null,null,null,null,null,null,null,null,null,null,null,null,null,null,null,null,null,null,null,0,0,0,0,0,0,0,0,0,0]
[null,null,null,null,null,null,null,null,null,null,null,null,null,null,null,null,null,null,null,null,null,null,null,null,null,null,null,null,null,null,null,null,null,null,null,null,null,null,null,null,null,null,null,null,null,null,null,null,null,null,null,null,null,null,null,null,null,null,null,null,null,null,null,null,null,0,0,0,0,0,0,0,0,0,0]
[null,null,null,null,null,null,null,null,null,null,null,null,null,null,null,null,null,null,null,null,null,null,null,null,null,null,null,null,null,null,null,null,null,null,null,null,null,null,null,null,null,null,null,null,null,null,null,null,null,null,null,null,null,null,null,null,null,null,null,null,null,null,null,null,null,0,0,0,0,0,0,0,0,0,0]
[null,null,null,null,null,null,null,null,null,null,null,null,null,null,null,null,null,null,null,null,null,null,null,null,null,null,null,null,null,null,null,null,null,null,null,null,null,null,null,null,null,null,null,null,null,null,null,null,null,null,null,null,null,null,null,null,null,null,null,null,null,null,null,null,null,0,0,0,0,0,0,0,0,0,0]
[null,null,null,null,null,null,null,null,null,null,null,null,null,null,null,null,null,null,null,null,null,null,null,null,null,null,null,null,null,null,null,null,null,null,null,null,null,null,null,null,null,null,null,null,null,null,null,null,null,null,null,null,null,null,null,null,null,null,null,null,null,null,null,null,null,0,0,0,0,0,0,0,0,0,0]
[null,null,null,null,null,null,null,null,null,null,null,null,null,null,null,null,null,null,null,null,null,null,null,null,null,null,null,null,null,null,null,null,null,null,null,null,null,null,null,null,null,null,null,null,null,null,null,null,null,null,null,null,null,null,null,null,null,null,null,null,null,null,null,null,null,0,0,0,0,0,0,0,0,0,0]
[null,null,null,null,null,null,null,null,null,null,null,null,null,null,null,null,null,null,null,null,null,null,null,null,null,null,null,null,null,null,null,null,null,null,null,null,null,null,null,null,null,null,null,null,null,null,null,null,null,null,null,null,null,null,null,null,null,null,null,null,null,null,null,null,null,0,0,0,0,0,0,0,0,0,0]
[null,null,null,null,null,null,null,null,null,null,null,null,null,null,null,null,null,null,null,null,null,null,null,null,null,null,null,null,null,null,null,null,null,null,null,null,null,null,null,null,null,null,null,null,null,null,null,null,null,null,null,null,null,null,null,null,null,null,null,null,null,null,null,null,null,0,0,0,0,0,0,0,0,0,0]
[null,null,null,null,null,null,null,null,null,null,null,null,null,null,null,null,null,null,null,null,null,null,null,null,null,null,null,null,null,null,null,null,null,null,null,null,null,null,null,null,null,null,null,null,null,null,null,null,null,null,null,null,null,null,null,null,null,null,null,null,null,null,null,null,null,0,0,0,0,0,0,0,0,0,0]
[null,null,null,null,null,null,null,null,null,null,null,null,null,null,null,null,null,null,null,null,null,null,null,null,null,null,null,null,null,null,null,null,null,null,null,null,null,null,null,null,null,null,null,null,null,null,null,null,null,null,null,null,null,null,null,null,null,null,null,null,null,null,null,null,null,0,0,0,0,0,0,0,0,0,0]
[null,null,null,null,null,null,null,null,null,null,null,null,null,null,null,null,null,null,null,null,null,null,null,null,null,null,null,null,null,null,null,null,null,null,null,null,null,null,null,null,null,null,null,null,null,null,null,null,null,null,null,null,null,null,null,null,null,null,null,null,null,null,null,null,null,0,0,0,0,0,0,0,0,0,0]
[null,null,null,null,null,null,null,null,null,null,null,null,null,null,null,null,null,null,null,null,null,null,null,null,null,null,null,null,null,null,null,null,null,null,null,null,null,null,null,null,null,null,null,null,null,null,null,null,null,null,null,null,null,null,null,null,null,null,null,null,null,null,null,null,null,0,0,0,0,0,0,0,0,0,0]
[null,null,null,null,null,null,null,null,null,null,null,null,null,null,null,null,null,null,null,null,null,null,null,null,null,null,null,null,null,null,null,null,null,null,null,null,null,null,null,null,null,null,null,null,null,null,null,null,null,null,null,null,null,null,null,null,null,null,null,null,null,null,null,null,null,0,0,0,0,0,0,0,0,0,0]
[null,null,null,null,null,null,null,null,null,null,null,null,null,null,null,null,null,null,null,null,null,null,null,null,null,null,null,null,null,null,null,null,null,null,null,null,null,null,null,null,null,null,null,null,null,null,null,null,null,null,null,null,null,null,null,null,null,null,null,null,null,null,null,null,null,0,0,0,0,0,0,0,0,0,0]
[null,null,null,null,null,null,null,null,null,null,null,null,null,null,null,null,null,null,null,null,null,null,null,null,null,null,null,null,null,null,null,null,null,null,null,null,null,null,null,null,null,null,null,null,null,null,null,null,null,null,null,null,null,null,null,null,null,null,null,null,null,null,null,null,null,0,0,0,0,0,0,0,0,0,0]
[null,null,null,null,null,null,null,null,null,null,null,null,null,null,null,null,null,null,null,null,null,null,null,null,null,null,null,null,null,null,null,null,null,null,null,null,null,null,null,null,null,null,null,null,null,null,null,null,null,null,null,null,null,null,null,null,null,null,null,null,null,null,null,null,null,0,0,0,0,0,0,0,0,0,0]
[null,null,null,null,null,null,null,null,null,null,null,null,null,null,null,null,null,null,null,null,null,null,null,null,null,null,null,null,null,null,null,null,null,null,null,null,null,null,null,null,null,null,null,null,null,null,null,null,null,null,null,null,null,null,null,null,null,null,null,null,null,null,null,null,null,0,0,0,0,0,0,0,0,0,0]
[null,null,null,null,null,null,null,null,null,null,null,null,null,null,null,null,null,null,null,null,null,null,null,null,null,null,null,null,null,null,null,null,null,null,null,null,null,null,null,null,null,null,null,null,null,null,null,null,null,null,null,null,null,null,null,null,null,null,null,null,null,null,null,null,null,0,0,0,0,0,0,0,0,0,0]
[null,null,null,null,null,null,null,null,null,null,null,null,null,null,null,null,null,null,null,null,null,null,null,null,null,null,null,null,null,null,null,null,null,null,null,null,null,null,null,null,null,null,null,null,null,null,null,null,null,null,null,null,null,null,null,null,null,null,null,null,null,null,null,null,null,0,0,0,0,0,0,0,0,0,0]
[null,null,null,null,null,null,null,null,null,null,null,null,null,null,null,null,null,null,null,null,null,null,null,null,null,null,null,null,null,null,null,null,null,null,null,null,null,null,null,null,null,null,null,null,null,null,null,null,null,null,null,null,null,null,null,null,null,null,null,null,null,null,null,null,null,0,0,0,0,0,0,0,0,0,0]
[null,null,null,null,null,null,null,null,null,null,null,null,null,null,null,null,null,null,null,null,null,null,null,null,null,null,null,null,null,null,null,null,null,null,null,null,null,null,null,null,null,null,null,null,null,null,null,null,null,null,null,null,null,null,null,null,null,null,null,null,null,null,null,null,null,0,0,0,0,0,0,0,0,0,0]
[null,null,null,null,null,null,null,null,null,null,null,null,null,null,null,null,null,null,null,null,null,null,null,null,null,null,null,null,null,null,null,null,null,null,null,null,null,null,null,null,null,null,null,null,null,null,null,null,null,null,null,null,null,null,null,null,null,null,null,null,null,null,null,null,null,0,0,0,0,0,0,0,0,0,0]
[null,null,null,null,null,null,null,null,null,null,null,null,null,null,null,null,null,null,null,null,null,null,null,null,null,null,null,null,null,null,null,null,null,null,null,null,null,null,null,null,null,null,null,null,null,null,null,null,null,null,null,null,null,null,null,null,null,null,null,null,null,null,null,null,null,0,0,0,0,0,0,0,0,0,0]
[null,null,null,null,null,null,null,null,null,null,null,null,null,null,null,null,null,null,null,null,null,null,null,null,null,null,null,null,null,null,null,null,null,null,null,null,null,null,null,null,null,null,null,null,null,null,null,null,null,null,null,null,null,null,null,null,null,null,null,null,null,null,null,null,null,0,0,0,0,0,0,0,0,0,0]
[null,null,null,null,null,null,null,null,null,null,null,null,null,null,null,null,null,null,null,null,null,null,null,null,null,null,null,null,null,null,null,null,null,null,null,null,null,null,null,null,null,null,null,null,null,null,null,null,null,null,null,null,null,null,null,null,null,null,null,null,null,null,null,null,null,0,0,0,0,0,0,0,0,0,0]
[null,null,null,null,null,null,null,null,null,null,null,null,null,null,null,null,null,null,null,null,null,null,null,null,null,null,null,null,null,null,null,null,null,null,null,null,null,null,null,null,null,null,null,null,null,null,null,null,null,null,null,null,null,null,null,null,null,null,null,null,null,null,null,null,null,0,0,0,0,0,0,0,0,0,0]
[]
[]
[]
[]
[]
[]
[]
[]
[]
[]
[]
[]
[]
[]
[]
[]
[]
[]
[]
[]
[]
[]
[]
[]
[]
[]
[]
[]
[]
[]
[]
[]
[]
[]
[]
[]
[]
[]
[]
[]
[]
[]
[]
[]
[]
[]
[]
[]
[]
[]
[]
[]
[]
[]
[]
[]
[]
[]
[]
[]
[]
[]
[]
[]
[]
[]
[]
[]
[]
[]
[]
[]
[]
[]
[]
[]
[]
[]
[]
[]
[]
[]
[]
[]
[]
[]
[]
[]
[]
[]
[]
[]
[]
[]
[]
[]
[]
[]
[]
[]
[]
[]
[]
[]
[]
[]
[]
[]
[]
[]
[]
[]
[]
[]
[]
[]
[]
[]
[]
[]
[]
[]
[]
[]
[]
[]
[]
[]
[]
[]
[]
[]
[]
[]
[]
[]
[]
[]
[]
[]
[]
[]
[]
[]
[]
[]
[]
[]
[]
[]
[]
[]
[]
[]
[]
[]
[]
[]
[]
[]
[]
[]
[]
[]
[]
[]
[]
[]
[]
[]
[]
[]
[]
[]
[]
[]
[]
[]
[]
[]
[]
[]
[]
[]
[]
[]
[]
[]
[]
[]
[null,null,null,null,null,null,null,null,null,null,null,null,null,null,null,null,null,null,null,null,null,null,null,null,null,null,null,null,null,null,null,null,null,null,null,null,null,null,null,null,null,null,null,null,null,null,null,null,null,null,null,null,null,null,null,null,null,null,null,null,null,{"$f":"SUM(BH921:BH1242)","v":0}]
[]
[]
[]
[]
[]
[]
[]
[null,null,null,null,null,null,null,null,null,null,null,null,null,null,null,null,null,null,null,null,null,null,null,null,null,null,null,null,null,null,null,null,null,null,null,null,null,null,null,null,null,null,null,null,null,null,null,null,null,null,null,null,null,null,null,null,null,null,null,null,null,{"$f":"SUM(BH1243:BH1250)","v":0}]
[]
[]
[]
[]
[]
[]
[]
[null,null,null,null,null,null,null,null,null,null,null,null,null,null,null,null,null,null,null,null,null,null,null,null,null,null,null,null,null,null,null,null,null,null,null,null,null,null,null,null,null,null,null,null,null,null,null,null,null,null,null,null,null,null,null,null,null,null,null,null,null,{"$f":"SUM(BH1251:BH1258)","v":0}]
[]
[]
[]
[]
[]
[]
[]
[]
[]
[]
[]
[]
[]
[]
[]
[]
[]
[]
[]
[]
[]
[]
[]
[]
[]
[]
[]
[]
[]
[]
[]
[]
[]
[]
[]
[]
[]
[]
[]
[]
[]
[]
[]
[]
[]
[]
[]
[]
[]
[]
[]
[]
[]
[]
[]
[]
[]
[]
[]
[]
[]
[]
[]
[]
[]
[]
[]
[null,null,null,null,null,null,null,null,null,null,null,null,null,null,null,null,null,null,null,null,null,null,null,null,null,null,null,null,null,null,null,null,null,null,null,null,null,null,null,null,null,null,null,null,null,null,null,null,null,null,null,null,null,null,null,null,null,null,null,null,null,{"$f":"SUM(BH1259:BH1326)","v":0}]
[]
[]
[]
[]
[]
[]
[]
[]
[]
[]
[]
[]
[]
[]
[]
[]
[]
[]
[]
[]
[]
[]
[]
[]
[]
[]
[]
[]
[]
[]
[]
[]
[]
[]
[]
[]
[]
[]
[]
[]
[]
[]
[]
[]
[]
[]
[]
[]
[]
[]
[]
[]
[]
[]
[]
[]
[]
[]
[]
[]
[]
[]
[]
[]
[]
[]
[]
[]
[]
[]
[]
[]
[]
[]
[]
[]
[]
[]
[]
[]
[]
[null,null,null,null,null,null,null,null,null,null,null,null,null,null,null,null,null,null,null,null,null,null,null,null,null,null,null,null,null,null,null,null,null,null,null,null,null,null,null,null,null,null,null,null,null,null,null,null,null,null,null,null,null,null,null,null,null,null,null,null,null,{"$f":"SUM(BH1327:BH1408)","v":0}]
[]
[]
[]
[]
[]
[null,null,null,null,null,null,null,null,null,null,null,null,null,null,null,null,null,null,null,null,null,null,null,null,null,null,null,null,null,null,null,null,null,null,null,null,null,null,null,null,null,null,null,null,null,null,null,null,null,null,null,null,null,null,null,null,null,null,null,null,null,{"$f":"SUM(BH1410:BH1414)","v":0}]
[]
[]
[]
[]
[]
[]
[]
[]
[]
[]
[]
[]
[]
[]
[]
[]
[]
[]
[]
[]
[]
[]
[]
[]
[]
[]
[]
[]
[]
[]
[]
[]
[]
[]
[]
[]
[]
[]
[]
[]
[]
[]
[]
[]
[]
[]
[]
[]
[]
[]
[]
[]
[]
[]
[]
[]
[]
[]
[]
[]
[]
[]
[]
[null,null,null,null,null,null,null,null,null,null,null,null,null,null,null,null,null,null,null,null,null,null,null,null,null,null,null,null,null,null,null,null,null,null,null,null,null,null,null,null,null,null,null,null,null,null,null,null,null,null,null,null,null,null,null,null,null,null,null,null,null,{"$f":"SUM(BH1415:BH1478)","v":0}]
[]
[]
[]
[]
[]
[]
[]
[]
[]
[null,null,null,null,null,null,null,null,null,null,null,null,null,null,null,null,null,null,null,null,null,null,null,null,null,null,null,null,null,null,null,null,null,null,null,null,null,null,null,null,null,null,null,null,null,null,null,null,null,null,null,null,null,null,null,null,null,null,null,null,null,{"$f":"SUM(BH1479:BH1488)","v":0}]
[]
[]
[]
[]
[]
[]
[]
[]
[null,null,null,null,null,null,null,null,null,null,null,null,null,null,null,null,null,null,null,null,null,null,null,null,null,null,null,null,null,null,null,null,null,null,null,null,null,null,null,null,null,null,null,null,null,null,null,null,null,null,null,null,null,null,null,null,null,null,null,null,null,{"$f":"SUM(BH1489:BH1497)","v":0}]

{"sheet":"来月分仮入力","index":15,"n_rows":4,"n_cols":14,"rows_kept":4,"cut":false,"hidden":false,"merged":[[1,7,1,11]]}
[" "]
[null,"QD-6822",0,0,"2018-01-31"]
[null,"製番","品番１","品番２","納入日","細　　品番","材質","品名  (材料取り）","形状・寸法","メーカー","数量","単価","金額","CODE"]
[" ","CC-1863","01","03","2021-03-02",null,null,"NNN",null,null,1,1000,1000,5]

{"sheet":"経費本日入力","index":16,"n_rows":26,"n_cols":32,"rows_kept":26,"cut":false,"hidden":false,"merged":[[1,5,1,7]]}
[null,null,null,null,null,"行削除は不可です。数式と値のクリアを使用する。",null,null,null,"　"]
[null," ",null,null," ","経費仕入　本日入力伝票分",null,null,null,{"$f":"SUM(J4:J1000)","v":0},null,{"$f":"IF((仕入日報!O29+仕入日報!O34)/2=仕入日報!K37-仕入日報!K36,\"\",\"転記エラー\")","v":""},null,"合計",{"$f":"SUM(O5:O13)","v":0},null,"K4","J4","本日用端末","B5",null,null,null,"昨日のデータ予備保存"]
[null,"科目","科目No","納入日","品名","形状・寸法","メーカー","数量","単価","金額","CODE",null,null,"分類計算",null,null,"　","　",null,null,null,null,"科目","科目No","納入日","品名","形状・寸法","メーカー","数量","単価","金額","CODE"]
[null,null,null,null,null,null,null,null,null,null,null,null,null,"科目No"]
[null,null,null,null,null,null,null,null,null,null,null,null,null,"P-1",{"$f":"DSUM($B$3:$K$1000,$J$3,N4:N5)","v":0}]
[null,null,null,null,null,null,null,null,null,null,null,null,null,"科目No"]
[null,null,null,null,null,null,null,null,null,null,null,null,null,"P-2",{"$f":"DSUM($B$3:$K$1000,$J$3,N6:N7)","v":0}]
[null,null,null,null,null,null,null,null,null,null,null,null,null,"科目No"]
[null,null,null,null,null,null,null,null,null,null,null,null,null,"P-3",{"$f":"DSUM($B$3:$K$1000,$J$3,N8:N9)","v":0}]
[null,null,null,null,null,null,null,null,null,null,null,null,null,"科目No"]
[null,null,null,null,null,null,null,null,null,null,null,null,null,"P-4",{"$f":"DSUM($B$3:$K$1000,$J$3,N10:N11)","v":0}]
[null,null,null,null,null,null,null,null,null,null,null,null,null,"科目No"]
[null,null,null,null,null,null,null,null,null,null,null,null,null,"P-5",{"$f":"DSUM($B$3:$K$1000,$J$3,N12:N13)","v":0}]
[null,null,null,null,null,null,null,null,null,null,null,null,null," "," "]
[]
[]
[]
[]
[]
[]
[]
[]
[]
[]
[]
[null,null,null,null,null,null,null,null,null,null,null,null,null," "]

{"sheet":"経理用","index":17,"n_rows":372,"n_cols":12,"rows_kept":372,"cut":false,"hidden":false,"merged":[[1,3,1,4]]}
[]
[null,null,{"$f":"TODAY()","v":"2021-07-01"},"仕入先別仕入金額",null,null,null,{"$f":"IF(G4=0,\"\",IF(H4=0,\"\",\"ERR\"))","v":"ERR"}]
[null,"NO.","支　　払　　先","ソート","請求額","請求合計額","当月仕入額","チェック",null," "]
[null,0,0,null,0,{"$f":"SUM(E4:E364)","v":23945},{"$f":"+L7","v":20345},{"$f":"F4-G4","v":3600}]
[null,1,"AAAA",null,0,null,null,null,null,"当月部品仕入合計額",null,{"$f":"+仕入月合計データ!M2","v":14345}]
[null,2,"BBBB",null,0,null,null,null,null,"当月経費仕入合計額",null,{"$f":"+経費月合計データ!J2","v":6000}]
[null,3,"CCCC",null,0,null,null,null,null,null,"総合計",{"$f":"SUM(L5:L6)","v":20345}]
[null,4,"DDDD",null,200]
[null,5,"EEEE",null,900]
[null,6,"FFFF",null,1800]
[null,7,"GGGG",null,3200]
[null,8,"HHHH",null,0]
[null,9,"JJJJ",null,0]
[null,10,"KKKK",null,0]
[null,11,"LLLL",null,0]
[null,12,"MMMM",null,0]
[null,13,"NNNN",null,0]
[null,14,"PPPP",null,0]
[null,15,"QQQQ",null,435]
[null,16,"RRRR",null,0]
[null,17,"SSSS",null,0]
[null,18,"TTTT",null,0]
[null,19,"UUUU",null,2235]
[null,20,"VVVV",null,0]
[null,21,"WWWW",null,0]
[null,101,"AAA",null,0]
[null,102,"BBB",null,0]
[null,103,"CCC",null,0]
[null,104,"DDD",null,0]
[null,105,"EEE",null,0]
[null,106,"FFF",null,0]
[null,107,"GGG",null,0]
[null,108,"HHH",null,0]
[null,109,"LLL",null,735]
[null,110,"MMM",null,0]
[null,111,"NNN",null,0]
[null,112,"PPP",null,0]
[null,113,"QQQ",null,0]
[null,114,"RRR",null,0]
[null,115,"SSS",null,0]
[null,116,"TTT",null,0]
[null,117,"UUU",null,0]
[null,118,"VVV",null,0]
[null,119,"WWW",null,735]
[null,120,"XXX",null,0]
[null,121,"YYY",null,0]
[null,122,"ZZZ",null,0]
[null,123,"AA1",null,0]
[null,124,"BB1",null,0]
[null,125,"CC1",null,0]
[null,126,"DD1",null,0]
[null,127,"EE1",null,0]
[null,128,"FF1",null,0]
[null,129,"GG1",null,0]
[null,130,"HH1",null,0]
[null,131,"LL1",null,0]
[null,132,"MM1",null,0]
[null,133,"NN1",null,0]
[null,134,"PP1",null,0]
[null,135,"QQ1",null,0]
[null,136,"RR1",null,0]
[null,137,"SS1",null,0]
[null,138,"TT1",null,0]
[null,139,"UU1",null,0]
[null,140,"VV1",null,0]
[null,141,"WW1",null,0]
[null,142,"XX1",null,0]
[null,143,"YY1",null,0]
[null,144,"ZZ1",null,0]
[null,145,"AA2",null,0]
[null,146,"BB2",null,0]
[null,147,"CC2",null,0]
[null,148,"DD2",null,0]
[null,149,"EE2",null,0]
[null,150,"FF2",null,0]
[null,151,"GG2",null,0]
[null,152,"HH2",null,0]
[null,153,"LL2",null,0]
[null,154,"MM2",null,0]
[null,155,"NN2",null,0]
[null,156,"PP2",null,0]
[null,157,"QQ2",null,0]
[null,158,"RR2",null,0]
[null,159,"SS2",null,0]
[null,160,"TT2",null,0]
[null,161,"UU2",null,0]
[null,162,"VV2",null,0]
[null,163,"WW2",null,0]
[null,164,"XX2",null,0]
[null,165,"YY2",null,7000]
[null,166,"ZZ2",null,0]
[null,167,"AA3",null,0]
[null,168,"BB3",null,0]
[null,169,"CC3",null,0]
[null,170,"DD3",null,0]
[null,171,"EE3",null,0]
[null,172,"FF3",null,0]
[null,173,"GG3",null,0]
[null,174,"HH3",null,0]
[null,175,"LL3",null,0]
[null,176,"MM3",null,0]
[null,177,"NN3",null,0]
[null,178,"PP3",null,0]
[null,179,"QQ3",null,0]
[null,180,"RR3",null,0]
[null,181,"SS3",null,0]
[null,182,"TT3",null,0]
[null,183,"UU3",null,0]
[null,184,"VV3",null,0]
[null,185,"WW3",null,0]
[null,186,"XX3",null,0]
[null,187,"YY3",null,0]
[null,188,"ZZ3",null,0]
[null,189,"AA4",null,0]
[null,190,"BB4",null,0]
[null,191,"CC4",null,0]
[null,192,"DD4",null,0]
[null,193,"EE4",null,0]
[null,194,"FF4"," ",0]
[null,195,"GG4"," ",0]
[null,196,"HH4"," ",0]
[null,197,"LL4",null,0]
[null,198,"MM4"," ",0]
[null,199,"NN4",null,0]
[null,200,"PP4"," ",0]
[null,201,"QQ4",null,0]
[null,202,"RR4"," ",0]
[null,203,"SS4"," ",0]
[null,204,"TT4",null,0]
[null,205,"UU4",null,0]
[null,206,"VV4"," ",0]
[null,207,"WW4"," ",0]
[null,208,"XX4"," ",0]
[null,209,"YY4"," ",0]
[null,210,"ZZ4"," ",0]
[null,211,"AA5",null,0]
[null,212,"BB5"," ",0]
[null,213,"CC5"," ",0]
[null,214,"DD5"," ",0]
[null,215,"EE5"," ",0]
[null,216,"FF5",null,0]
[null,217,"GG5"," ",0]
[null,218,"HH5"," ",0]
[null,219,"LL5"," ",1035]
[null,220,"MM5"," ",0]
[null,221,"NN5"," ",0]
[null,222,"PP5"," ",0]
[null,223,"QQ5"," ",0]
[null,224,"RR5"," ",0]
[null,225,"SS5"," ",0]
[null,226,"TT5"," ",0]
[null,227,"UU5"," ",0]
[null,228,"VV5"," ",0]
[null,229,"WW5"," ",825]
[null,230,"XX5"," ",0]
[null,231,"YY5",null,0]
[null,232,"ZZ5"," ",0]
[null,233,"AA6"," ",0]
[null,234,"BB6"," ",0]
[null,235,"CC6"," ",0]
[null,236,"DD6"," ",0]
[null,237,"EE6"," ",0]
[null,238,"FF6"," ",0]
[null,239,"GG6"," ",0]
[null,240,"HH6"," ",0]
[null,241,"LL6"," ",0]
[null,242,"MM6"," ",0]
[null,243,"NN6"," ",0]
[null,244,"PP6"," ",0]
[null,245,"QQ6",null,0]
[null,246,"RR6",null,0]
[null,247,"SS6"," ",0]
[null,248,"TT6"," ",0]
[null,249,"UU6"," ",0]
[null,250,"VV6"," ",0]
[null,251,"WW6"," ",0]
[null,252,"XX6"," ",0]
[null,253,"YY6"," ",0]
[null,254,"ZZ6"," ",0]
[null,255,"AA7"," ",0]
[null,256,"BB7"," ",0]
[null,257,"CC7"," ",0]
[null,258,"DD7"," ",0]
[null,259,"EE7"," ",0]
[null,260,"FF7"," ",0]
[null,261,"GG7",null,0]
[null,262,"HH7"," ",0]
[null,263,"LL7"," ",0]
[null,264,"MM7"," ",0]
[null,265,"NN7",null,0]
[null,266,"PP7",null,0]
[null,267,"QQ7"," ",0]
[null,268,"RR7"," ",0]
[null,269,"SS7"," ",0]
[null,270,"TT7"," ",0]
[null,271,"UU7"," ",0]
[null,272,"VV7"," ",0]
[null,273,"WW7"," ",0]
[null,274,"XX7"," ",0]
[null,275,"YY7"," ",0]
[null,276,"ZZ7"," ",0]
[null,277,"AA8"," ",0]
[null,278,"BB8"," ",0]
[null,279,"CC8"," ",0]
[null,280,"DD8"," ",0]
[null,281,"EE8"," ",0]
[null,282,"FF8"," ",0]
[null,283,"GG8"," ",0]
[null,284,"HH8"," ",0]
[null,285,"LL8",null,0]
[null,286,"MM8",null,0]
[null,287,"NN8",null,0]
[null,288,"PP8",null,0]
[null,289,"QQ8",null,0]
[null,290,"RR8",null,0]
[null,291,"SS8",null,0]
[null,292,"TT8",null,0]
[null,293,"UU8",null,0]
[null,294,"VV8",null,0]
[null,295,"WW8",null,0]
[null,296,"XX8",null,0]
[null,297,"YY8",null,0]
[null,298,"ZZ8",null,0]
[null,299,"AA9",null,0]
[null,300,"BB9",null,0]
[null,301,"CC9",null,0]
[null,302,"DD9",null,0]
[null,303,"EE9",null,0]
[null,304,"FF9",null,0]
[null,305,"GG9",null,0]
[null,306,"HH9",null,0]
[null,307,"LL9",null,0]
[null,308,"MM9",null,0]
[null,309,"NN9",null,0]
[null,310,"PP9",null,0]
[null,311,"QQ9",null,0]
[null,312,"RR9",null,0]
[null,313,"SS9",null,0]
[null,314,"TT9",null,0]
[null,315,"UU9",null,0]
[null,316,"VV9",null,0]
[null,317,"WW9",null,0]
[null,318,"XX9",null,0]
[null,319,"YY9",null,0]
[null,320,"ZZ9",null,0]
[null,321,"Aa1",null,0]
[null,322,"Bb1",null,0]
[null,323,"Cc1",null,0]
[null,324,"Dd1",null,0]
[null,325,"Ee1",null,0]
[null,326,"Ff1",null,0]
[null,327,"Gg1",null,0]
[null,328,"Hh1",null,0]
[null,329,"Ll1",null,1335]
[null,330,"Mm1",null,0]
[null,331,"Nn1",null,0]
[null,332,"Pp1",null,0]
[null,333,"Qq1",null,0]
[null,334,"Rr1",null,0]
[null,400,"Ss1",null,0]
[null,401,"Tt1",null,0]
[null,402,"Uu1",null,0]
[null,403,"Vv1",null,0]
[null,404,"Ww1",null,0]
[null,405,"Xx1"," ",0]
[null,406,"Yy1",null,0]
[null,407,"Zz1",null,0]
[null,408,"Aa2",null,0]
[null,409,"Bb2",null,0]
[null,410,"Cc2",null,0]
[null,411,"Dd2",null,0]
[null,412,"Ee2",null,0]
[null,413,"Ff2",null,0]
[null,414,"Gg2",null,0]
[null,415,"Hh2",null,0]
[null,416,"Ll2",null,0]
[null,417,"Mm2",null,0]
[null,418,"Nn2",null,0]
[null,419,"Pp2",null,0]
[null,420,"Qq2",null,0]
[null,421,"Rr2",null,0]
[null,422,"Ss2",null,0]
[null,423,"Tt2",null,1635]
[null,424,"Uu2",null,0]
[null,425,"Vv2",null,0]
[null,426,"Ww2",null,0]
[null,501,"Xx2",null,0]
[null,502,"Yy2",null,0]
[null,503,"Zz2",null,0]
[null,504,"Aa3",null,0]
[null,505,"Bb3",null,0]
[null,506,"Cc3",null,0]
[null,507,"Dd3",null,0]
[null,508,"Ee3",null,0]
[null,509,"Ff3",null,0]
[null,510,"Gg3",null,0]
[null,511,"Hh3",null,0]
[null,512,"Ll3",null,0]
[null,513,"Mm3",null,0]
[null,514,"Nn3",null,0]
[null,515,"Pp3",null,0]
[null,516,"Qq3",null,0]
[null,517,"Rr3",null,0]
[null,518,"Ss3",null,0]
[null,519,"Tt3",null,0]
[null,520,"Uu3",null,0]
[null,521,"Vv3",null,0]
[null,522,"Ww3",null,0]
[null,523,"Xx3",null,0]
[null,524,"Yy3",null,0]
[null,525,"Zz3",null,0]
[null,526,"Aa4",null,0]
[null,527,"Bb4",null,0]
[null,528,"Cc4",null,0]
[null,529,"Dd4",null,0]
[null,530,"Ee4",null,0]
[null,531,"Ff4",null,0]
[null,532,"Gg4",null,0]
[null,533,"Hh4",null,0]
[null,534,"Ll4",null,0]
[null,535,"Mm4",null,0]
[null,536,"Nn4",null,0]
[null,537,"Pp4",null,1875]
[null,538,"Qq4",null,0]
[null,539,"Rr4",null,0]
[null,540,"Ss4",null,0]
[null,541,"Tt4",null,0]
[null,542,"Uu4",null,0]
[null,543,"v4",null,0]
[null,601,"Ww4",null,0]
[null,602,"Xx4",null,0]
[null,603,"Yy4",null,0]
[null,604,"Zz4",null,0]
[null,605,"Aa5",null,0]
[null,606,"Bb5",null,0]
[null,607,"Cc5",null,0]
[null,608,"Dd5",null,0]
[null,609,"Ee5",null,0]
[null,610,"Ff5",null,0]
[null,611,"Gg5",null,0]
[null,612,"Hh5",null,0]
[null,613,"Ll5",null,0]
[null,614,"Mm5",null,0]
[null,615,"Nn5",null,0]
[null,616,"Pp5",null,0]
[null,617,"Qq5",null,0]
[null,618,"Rr5",null,0]
[null,619,"Ss5",null,0]
[null,620,"Tt5",null,0]
[null,621,"Uu5",null,0]
[null,622,"Vv5",null,0]
[null,623,"Ww5",null,0]
[null,624,"Xx5",null,0]
[null,625,"Yy5",null,0]
[null,626,"Zz5",null,0]
[null,627,"Aa6",null,0]
[null,628,"Bb6",null,0]
[null,629,"Cc6",null,0]
[null,630,"Dd6",null,0]
[null,631,"Ee6",null,0]
[null,632,"Ff6",null,0]
[]
[]
[]
[null,"合　計",null,null,23945]
[]
[]
[]
[]
[]
[]
[null,null,"　"]

{"sheet":"計算1","index":18,"n_rows":157,"n_cols":46,"rows_kept":157,"cut":false,"hidden":false,"merged":[[1,1,1,5],[3,13,3,14],[15,13,15,14],[2,1,2,6]]}
[]
[null,"仕入日報用機種分類の集計",null,null,null,null,null,null,null,null,null,null,null,null,null,null,null,"仕入先別仕入金額用",null,null,"当月部品合計",null,null,"合計",{"$f":"SUM(S5:S400)+SUM(V5:V400)+SUM(Y5:Y400)+SUM(AB5:AB400)+SUM(AE5:AE400)","v":14345},null,null,null,null,null,null,null,"仕入先別仕入金額用",null,null,"当月経費合計",null,null,"合計",{"$f":"SUM(AH5:AH400)+SUM(AK5:AK400)+SUM(AN5:AN400)+SUM(AQ5:AQ400)+SUM(AT5:AT400)","v":6000}]
[null,"本日入力分明細（部品本日入力と経費本日入力を基に表示）",null,null,null,null,null," "," "," "," ",null," "," "]
[null,null,"AA ","BB ","CC ","DD ","EE ","FF ","GG ","HH ","LL ","MM ","列合計","経費",null,"　",null,"CODE",null,null,"CODE",null,null,"CODE",null,null,"CODE",null,null,"CODE",null,null,"CODE",null,null,"CODE",null,null,"CODE",null,null,"CODE",null,null,"CODE"]
[null,"合計",{"$f":"SUM(C6:C12)","v":3500},0,100,0,0,0,0,0,0,0,{"$f":"SUM(C5:L5)","v":3600},"合計",{"$f":"SUM(O6:O9)","v":0},"　",null,1,{"$f":"DSUM(仕入月合計データ!$B$3:$N$9771,仕入月合計データ!$M$3,R4:R5)","v":0},null,151,{"$f":"DSUM(仕入月合計データ!$B$3:$N$9771,仕入月合計データ!$M$3,U4:U5)","v":0},null,226,{"$f":"DSUM(仕入月合計データ!$B$3:$N$9771,仕入月合計データ!$M$3,X4:X5)","v":0},null,291,{"$f":"DSUM(仕入月合計データ!$B$3:$N$9771,仕入月合計データ!$M$3,AA4:AA5)","v":0},null,502,{"$f":"DSUM(仕入月合計データ!$B$3:$N$9771,仕入月合計データ!$M$3,AD4:AD5)","v":0},null,1,{"$f":"DSUM(経費月合計データ!$B$3:$K$1000,経費月合計データ!$J$3,AG4:AG5)","v":0},null,151,{"$f":"DSUM(経費月合計データ!$B$3:$K$1000,経費月合計データ!$J$3,AJ4:AJ5)","v":0},null,226,{"$f":"DSUM(経費月合計データ!$B$3:$K$1000,経費月合計データ!$J$3,AM4:AM5)","v":0},null,291,{"$f":"DSUM(経費月合計データ!$B$3:$K$1000,経費月合計データ!$J$3,AP4:AP5)","v":0},null,502,{"$f":"DSUM(経費月合計データ!$B$3:$K$1000,経費月合計データ!$J$3,AS4:AS5)","v":0}]
[null,"0..21",{"$f":"+部品本日入力!V4","v":0},{"$f":"+部品本日入力!V14","v":0},{"$f":"+部品本日入力!V24","v":100},{"$f":"+部品本日入力!V34","v":0},{"$f":"+部品本日入力!V44","v":0},{"$f":"+部品本日入力!V54","v":0},{"$f":"部品本日入力!V64","v":0},{"$f":"部品本日入力!V74","v":0},{"$f":"部品本日入力!V84","v":0},{"$f":"+部品本日入力!V94","v":0},100,"P1",{"$f":"+経費本日入力!O5","v":0},null,null,"CODE",null,null,"CODE",null,null,"CODE",null,null,"CODE",null,null,"CODE",null,null,"CODE",null,null,"CODE",null,null,"CODE",null,null,"CODE",null,null,"CODE"]
[null,"101..200",{"$f":"+部品本日入力!V5","v":3500},{"$f":"+部品本日入力!V15","v":0},{"$f":"+部品本日入力!V25","v":0},{"$f":"+部品本日入力!V35","v":0},{"$f":"+部品本日入力!V45","v":0},{"$f":"+部品本日入力!V55","v":0},{"$f":"部品本日入力!V65","v":0},{"$f":"部品本日入力!V75","v":0},{"$f":"部品本日入力!V85","v":0},{"$f":"+部品本日入力!V95","v":0},3500,"P2",{"$f":"+経費本日入力!O7","v":0},null,null,2,{"$f":"DSUM(仕入月合計データ!$B$3:$N$9771,仕入月合計データ!$M$3,R6:R7)","v":0},null,152,{"$f":"DSUM(仕入月合計データ!$B$3:$N$9771,仕入月合計データ!$M$3,U6:U7)","v":0},null,227,{"$f":"DSUM(仕入月合計データ!$B$3:$N$9771,仕入月合計データ!$M$3,X6:X7)","v":0},null,292,{"$f":"DSUM(仕入月合計データ!$B$3:$N$9771,仕入月合計データ!$M$3,AA6:AA7)","v":0},null,503,{"$f":"DSUM(仕入月合計データ!$B$3:$N$9771,仕入月合計データ!$M$3,AD6:AD7)","v":0},null,2,{"$f":"DSUM(経費月合計データ!$B$3:$K$1000,経費月合計データ!$J$3,AG6:AG7)","v":0},null,152,{"$f":"DSUM(経費月合計データ!$B$3:$K$1000,経費月合計データ!$J$3,AJ6:AJ7)","v":0},null,227,{"$f":"DSUM(経費月合計データ!$B$3:$K$1000,経費月合計データ!$J$3,AM6:AM7)","v":0},null,292,{"$f":"DSUM(経費月合計データ!$B$3:$K$1000,経費月合計データ!$J$3,AP6:AP7)","v":0},null,503,{"$f":"DSUM(経費月合計データ!$B$3:$K$1000,経費月合計データ!$J$3,AS6:AS7)","v":0}]
[null,"201..300",{"$f":"+部品本日入力!V6","v":0},{"$f":"+部品本日入力!V16","v":0},{"$f":"+部品本日入力!V26","v":0},{"$f":"+部品本日入力!V36","v":0},{"$f":"+部品本日入力!V46","v":0},{"$f":"+部品本日入力!V56","v":0},{"$f":"部品本日入力!V66","v":0},{"$f":"部品本日入力!V76","v":0},{"$f":"部品本日入力!V86","v":0},{"$f":"+部品本日入力!V96","v":0},0,"P3",{"$f":"+経費本日入力!O9","v":0},null,null,"CODE",null,null,"CODE",null,null,"CODE",null,null,"CODE",null,null,"CODE",null,null,"CODE",null,null,"CODE",null,null,"CODE",null,null,"CODE",null,null,"CODE"]
[null,"301..334",{"$f":"+部品本日入力!V7","v":0},{"$f":"+部品本日入力!V17","v":0},{"$f":"+部品本日入力!V27","v":0},{"$f":"+部品本日入力!V37","v":0},{"$f":"+部品本日入力!V47","v":0},{"$f":"+部品本日入力!V57","v":0},{"$f":"部品本日入力!V67","v":0},{"$f":"部品本日入力!V77","v":0},{"$f":"部品本日入力!V87","v":0},{"$f":"+部品本日入力!V97","v":0},0,"P4",{"$f":"+経費本日入力!O11","v":0},null,null,3,{"$f":"DSUM(仕入月合計データ!$B$3:$N$9771,仕入月合計データ!$M$3,R8:R9)","v":0},null,153,{"$f":"DSUM(仕入月合計データ!$B$3:$N$9771,仕入月合計データ!$M$3,U8:U9)","v":0},null,228,{"$f":"DSUM(仕入月合計データ!$B$3:$N$9771,仕入月合計データ!$M$3,X8:X9)","v":0},null,293,{"$f":"DSUM(仕入月合計データ!$B$3:$N$9771,仕入月合計データ!$M$3,AA8:AA9)","v":0},null,504,{"$f":"DSUM(仕入月合計データ!$B$3:$N$9771,仕入月合計データ!$M$3,AD8:AD9)","v":0},null,3,{"$f":"DSUM(経費月合計データ!$B$3:$K$1000,経費月合計データ!$J$3,AG8:AG9)","v":0},null,153,{"$f":"DSUM(経費月合計データ!$B$3:$K$1000,経費月合計データ!$J$3,AJ8:AJ9)","v":0},null,228,{"$f":"DSUM(経費月合計データ!$B$3:$K$1000,経費月合計データ!$J$3,AM8:AM9)","v":0},null,293,{"$f":"DSUM(経費月合計データ!$B$3:$K$1000,経費月合計データ!$J$3,AP8:AP9)","v":0},null,504,{"$f":"DSUM(経費月合計データ!$B$3:$K$1000,経費月合計データ!$J$3,AS8:AS9)","v":0}]
[null,"401..426",{"$f":"+部品本日入力!V8","v":0},{"$f":"+部品本日入力!V18","v":0},{"$f":"+部品本日入力!V28","v":0},{"$f":"+部品本日入力!V38","v":0},{"$f":"+部品本日入力!V48","v":0},{"$f":"+部品本日入力!V58","v":0},{"$f":"部品本日入力!V68","v":0},{"$f":"部品本日入力!V78","v":0},{"$f":"部品本日入力!V88","v":0},{"$f":"+部品本日入力!V98","v":0},0," "," ",null,null,"CODE",null,null,"CODE",null,null,"CODE",null,null,"CODE",null,null,"CODE",null,null,"CODE",null,null,"CODE",null,null,"CODE",null,null,"CODE",null,null,"CODE"]
[null,"501..543",{"$f":"+部品本日入力!V9","v":0},{"$f":"+部品本日入力!V19","v":0},{"$f":"+部品本日入力!V29","v":0},{"$f":"+部品本日入力!V39","v":0},{"$f":"+部品本日入力!V49","v":0},{"$f":"+部品本日入力!V59","v":0},{"$f":"部品本日入力!V69","v":0},{"$f":"部品本日入力!V79","v":0},{"$f":"部品本日入力!V89","v":0},{"$f":"+部品本日入力!V99","v":0},0," "," ",null,null,4,{"$f":"DSUM(仕入月合計データ!$B$3:$N$9771,仕入月合計データ!$M$3,R10:R11)","v":0},null,154,{"$f":"DSUM(仕入月合計データ!$B$3:$N$9771,仕入月合計データ!$M$3,U10:U11)","v":0},null,229,{"$f":"DSUM(仕入月合計データ!$B$3:$N$9771,仕入月合計データ!$M$3,X10:X11)","v":0},null,294,{"$f":"DSUM(仕入月合計データ!$B$3:$N$9771,仕入月合計データ!$M$3,AA10:AA11)","v":0},null,505,{"$f":"DSUM(仕入月合計データ!$B$3:$N$9771,仕入月合計データ!$M$3,AD10:AD11)","v":0},null,4,{"$f":"DSUM(経費月合計データ!$B$3:$K$1000,経費月合計データ!$J$3,AG10:AG11)","v":0},null,154,{"$f":"DSUM(経費月合計データ!$B$3:$K$1000,経費月合計データ!$J$3,AJ10:AJ11)","v":0},null,229,{"$f":"DSUM(経費月合計データ!$B$3:$K$1000,経費月合計データ!$J$3,AM10:AM11)","v":0},null,294,{"$f":"DSUM(経費月合計データ!$B$3:$K$1000,経費月合計データ!$J$3,AP10:AP11)","v":0},null,505,{"$f":"DSUM(経費月合計データ!$B$3:$K$1000,経費月合計データ!$J$3,AS10:AS11)","v":0}]
[null,"601..635",null,null,null,null,null,null,null,null,null,null,null,null,null,null,null,"CODE",null,null,"CODE",null,null,"CODE",null,null,"CODE",null,null,"CODE",null,null,"CODE",null,null,"CODE",null,null,"CODE",null,null,"CODE",null,null,"CODE"]
[null,null,null,null,null,null,null,null,null,null,null,null,null,null,null,null,null,5,{"$f":"DSUM(仕入月合計データ!$B$3:$N$9771,仕入月合計データ!$M$3,R12:R13)","v":0},null,155,{"$f":"DSUM(仕入月合計データ!$B$3:$N$9771,仕入月合計データ!$M$3,U12:U13)","v":0},null,230,{"$f":"DSUM(仕入月合計データ!$B$3:$N$9771,仕入月合計データ!$M$3,X12:X13)","v":825},null,295,{"$f":"DSUM(仕入月合計データ!$B$3:$N$9771,仕入月合計データ!$M$3,AA12:AA13)","v":0},null,506,{"$f":"DSUM(仕入月合計データ!$B$3:$N$9771,仕入月合計データ!$M$3,AD12:AD13)","v":0},null,5,{"$f":"DSUM(経費月合計データ!$B$3:$K$1000,経費月合計データ!$J$3,AG12:AG13)","v":200},null,155,{"$f":"DSUM(経費月合計データ!$B$3:$K$1000,経費月合計データ!$J$3,AJ12:AJ13)","v":0},null,230,{"$f":"DSUM(経費月合計データ!$B$3:$K$1000,経費月合計データ!$J$3,AM12:AM13)","v":0},null,295,{"$f":"DSUM(経費月合計データ!$B$3:$K$1000,経費月合計データ!$J$3,AP12:AP13)","v":0},null,506,{"$f":"DSUM(経費月合計データ!$B$3:$K$1000,経費月合計データ!$J$3,AS12:AS13)","v":0}]
[null,"　",null,null,null,null,null,null,null,null,null,"合計",{"$f":"SUM(M6:M13)","v":3600},"総合計",{"$f":"+M14+O5","v":3600},null,null,"CODE",null,null,"CODE",null,null,"CODE",null,null,"CODE",null,null,"CODE",null,null,"CODE",null,null,"CODE",null,null,"CODE",null,null,"CODE",null,null,"CODE"]
[null,"当月仕入分明細（仕入月合計データと経費月合計データを基に表示）",null,null,null,null,null,"（本日入力分は含まない）",null,null,null,null,null,"　","　",null,null,6,{"$f":"DSUM(仕入月合計データ!$B$3:$N$9771,仕入月合計データ!$M$3,R14:R15)","v":0},null,156,{"$f":"DSUM(仕入月合計データ!$B$3:$N$9771,仕入月合計データ!$M$3,U14:U15)","v":0},null,231,{"$f":"DSUM(仕入月合計データ!$B$3:$N$9771,仕入月合計データ!$M$3,X14:X15)","v":0},null,296,{"$f":"DSUM(仕入月合計データ!$B$3:$N$9771,仕入月合計データ!$M$3,AA14:AA15)","v":0},null,507,{"$f":"DSUM(仕入月合計データ!$B$3:$N$9771,仕入月合計データ!$M$3,AD14:AD15)","v":0},null,6,{"$f":"DSUM(経費月合計データ!$B$3:$K$1000,経費月合計データ!$J$3,AG14:AG15)","v":800},null,156,{"$f":"DSUM(経費月合計データ!$B$3:$K$1000,経費月合計データ!$J$3,AJ14:AJ15)","v":0},null,231,{"$f":"DSUM(経費月合計データ!$B$3:$K$1000,経費月合計データ!$J$3,AM14:AM15)","v":0},null,296,{"$f":"DSUM(経費月合計データ!$B$3:$K$1000,経費月合計データ!$J$3,AP14:AP15)","v":0},null,507,{"$f":"DSUM(経費月合計データ!$B$3:$K$1000,経費月合計データ!$J$3,AS14:AS15)","v":0}]
[null,null,"AA ","BB ","CC ","DD ","EE ","FF ","GG ","HH ","LL ","MM ","列合計","経費",null,null,null,"CODE",null,null,"CODE",null,null,"CODE",null,null,"CODE",null,null,"CODE",null,null,"CODE",null,null,"CODE",null,null,"CODE",null,null,"CODE",null,null,"CODE"]
[null,"合計",{"$f":"SUM(C18:C25)","v":4710},1457,882,903,1458,945,966,987,1008,1029,{"$f":"SUM(C17:L17)","v":14345},"　","　",null,null,7,{"$f":"DSUM(仕入月合計データ!$B$3:$N$9771,仕入月合計データ!$M$3,R16:R17)","v":0},null,157,{"$f":"DSUM(仕入月合計データ!$B$3:$N$9771,仕入月合計データ!$M$3,U16:U17)","v":0},null,232,{"$f":"DSUM(仕入月合計データ!$B$3:$N$9771,仕入月合計データ!$M$3,X16:X17)","v":0},null,297,{"$f":"DSUM(仕入月合計データ!$B$3:$N$9771,仕入月合計データ!$M$3,AA16:AA17)","v":0},null,508,{"$f":"DSUM(仕入月合計データ!$B$3:$N$9771,仕入月合計データ!$M$3,AD16:AD17)","v":0},null,7,{"$f":"DSUM(経費月合計データ!$B$3:$K$1000,経費月合計データ!$J$3,AG16:AG17)","v":1800},null,157,{"$f":"DSUM(経費月合計データ!$B$3:$K$1000,経費月合計データ!$J$3,AJ16:AJ17)","v":0},null,232,{"$f":"DSUM(経費月合計データ!$B$3:$K$1000,経費月合計データ!$J$3,AM16:AM17)","v":0},null,297,{"$f":"DSUM(経費月合計データ!$B$3:$K$1000,経費月合計データ!$J$3,AP16:AP17)","v":0},null,508,{"$f":"DSUM(経費月合計データ!$B$3:$K$1000,経費月合計データ!$J$3,AS16:AS17)","v":0}]
[null,"0..21",{"$f":"+仕入月合計データ!U4","v":240},{"$f":"+仕入月合計データ!U14","v":246},{"$f":"+仕入月合計データ!U24","v":252},{"$f":"+仕入月合計データ!U34","v":258},{"$f":"+仕入月合計データ!U44","v":264},{"$f":"+仕入月合計データ!U54","v":270},{"$f":"仕入月合計データ!U64","v":276},{"$f":"仕入月合計データ!U74","v":282},{"$f":"仕入月合計データ!U84","v":288},{"$f":"+仕入月合計データ!U94","v":294},2670,"P1",{"$f":"+経費月合計データ!O5","v":200},null,null,"CODE",null,null,"CODE",null,null,"CODE",null,null,"CODE",null,null,"CODE",null,null,"CODE",null,null,"CODE",null,null,"CODE",null,null,"CODE",null,null,"CODE"]
[null,"101..200",{"$f":"+仕入月合計データ!U5","v":3720},{"$f":"+仕入月合計データ!U15","v":386},{"$f":"+仕入月合計データ!U25","v":66},{"$f":"+仕入月合計データ!U35","v":69},{"$f":"+仕入月合計データ!U45","v":324},{"$f":"+仕入月合計データ!U55","v":75},{"$f":"仕入月合計データ!U65","v":78},{"$f":"仕入月合計データ!U75","v":81},{"$f":"仕入月合計データ!U85","v":84},{"$f":"+仕入月合計データ!U95","v":87},4970,"P2",{"$f":"+経費月合計データ!O7","v":800},null,null,8,{"$f":"DSUM(仕入月合計データ!$B$3:$N$9771,仕入月合計データ!$M$3,R18:R19)","v":0},null,158,{"$f":"DSUM(仕入月合計データ!$B$3:$N$9771,仕入月合計データ!$M$3,U18:U19)","v":0},null,233,{"$f":"DSUM(仕入月合計データ!$B$3:$N$9771,仕入月合計データ!$M$3,X18:X19)","v":0},null,298,{"$f":"DSUM(仕入月合計データ!$B$3:$N$9771,仕入月合計データ!$M$3,AA18:AA19)","v":0},null,509,{"$f":"DSUM(仕入月合計データ!$B$3:$N$9771,仕入月合計データ!$M$3,AD18:AD19)","v":0},null,8,{"$f":"DSUM(経費月合計データ!$B$3:$K$1000,経費月合計データ!$J$3,AG18:AG19)","v":3200},null,158,{"$f":"DSUM(経費月合計データ!$B$3:$K$1000,経費月合計データ!$J$3,AJ18:AJ19)","v":0},null,233,{"$f":"DSUM(経費月合計データ!$B$3:$K$1000,経費月合計データ!$J$3,AM18:AM19)","v":0},null,298,{"$f":"DSUM(経費月合計データ!$B$3:$K$1000,経費月合計データ!$J$3,AP18:AP19)","v":0},null,509,{"$f":"DSUM(経費月合計データ!$B$3:$K$1000,経費月合計データ!$J$3,AS18:AS19)","v":0}]
[null,"201..300",{"$f":"+仕入月合計データ!U6","v":360},{"$f":"+仕入月合計データ!U16","v":366},{"$f":"+仕入月合計データ!U26","v":96},{"$f":"+仕入月合計データ!U36","v":99},{"$f":"+仕入月合計データ!U46","v":384},{"$f":"+仕入月合計データ!U56","v":105},{"$f":"仕入月合計データ!U66","v":108},{"$f":"仕入月合計データ!U76","v":111},{"$f":"仕入月合計データ!U86","v":114},{"$f":"+仕入月合計データ!U96","v":117},1860,"P3",{"$f":"+経費月合計データ!O9","v":1800},null,null,"CODE",null,null,"CODE",null,null,"CODE",null,null,"CODE",null,null,"CODE",null,null,"CODE",null,null,"CODE",null,null,"CODE",null,null,"CODE",null,null,"CODE"]
[null,"301..334",{"$f":"+仕入月合計データ!U7","v":120},{"$f":"+仕入月合計データ!U17","v":123},{"$f":"+仕入月合計データ!U27","v":126},{"$f":"+仕入月合計データ!U37","v":129},{"$f":"+仕入月合計データ!U47","v":132},{"$f":"+仕入月合計データ!U57","v":135},{"$f":"仕入月合計データ!U67","v":138},{"$f":"仕入月合計データ!U77","v":141},{"$f":"仕入月合計データ!U87","v":144},{"$f":"+仕入月合計データ!U97","v":147},1335,"P4",{"$f":"+経費月合計データ!O11","v":3200},null,null,9,{"$f":"DSUM(仕入月合計データ!$B$3:$N$9771,仕入月合計データ!$M$3,R20:R21)","v":0},null,159,{"$f":"DSUM(仕入月合計データ!$B$3:$N$9771,仕入月合計データ!$M$3,U20:U21)","v":0},null,234,{"$f":"DSUM(仕入月合計データ!$B$3:$N$9771,仕入月合計データ!$M$3,X20:X21)","v":0},null,299,{"$f":"DSUM(仕入月合計データ!$B$3:$N$9771,仕入月合計データ!$M$3,AA20:AA21)","v":0},null,510,{"$f":"DSUM(仕入月合計データ!$B$3:$N$9771,仕入月合計データ!$M$3,AD20:AD21)","v":0},null,9,{"$f":"DSUM(経費月合計データ!$B$3:$K$1000,経費月合計データ!$J$3,AG20:AG21)","v":0},null,159,{"$f":"DSUM(経費月合計データ!$B$3:$K$1000,経費月合計データ!$J$3,AJ20:AJ21)","v":0},null,234,{"$f":"DSUM(経費月合計データ!$B$3:$K$1000,経費月合計データ!$J$3,AM20:AM21)","v":0},null,299,{"$f":"DSUM(経費月合計データ!$B$3:$K$1000,経費月合計データ!$J$3,AP20:AP21)","v":0},null,510,{"$f":"DSUM(経費月合計データ!$B$3:$K$1000,経費月合計データ!$J$3,AS20:AS21)","v":0}]
[null,"401..426",{"$f":"+仕入月合計データ!U8","v":150},{"$f":"+仕入月合計データ!U18","v":153},{"$f":"+仕入月合計データ!U28","v":156},{"$f":"+仕入月合計データ!U38","v":159},{"$f":"+仕入月合計データ!U48","v":162},{"$f":"+仕入月合計データ!U58","v":165},{"$f":"仕入月合計データ!U68","v":168},{"$f":"仕入月合計データ!U78","v":171},{"$f":"仕入月合計データ!U88","v":174},{"$f":"+仕入月合計データ!U98","v":177},1635," "," ",null,null,"CODE",null,null,"CODE",null,null,"CODE",null,null,"CODE",null,null,"CODE",null,null,"CODE",null,null,"CODE",null,null,"CODE",null,null,"CODE",null,null,"CODE"]
[null,"501..543",{"$f":"+仕入月合計データ!U9","v":120},{"$f":"+仕入月合計データ!U19","v":183},{"$f":"+仕入月合計データ!U29","v":186},{"$f":"+仕入月合計データ!U39","v":189},{"$f":"+仕入月合計データ!U49","v":192},{"$f":"+仕入月合計データ!U59","v":195},{"$f":"仕入月合計データ!U69","v":198},{"$f":"仕入月合計データ!U79","v":201},{"$f":"仕入月合計データ!U89","v":204},{"$f":"+仕入月合計データ!U99","v":207},1875," "," ",null,null,10,{"$f":"DSUM(仕入月合計データ!$B$3:$N$9771,仕入月合計データ!$M$3,R22:R23)","v":0},null,160,{"$f":"DSUM(仕入月合計データ!$B$3:$N$9771,仕入月合計データ!$M$3,U22:U23)","v":0},null,235,{"$f":"DSUM(仕入月合計データ!$B$3:$N$9771,仕入月合計データ!$M$3,X22:X23)","v":0},null,300,{"$f":"DSUM(仕入月合計データ!$B$3:$N$9771,仕入月合計データ!$M$3,AA22:AA23)","v":0},null,511,{"$f":"DSUM(仕入月合計データ!$B$3:$N$9771,仕入月合計データ!$M$3,AD22:AD23)","v":0},null,10,{"$f":"DSUM(経費月合計データ!$B$3:$K$1000,経費月合計データ!$J$3,AG22:AG23)","v":0},null,160,{"$f":"DSUM(経費月合計データ!$B$3:$K$1000,経費月合計データ!$J$3,AJ22:AJ23)","v":0},null,235,{"$f":"DSUM(経費月合計データ!$B$3:$K$1000,経費月合計データ!$J$3,AM22:AM23)","v":0},null,300,{"$f":"DSUM(経費月合計データ!$B$3:$K$1000,経費月合計データ!$J$3,AP22:AP23)","v":0},null,511,{"$f":"DSUM(経費月合計データ!$B$3:$K$1000,経費月合計データ!$J$3,AS22:AS23)","v":0}]
[null,"601..635",null,null,null,null,null,null,null,null,null,null,null,null,null,null,null,"CODE",null,null,"CODE",null,null,"CODE",null,null,"CODE",null,null,"CODE",null,null,"CODE",null,null,"CODE",null,null,"CODE",null,null,"CODE",null,null,"CODE"]
[null,null,null,null,null,null,null,null,null,null,null,null,null,null,null,null,null,11,{"$f":"DSUM(仕入月合計データ!$B$3:$N$9771,仕入月合計データ!$M$3,R24:R25)","v":0},null,161,{"$f":"DSUM(仕入月合計データ!$B$3:$N$9771,仕入月合計データ!$M$3,U24:U25)","v":0},null,236,{"$f":"DSUM(仕入月合計データ!$B$3:$N$9771,仕入月合計データ!$M$3,X24:X25)","v":0},null,301,{"$f":"DSUM(仕入月合計データ!$B$3:$N$9771,仕入月合計データ!$M$3,AA24:AA25)","v":0},null,512,{"$f":"DSUM(仕入月合計データ!$B$3:$N$9771,仕入月合計データ!$M$3,AD24:AD25)","v":0},null,11,{"$f":"DSUM(経費月合計データ!$B$3:$K$1000,経費月合計データ!$J$3,AG24:AG25)","v":0},null,161,{"$f":"DSUM(経費月合計データ!$B$3:$K$1000,経費月合計データ!$J$3,AJ24:AJ25)","v":0},null,236,{"$f":"DSUM(経費月合計データ!$B$3:$K$1000,経費月合計データ!$J$3,AM24:AM25)","v":0},null,301,{"$f":"DSUM(経費月合計データ!$B$3:$K$1000,経費月合計データ!$J$3,AP24:AP25)","v":0},null,512,{"$f":"DSUM(経費月合計データ!$B$3:$K$1000,経費月合計データ!$J$3,AS24:AS25)","v":0}]
[null,"　",null,null,null,null,null,null,null,null,null,"合計",{"$f":"SUM(M18:M25)","v":14345},"合計",{"$f":"SUM(O18:O23)","v":6000},null,null,"CODE",null,null,"CODE",null,null,"CODE",null,null,"CODE",null,null,"CODE",null,null,"CODE",null,null,"CODE",null,null,"CODE",null,null,"CODE",null,null,"CODE"]
[null,null,null,null,null,null,null,null,null,null,null,null,null,"総合計",{"$f":"+O26+M26","v":20345},null,null,12,{"$f":"DSUM(仕入月合計データ!$B$3:$N$9771,仕入月合計データ!$M$3,R26:R27)","v":0},null,162,{"$f":"DSUM(仕入月合計データ!$B$3:$N$9771,仕入月合計データ!$M$3,U26:U27)","v":0},null,237,{"$f":"DSUM(仕入月合計データ!$B$3:$N$9771,仕入月合計データ!$M$3,X26:X27)","v":0},null,302,{"$f":"DSUM(仕入月合計データ!$B$3:$N$9771,仕入月合計データ!$M$3,AA26:AA27)","v":0},null,513,{"$f":"DSUM(仕入月合計データ!$B$3:$N$9771,仕入月合計データ!$M$3,AD26:AD27)","v":0},null,12,{"$f":"DSUM(経費月合計データ!$B$3:$K$1000,経費月合計データ!$J$3,AG26:AG27)","v":0},null,162,{"$f":"DSUM(経費月合計データ!$B$3:$K$1000,経費月合計データ!$J$3,AJ26:AJ27)","v":0},null,237,{"$f":"DSUM(経費月合計データ!$B$3:$K$1000,経費月合計データ!$J$3,AM26:AM27)","v":0},null,302,{"$f":"DSUM(経費月合計データ!$B$3:$K$1000,経費月合計データ!$J$3,AP26:AP27)","v":0},null,513,{"$f":"DSUM(経費月合計データ!$B$3:$K$1000,経費月合計データ!$J$3,AS26:AS27)","v":0}]
[null,"　",null,null,null,null,null,null,null,null,null,null,null,null,null,null,null,"CODE",null,null,"CODE",null,null,"CODE",null,null,"CODE",null,null,"CODE",null,null,"CODE",null,null,"CODE",null,null,"CODE",null,null,"CODE",null,null,"CODE"]
[null,"　",null,null,null,null,null,null,"データベースの当月仕入額",null,null,null,"部品仕入額","経費仕入額","総合計",null,null,13,{"$f":"DSUM(仕入月合計データ!$B$3:$N$9771,仕入月合計データ!$M$3,R28:R29)","v":0},null,163,{"$f":"DSUM(仕入月合計データ!$B$3:$N$9771,仕入月合計データ!$M$3,U28:U29)","v":0},null,238,{"$f":"DSUM(仕入月合計データ!$B$3:$N$9771,仕入月合計データ!$M$3,X28:X29)","v":0},null,303,{"$f":"DSUM(仕入月合計データ!$B$3:$N$9771,仕入月合計データ!$M$3,AA28:AA29)","v":0},null,514,{"$f":"DSUM(仕入月合計データ!$B$3:$N$9771,仕入月合計データ!$M$3,AD28:AD29)","v":0},null,13,{"$f":"DSUM(経費月合計データ!$B$3:$K$1000,経費月合計データ!$J$3,AG28:AG29)","v":0},null,163,{"$f":"DSUM(経費月合計データ!$B$3:$K$1000,経費月合計データ!$J$3,AJ28:AJ29)","v":0},null,238,{"$f":"DSUM(経費月合計データ!$B$3:$K$1000,経費月合計データ!$J$3,AM28:AM29)","v":0},null,303,{"$f":"DSUM(経費月合計データ!$B$3:$K$1000,経費月合計データ!$J$3,AP28:AP29)","v":0},null,514,{"$f":"DSUM(経費月合計データ!$B$3:$K$1000,経費月合計データ!$J$3,AS28:AS29)","v":0}]
[null,"　",null,null,null,null,null,null,null,null,null,null,{"$f":"[3]当月!$J$2","v":14345},{"$f":"[4]当月!$J$2","v":6000},{"$f":"SUM(M30:N30)","v":20345},null,null,"CODE",null,null,"CODE",null,null,"CODE",null,null,"CODE",null,null,"CODE",null,null,"CODE",null,null,"CODE",null,null,"CODE",null,null,"CODE",null,null,"CODE"]
[null,null,null,null,null,null,null,null,null,null,null,null,null,null,null,null,null,14,{"$f":"DSUM(仕入月合計データ!$B$3:$N$9771,仕入月合計データ!$M$3,R30:R31)","v":0},null,164,{"$f":"DSUM(仕入月合計データ!$B$3:$N$9771,仕入月合計データ!$M$3,U30:U31)","v":0},null,239,{"$f":"DSUM(仕入月合計データ!$B$3:$N$9771,仕入月合計データ!$M$3,X30:X31)","v":0},null,304,{"$f":"DSUM(仕入月合計データ!$B$3:$N$9771,仕入月合計データ!$M$3,AA30:AA31)","v":0},null,515,{"$f":"DSUM(仕入月合計データ!$B$3:$N$9771,仕入月合計データ!$M$3,AD30:AD31)","v":0},null,14,{"$f":"DSUM(経費月合計データ!$B$3:$K$1000,経費月合計データ!$J$3,AG30:AG31)","v":0},null,164,{"$f":"DSUM(経費月合計データ!$B$3:$K$1000,経費月合計データ!$J$3,AJ30:AJ31)","v":0},null,239,{"$f":"DSUM(経費月合計データ!$B$3:$K$1000,経費月合計データ!$J$3,AM30:AM31)","v":0},null,304,{"$f":"DSUM(経費月合計データ!$B$3:$K$1000,経費月合計データ!$J$3,AP30:AP31)","v":0},null,515,{"$f":"DSUM(経費月合計データ!$B$3:$K$1000,経費月合計データ!$J$3,AS30:AS31)","v":0}]
[null,null,null,null,null,null,null,null,"データベースファイルと仕入伝票入力ファイルの金額比較",null,null,null,null,null,{"$f":"IF(O27=O30,\"OK\",\"エラー\")","v":"OK"},null,null,"CODE",null,null,"CODE",null,null,"CODE",null,null,"CODE",null,null,"CODE",null,null,"CODE",null,null,"CODE",null,null,"CODE",null,null,"CODE",null,null,"CODE"]
[null,null,null,null,null,null,null,null,null,null,null,null,null,null,null,null,null,15,{"$f":"DSUM(仕入月合計データ!$B$3:$N$9771,仕入月合計データ!$M$3,R32:R33)","v":0},null,165,{"$f":"DSUM(仕入月合計データ!$B$3:$N$9771,仕入月合計データ!$M$3,U32:U33)","v":0},null,240,{"$f":"DSUM(仕入月合計データ!$B$3:$N$9771,仕入月合計データ!$M$3,X32:X33)","v":0},null,305,{"$f":"DSUM(仕入月合計データ!$B$3:$N$9771,仕入月合計データ!$M$3,AA32:AA33)","v":0},null,516,{"$f":"DSUM(仕入月合計データ!$B$3:$N$9771,仕入月合計データ!$M$3,AD32:AD33)","v":0},null,15,{"$f":"DSUM(経費月合計データ!$B$3:$K$1000,経費月合計データ!$J$3,AG32:AG33)","v":0},null,165,{"$f":"DSUM(経費月合計データ!$B$3:$K$1000,経費月合計データ!$J$3,AJ32:AJ33)","v":0},null,240,{"$f":"DSUM(経費月合計データ!$B$3:$K$1000,経費月合計データ!$J$3,AM32:AM33)","v":0},null,305,{"$f":"DSUM(経費月合計データ!$B$3:$K$1000,経費月合計データ!$J$3,AP32:AP33)","v":0},null,516,{"$f":"DSUM(経費月合計データ!$B$3:$K$1000,経費月合計データ!$J$3,AS32:AS33)","v":0}]
[null,null,null,null,null,null,null,null,null,null,null,null,null,null,{"$f":"IF(M26-Y2=0,\"\",\"ERR\")","v":""},null,null,"CODE",null,null,"CODE",null,null,"CODE",null,null,"CODE",null,null,"CODE",null,null,"CODE",null,null,"CODE",null,null,"CODE",null,null,"CODE",null,null,"CODE"]
[null,null,null,null,null,null,null,null,null,null,null,null,null,null,null,null,null,16,{"$f":"DSUM(仕入月合計データ!$B$3:$N$9771,仕入月合計データ!$M$3,R34:R35)","v":435},null,166,{"$f":"DSUM(仕入月合計データ!$B$3:$N$9771,仕入月合計データ!$M$3,U34:U35)","v":3500},null,241,{"$f":"DSUM(仕入月合計データ!$B$3:$N$9771,仕入月合計データ!$M$3,X34:X35)","v":0},null,306,{"$f":"DSUM(仕入月合計データ!$B$3:$N$9771,仕入月合計データ!$M$3,AA34:AA35)","v":0},null,517,{"$f":"DSUM(仕入月合計データ!$B$3:$N$9771,仕入月合計データ!$M$3,AD34:AD35)","v":0},null,16,{"$f":"DSUM(経費月合計データ!$B$3:$K$1000,経費月合計データ!$J$3,AG34:AG35)","v":0},null,166,{"$f":"DSUM(経費月合計データ!$B$3:$K$1000,経費月合計データ!$J$3,AJ34:AJ35)","v":0},null,241,{"$f":"DSUM(経費月合計データ!$B$3:$K$1000,経費月合計データ!$J$3,AM34:AM35)","v":0},null,306,{"$f":"DSUM(経費月合計データ!$B$3:$K$1000,経費月合計データ!$J$3,AP34:AP35)","v":0},null,517,{"$f":"DSUM(経費月合計データ!$B$3:$K$1000,経費月合計データ!$J$3,AS34:AS35)","v":0}]
[null,null,null,null,null,null,null,null,null,null,null,null,null,null,null,null,null,"CODE",null,null,"CODE",null,null,"CODE",null,null,"CODE",null,null,"CODE",null,null,"CODE",null,null,"CODE",null,null,"CODE",null,null,"CODE",null,null,"CODE"]
[null,null,null,null,null,null,null,null,null,null,null,null,null,null,null,null,null,17,{"$f":"DSUM(仕入月合計データ!$B$3:$N$9771,仕入月合計データ!$M$3,R36:R37)","v":0},null,167,{"$f":"DSUM(仕入月合計データ!$B$3:$N$9771,仕入月合計データ!$M$3,U36:U37)","v":0},null,242,{"$f":"DSUM(仕入月合計データ!$B$3:$N$9771,仕入月合計データ!$M$3,X36:X37)","v":0},null,307,{"$f":"DSUM(仕入月合計データ!$B$3:$N$9771,仕入月合計データ!$M$3,AA36:AA37)","v":0},null,518,{"$f":"DSUM(仕入月合計データ!$B$3:$N$9771,仕入月合計データ!$M$3,AD36:AD37)","v":0},null,17,{"$f":"DSUM(経費月合計データ!$B$3:$K$1000,経費月合計データ!$J$3,AG36:AG37)","v":0},null,167,{"$f":"DSUM(経費月合計データ!$B$3:$K$1000,経費月合計データ!$J$3,AJ36:AJ37)","v":0},null,242,{"$f":"DSUM(経費月合計データ!$B$3:$K$1000,経費月合計データ!$J$3,AM36:AM37)","v":0},null,307,{"$f":"DSUM(経費月合計データ!$B$3:$K$1000,経費月合計データ!$J$3,AP36:AP37)","v":0},null,518,{"$f":"DSUM(経費月合計データ!$B$3:$K$1000,経費月合計データ!$J$3,AS36:AS37)","v":0}]
[null,null,null,null,null,null,null,null,null,null,null,null,null,null,null,null,null,"CODE",null,null,"CODE",null,null,"CODE",null,null,"CODE",null,null,"CODE",null,null,"CODE",null,null,"CODE",null,null,"CODE",null,null,"CODE",null,null,"CODE"]
[null,null,null,null,null,null,null,null,null,null,null,null,null,null,null,null,null,18,{"$f":"DSUM(仕入月合計データ!$B$3:$N$9771,仕入月合計データ!$M$3,R38:R39)","v":0},null,168,{"$f":"DSUM(仕入月合計データ!$B$3:$N$9771,仕入月合計データ!$M$3,U38:U39)","v":0},null,243,{"$f":"DSUM(仕入月合計データ!$B$3:$N$9771,仕入月合計データ!$M$3,X38:X39)","v":0},null,308,{"$f":"DSUM(仕入月合計データ!$B$3:$N$9771,仕入月合計データ!$M$3,AA38:AA39)","v":0},null,519,{"$f":"DSUM(仕入月合計データ!$B$3:$N$9771,仕入月合計データ!$M$3,AD38:AD39)","v":0},null,18,{"$f":"DSUM(経費月合計データ!$B$3:$K$1000,経費月合計データ!$J$3,AG38:AG39)","v":0},null,168,{"$f":"DSUM(経費月合計データ!$B$3:$K$1000,経費月合計データ!$J$3,AJ38:AJ39)","v":0},null,243,{"$f":"DSUM(経費月合計データ!$B$3:$K$1000,経費月合計データ!$J$3,AM38:AM39)","v":0},null,308,{"$f":"DSUM(経費月合計データ!$B$3:$K$1000,経費月合計データ!$J$3,AP38:AP39)","v":0},null,519,{"$f":"DSUM(経費月合計データ!$B$3:$K$1000,経費月合計データ!$J$3,AS38:AS39)","v":0}]
[null,null,null,null,null,null,null,null,null,null,null,null,null,null,null,null,null,"CODE",null,null,"CODE",null,null,"CODE",null,null,"CODE",null,null,"CODE",null,null,"CODE",null,null,"CODE",null,null,"CODE",null,null,"CODE",null,null,"CODE"]
[null,null,null,null,null,null,null,null,null,null,null,null,null,null,null,null,null,19,{"$f":"DSUM(仕入月合計データ!$B$3:$N$9771,仕入月合計データ!$M$3,R40:R41)","v":0},null,169,{"$f":"DSUM(仕入月合計データ!$B$3:$N$9771,仕入月合計データ!$M$3,U40:U41)","v":0},null,244,{"$f":"DSUM(仕入月合計データ!$B$3:$N$9771,仕入月合計データ!$M$3,X40:X41)","v":0},null,309,{"$f":"DSUM(仕入月合計データ!$B$3:$N$9771,仕入月合計データ!$M$3,AA40:AA41)","v":0},null,520,{"$f":"DSUM(仕入月合計データ!$B$3:$N$9771,仕入月合計データ!$M$3,AD40:AD41)","v":0},null,19,{"$f":"DSUM(経費月合計データ!$B$3:$K$1000,経費月合計データ!$J$3,AG40:AG41)","v":0},null,169,{"$f":"DSUM(経費月合計データ!$B$3:$K$1000,経費月合計データ!$J$3,AJ40:AJ41)","v":0},null,244,{"$f":"DSUM(経費月合計データ!$B$3:$K$1000,経費月合計データ!$J$3,AM40:AM41)","v":0},null,309,{"$f":"DSUM(経費月合計データ!$B$3:$K$1000,経費月合計データ!$J$3,AP40:AP41)","v":0},null,520,{"$f":"DSUM(経費月合計データ!$B$3:$K$1000,経費月合計データ!$J$3,AS40:AS41)","v":0}]
[null,null,null,null,null,null,null,null,null,null,null,null,null,null,null,null,null,"CODE",null,null,"CODE",null,null,"CODE",null,null,"CODE",null,null,"CODE",null,null,"CODE",null,null,"CODE",null,null,"CODE",null,null,"CODE",null,null,"CODE"]
[null,null,null,null,null,null,null,null,null,null,null,null,null,null,null,null,null,20,{"$f":"DSUM(仕入月合計データ!$B$3:$N$9771,仕入月合計データ!$M$3,R42:R43)","v":2235},null,170,{"$f":"DSUM(仕入月合計データ!$B$3:$N$9771,仕入月合計データ!$M$3,U42:U43)","v":0},null,245,{"$f":"DSUM(仕入月合計データ!$B$3:$N$9771,仕入月合計データ!$M$3,X42:X43)","v":0},null,310,{"$f":"DSUM(仕入月合計データ!$B$3:$N$9771,仕入月合計データ!$M$3,AA42:AA43)","v":0},null,521,{"$f":"DSUM(仕入月合計データ!$B$3:$N$9771,仕入月合計データ!$M$3,AD42:AD43)","v":0},null,20,{"$f":"DSUM(経費月合計データ!$B$3:$K$1000,経費月合計データ!$J$3,AG42:AG43)","v":0},null,170,{"$f":"DSUM(経費月合計データ!$B$3:$K$1000,経費月合計データ!$J$3,AJ42:AJ43)","v":0},null,245,{"$f":"DSUM(経費月合計データ!$B$3:$K$1000,経費月合計データ!$J$3,AM42:AM43)","v":0},null,310,{"$f":"DSUM(経費月合計データ!$B$3:$K$1000,経費月合計データ!$J$3,AP42:AP43)","v":0},null,521,{"$f":"DSUM(経費月合計データ!$B$3:$K$1000,経費月合計データ!$J$3,AS42:AS43)","v":0}]
[null,null,null,null,null,null,null,null,null,null,null,null,null,null,null,null,null,"CODE",null,null,"CODE",null,null,"CODE",null,null,"CODE",null,null,"CODE",null,null,"CODE",null,null,"CODE",null,null,"CODE",null,null,"CODE",null,null,"CODE"]
[null,null,null,null,null,null,null,null,null,null,null,null,null,null,null,null,null,21,{"$f":"DSUM(仕入月合計データ!$B$3:$N$9771,仕入月合計データ!$M$3,R44:R45)","v":0},null,171,{"$f":"DSUM(仕入月合計データ!$B$3:$N$9771,仕入月合計データ!$M$3,U44:U45)","v":0},null,246,{"$f":"DSUM(仕入月合計データ!$B$3:$N$9771,仕入月合計データ!$M$3,X44:X45)","v":0},null,311,{"$f":"DSUM(仕入月合計データ!$B$3:$N$9771,仕入月合計データ!$M$3,AA44:AA45)","v":0},null,522,{"$f":"DSUM(仕入月合計データ!$B$3:$N$9771,仕入月合計データ!$M$3,AD44:AD45)","v":0},null,21,{"$f":"DSUM(経費月合計データ!$B$3:$K$1000,経費月合計データ!$J$3,AG44:AG45)","v":0},null,171,{"$f":"DSUM(経費月合計データ!$B$3:$K$1000,経費月合計データ!$J$3,AJ44:AJ45)","v":0},null,246,{"$f":"DSUM(経費月合計データ!$B$3:$K$1000,経費月合計データ!$J$3,AM44:AM45)","v":0},null,311,{"$f":"DSUM(経費月合計データ!$B$3:$K$1000,経費月合計データ!$J$3,AP44:AP45)","v":0},null,522,{"$f":"DSUM(経費月合計データ!$B$3:$K$1000,経費月合計データ!$J$3,AS44:AS45)","v":0}]
[null,null,null,null,null,null,null,null,null,null,null,null,null,null,null,null,null,"CODE",null,null,"CODE",null,null,"CODE",null,null,"CODE",null,null,"CODE",null,null,"CODE",null,null,"CODE",null,null,"CODE",null,null,"CODE",null,null,"CODE"]
[null,null,null,null,null,null,null,null,null,null,null,null,null,null,null,null,null,101,{"$f":"DSUM(仕入月合計データ!$B$3:$N$9771,仕入月合計データ!$M$3,R46:R47)","v":0},null,172,{"$f":"DSUM(仕入月合計データ!$B$3:$N$9771,仕入月合計データ!$M$3,U46:U47)","v":0},null,247,{"$f":"DSUM(仕入月合計データ!$B$3:$N$9771,仕入月合計データ!$M$3,X46:X47)","v":0},null,312,{"$f":"DSUM(仕入月合計データ!$B$3:$N$9771,仕入月合計データ!$M$3,AA46:AA47)","v":0},null,523,{"$f":"DSUM(仕入月合計データ!$B$3:$N$9771,仕入月合計データ!$M$3,AD46:AD47)","v":0},null,101,{"$f":"DSUM(経費月合計データ!$B$3:$K$1000,経費月合計データ!$J$3,AG46:AG47)","v":0},null,172,{"$f":"DSUM(経費月合計データ!$B$3:$K$1000,経費月合計データ!$J$3,AJ46:AJ47)","v":0},null,247,{"$f":"DSUM(経費月合計データ!$B$3:$K$1000,経費月合計データ!$J$3,AM46:AM47)","v":0},null,312,{"$f":"DSUM(経費月合計データ!$B$3:$K$1000,経費月合計データ!$J$3,AP46:AP47)","v":0},null,523,{"$f":"DSUM(経費月合計データ!$B$3:$K$1000,経費月合計データ!$J$3,AS46:AS47)","v":0}]
[null,null,null,null,null,null,null,null,null,null,null,null,null,null,null,null,null,"CODE",null,null,"CODE",null,null,"CODE",null,null,"CODE",null,null,"CODE",null,null,"CODE",null,null,"CODE",null,null,"CODE",null,null,"CODE",null,null,"CODE"]
[null,null,null,null,null,null,null,null,null,null,null,null,null,null,null,null,null,102,{"$f":"DSUM(仕入月合計データ!$B$3:$N$9771,仕入月合計データ!$M$3,R48:R49)","v":0},null,173,{"$f":"DSUM(仕入月合計データ!$B$3:$N$9771,仕入月合計データ!$M$3,U48:U49)","v":0},null,248,{"$f":"DSUM(仕入月合計データ!$B$3:$N$9771,仕入月合計データ!$M$3,X48:X49)","v":0},null,313,{"$f":"DSUM(仕入月合計データ!$B$3:$N$9771,仕入月合計データ!$M$3,AA48:AA49)","v":0},null,524,{"$f":"DSUM(仕入月合計データ!$B$3:$N$9771,仕入月合計データ!$M$3,AD48:AD49)","v":0},null,102,{"$f":"DSUM(経費月合計データ!$B$3:$K$1000,経費月合計データ!$J$3,AG48:AG49)","v":0},null,173,{"$f":"DSUM(経費月合計データ!$B$3:$K$1000,経費月合計データ!$J$3,AJ48:AJ49)","v":0},null,248,{"$f":"DSUM(経費月合計データ!$B$3:$K$1000,経費月合計データ!$J$3,AM48:AM49)","v":0},null,313,{"$f":"DSUM(経費月合計データ!$B$3:$K$1000,経費月合計データ!$J$3,AP48:AP49)","v":0},null,524,{"$f":"DSUM(経費月合計データ!$B$3:$K$1000,経費月合計データ!$J$3,AS48:AS49)","v":0}]
[null,null,null,null,null,null,null,null,null,null,null,null,null,null,null,null,null,"CODE",null,null,"CODE",null,null,"CODE",null,null,"CODE",null,null,"CODE",null,null,"CODE",null,null,"CODE",null,null,"CODE",null,null,"CODE",null,null,"CODE"]
[null,null,null,null,null,null,null,null,null,null,null,null,null,null,null,null,null,103,{"$f":"DSUM(仕入月合計データ!$B$3:$N$9771,仕入月合計データ!$M$3,R50:R51)","v":0},null,174,{"$f":"DSUM(仕入月合計データ!$B$3:$N$9771,仕入月合計データ!$M$3,U50:U51)","v":0},null,249,{"$f":"DSUM(仕入月合計データ!$B$3:$N$9771,仕入月合計データ!$M$3,X50:X51)","v":0},null,314,{"$f":"DSUM(仕入月合計データ!$B$3:$N$9771,仕入月合計データ!$M$3,AA50:AA51)","v":0},null,525,{"$f":"DSUM(仕入月合計データ!$B$3:$N$9771,仕入月合計データ!$M$3,AD50:AD51)","v":0},null,103,{"$f":"DSUM(経費月合計データ!$B$3:$K$1000,経費月合計データ!$J$3,AG50:AG51)","v":0},null,174,{"$f":"DSUM(経費月合計データ!$B$3:$K$1000,経費月合計データ!$J$3,AJ50:AJ51)","v":0},null,249,{"$f":"DSUM(経費月合計データ!$B$3:$K$1000,経費月合計データ!$J$3,AM50:AM51)","v":0},null,314,{"$f":"DSUM(経費月合計データ!$B$3:$K$1000,経費月合計データ!$J$3,AP50:AP51)","v":0},null,525,{"$f":"DSUM(経費月合計データ!$B$3:$K$1000,経費月合計データ!$J$3,AS50:AS51)","v":0}]
[null,null,null,null,null,null,null,null,null,null,null,null,null,null,null,null,null,"CODE",null,null,"CODE",null,null,"CODE",null,null,"CODE",null,null,"CODE",null,null,"CODE",null,null,"CODE",null,null,"CODE",null,null,"CODE",null,null,"CODE"]
[null,null,null,null,null,null,null,null,null,null,null,null,null,null,null,null,null,104,{"$f":"DSUM(仕入月合計データ!$B$3:$N$9771,仕入月合計データ!$M$3,R52:R53)","v":0},null,175,{"$f":"DSUM(仕入月合計データ!$B$3:$N$9771,仕入月合計データ!$M$3,U52:U53)","v":0},null,250,{"$f":"DSUM(仕入月合計データ!$B$3:$N$9771,仕入月合計データ!$M$3,X52:X53)","v":0},null,315,{"$f":"DSUM(仕入月合計データ!$B$3:$N$9771,仕入月合計データ!$M$3,AA52:AA53)","v":0},null,526,{"$f":"DSUM(仕入月合計データ!$B$3:$N$9771,仕入月合計データ!$M$3,AD52:AD53)","v":0},null,104,{"$f":"DSUM(経費月合計データ!$B$3:$K$1000,経費月合計データ!$J$3,AG52:AG53)","v":0},null,175,{"$f":"DSUM(経費月合計データ!$B$3:$K$1000,経費月合計データ!$J$3,AJ52:AJ53)","v":0},null,250,{"$f":"DSUM(経費月合計データ!$B$3:$K$1000,経費月合計データ!$J$3,AM52:AM53)","v":0},null,315,{"$f":"DSUM(経費月合計データ!$B$3:$K$1000,経費月合計データ!$J$3,AP52:AP53)","v":0},null,526,{"$f":"DSUM(経費月合計データ!$B$3:$K$1000,経費月合計データ!$J$3,AS52:AS53)","v":0}]
[null,null,null,null,null,null,null,null,null,null,null,null,null,null,null,null,null,"CODE",null,null,"CODE",null,null,"CODE",null,null,"CODE",null,null,"CODE",null,null,"CODE",null,null,"CODE",null,null,"CODE",null,null,"CODE",null,null,"CODE"]
[null,null,null,null,null,null,null,null,null,null,null,null,null,null,null,null,null,105,{"$f":"DSUM(仕入月合計データ!$B$3:$N$9771,仕入月合計データ!$M$3,R54:R55)","v":0},null,176,{"$f":"DSUM(仕入月合計データ!$B$3:$N$9771,仕入月合計データ!$M$3,U54:U55)","v":0},null,251,{"$f":"DSUM(仕入月合計データ!$B$3:$N$9771,仕入月合計データ!$M$3,X54:X55)","v":0},null,316,{"$f":"DSUM(仕入月合計データ!$B$3:$N$9771,仕入月合計データ!$M$3,AA54:AA55)","v":0},null,527,{"$f":"DSUM(仕入月合計データ!$B$3:$N$9771,仕入月合計データ!$M$3,AD54:AD55)","v":0},null,105,{"$f":"DSUM(経費月合計データ!$B$3:$K$1000,経費月合計データ!$J$3,AG54:AG55)","v":0},null,176,{"$f":"DSUM(経費月合計データ!$B$3:$K$1000,経費月合計データ!$J$3,AJ54:AJ55)","v":0},null,251,{"$f":"DSUM(経費月合計データ!$B$3:$K$1000,経費月合計データ!$J$3,AM54:AM55)","v":0},null,316,{"$f":"DSUM(経費月合計データ!$B$3:$K$1000,経費月合計データ!$J$3,AP54:AP55)","v":0},null,527,{"$f":"DSUM(経費月合計データ!$B$3:$K$1000,経費月合計データ!$J$3,AS54:AS55)","v":0}]
[null,null,null,null,null,null,null,null,null,null,null,null,null,null,null,null,null,"CODE",null,null,"CODE",null,null,"CODE",null,null,"CODE",null,null,"CODE",null,null,"CODE",null,null,"CODE",null,null,"CODE",null,null,"CODE",null,null,"CODE"]
[null,null,null,null,null,null,null,null,null,null,null,null,null,null,null,null,null,106,{"$f":"DSUM(仕入月合計データ!$B$3:$N$9771,仕入月合計データ!$M$3,R56:R57)","v":0},null,177,{"$f":"DSUM(仕入月合計データ!$B$3:$N$9771,仕入月合計データ!$M$3,U56:U57)","v":0},null,252,{"$f":"DSUM(仕入月合計データ!$B$3:$N$9771,仕入月合計データ!$M$3,X56:X57)","v":0},null,317,{"$f":"DSUM(仕入月合計データ!$B$3:$N$9771,仕入月合計データ!$M$3,AA56:AA57)","v":0},null,528,{"$f":"DSUM(仕入月合計データ!$B$3:$N$9771,仕入月合計データ!$M$3,AD56:AD57)","v":0},null,106,{"$f":"DSUM(経費月合計データ!$B$3:$K$1000,経費月合計データ!$J$3,AG56:AG57)","v":0},null,177,{"$f":"DSUM(経費月合計データ!$B$3:$K$1000,経費月合計データ!$J$3,AJ56:AJ57)","v":0},null,252,{"$f":"DSUM(経費月合計データ!$B$3:$K$1000,経費月合計データ!$J$3,AM56:AM57)","v":0},null,317,{"$f":"DSUM(経費月合計データ!$B$3:$K$1000,経費月合計データ!$J$3,AP56:AP57)","v":0},null,528,{"$f":"DSUM(経費月合計データ!$B$3:$K$1000,経費月合計データ!$J$3,AS56:AS57)","v":0}]
[null,null,null,null,null,null,null,null,null,null,null,null,null,null,null,null,null,"CODE",null,null,"CODE",null,null,"CODE",null,null,"CODE",null,null,"CODE",null,null,"CODE",null,null,"CODE",null,null,"CODE",null,null,"CODE",null,null,"CODE"]
[null,null,null,null,null,null,null,null,null,null,null,null,null,null,null,null,null,107,{"$f":"DSUM(仕入月合計データ!$B$3:$N$9771,仕入月合計データ!$M$3,R58:R59)","v":0},null,178,{"$f":"DSUM(仕入月合計データ!$B$3:$N$9771,仕入月合計データ!$M$3,U58:U59)","v":0},null,253,{"$f":"DSUM(仕入月合計データ!$B$3:$N$9771,仕入月合計データ!$M$3,X58:X59)","v":0},null,318,{"$f":"DSUM(仕入月合計データ!$B$3:$N$9771,仕入月合計データ!$M$3,AA58:AA59)","v":0},null,529,{"$f":"DSUM(仕入月合計データ!$B$3:$N$9771,仕入月合計データ!$M$3,AD58:AD59)","v":0},null,107,{"$f":"DSUM(経費月合計データ!$B$3:$K$1000,経費月合計データ!$J$3,AG58:AG59)","v":0},null,178,{"$f":"DSUM(経費月合計データ!$B$3:$K$1000,経費月合計データ!$J$3,AJ58:AJ59)","v":0},null,253,{"$f":"DSUM(経費月合計データ!$B$3:$K$1000,経費月合計データ!$J$3,AM58:AM59)","v":0},null,318,{"$f":"DSUM(経費月合計データ!$B$3:$K$1000,経費月合計データ!$J$3,AP58:AP59)","v":0},null,529,{"$f":"DSUM(経費月合計データ!$B$3:$K$1000,経費月合計データ!$J$3,AS58:AS59)","v":0}]
[null,null,null,null,null,null,null,null,null,null,null,null,null,null,null,null,null,"CODE",null,null,"CODE",null,null,"CODE",null,null,"CODE",null,null,"CODE",null,null,"CODE",null,null,"CODE",null,null,"CODE",null,null,"CODE",null,null,"CODE"]
[null,null,null,null,null,null,null,null,null,null,null,null,null,null,null,null,null,108,{"$f":"DSUM(仕入月合計データ!$B$3:$N$9771,仕入月合計データ!$M$3,R60:R61)","v":0},null,179,{"$f":"DSUM(仕入月合計データ!$B$3:$N$9771,仕入月合計データ!$M$3,U60:U61)","v":0},null,254,{"$f":"DSUM(仕入月合計データ!$B$3:$N$9771,仕入月合計データ!$M$3,X60:X61)","v":0},null,319,{"$f":"DSUM(仕入月合計データ!$B$3:$N$9771,仕入月合計データ!$M$3,AA60:AA61)","v":0},null,530,{"$f":"DSUM(仕入月合計データ!$B$3:$N$9771,仕入月合計データ!$M$3,AD60:AD61)","v":0},null,108,{"$f":"DSUM(経費月合計データ!$B$3:$K$1000,経費月合計データ!$J$3,AG60:AG61)","v":0},null,179,{"$f":"DSUM(経費月合計データ!$B$3:$K$1000,経費月合計データ!$J$3,AJ60:AJ61)","v":0},null,254,{"$f":"DSUM(経費月合計データ!$B$3:$K$1000,経費月合計データ!$J$3,AM60:AM61)","v":0},null,319,{"$f":"DSUM(経費月合計データ!$B$3:$K$1000,経費月合計データ!$J$3,AP60:AP61)","v":0},null,530,{"$f":"DSUM(経費月合計データ!$B$3:$K$1000,経費月合計データ!$J$3,AS60:AS61)","v":0}]
[null,null,null,null,null,null,null,null,null,null,null,null,null,null,null,null,null,"CODE",null,null,"CODE",null,null,"CODE",null,null,"CODE",null,null,"CODE",null,null,"CODE",null,null,"CODE",null,null,"CODE",null,null,"CODE",null,null,"CODE"]
[null,null,null,null,null,null,null,null,null,null,null,null,null,null,null,null,null,109,{"$f":"DSUM(仕入月合計データ!$B$3:$N$9771,仕入月合計データ!$M$3,R62:R63)","v":0},null,180,{"$f":"DSUM(仕入月合計データ!$B$3:$N$9771,仕入月合計データ!$M$3,U62:U63)","v":0},null,255,{"$f":"DSUM(仕入月合計データ!$B$3:$N$9771,仕入月合計データ!$M$3,X62:X63)","v":0},null,320,{"$f":"DSUM(仕入月合計データ!$B$3:$N$9771,仕入月合計データ!$M$3,AA62:AA63)","v":0},null,531,{"$f":"DSUM(仕入月合計データ!$B$3:$N$9771,仕入月合計データ!$M$3,AD62:AD63)","v":0},null,109,{"$f":"DSUM(経費月合計データ!$B$3:$K$1000,経費月合計データ!$J$3,AG62:AG63)","v":0},null,180,{"$f":"DSUM(経費月合計データ!$B$3:$K$1000,経費月合計データ!$J$3,AJ62:AJ63)","v":0},null,255,{"$f":"DSUM(経費月合計データ!$B$3:$K$1000,経費月合計データ!$J$3,AM62:AM63)","v":0},null,320,{"$f":"DSUM(経費月合計データ!$B$3:$K$1000,経費月合計データ!$J$3,AP62:AP63)","v":0},null,531,{"$f":"DSUM(経費月合計データ!$B$3:$K$1000,経費月合計データ!$J$3,AS62:AS63)","v":0}]
[null,null,null,null,null,null,null,null,null,null,null,null,null,null,null,null,null,"CODE",null,null,"CODE",null,null,"CODE",null,null,"CODE",null,null,"CODE",null,null,"CODE",null,null,"CODE",null,null,"CODE",null,null,"CODE",null,null,"CODE"]
[null,null,null,null,null,null,null,null,null,null,null,null,null,null,null,null,null,110,{"$f":"DSUM(仕入月合計データ!$B$3:$N$9771,仕入月合計データ!$M$3,R64:R65)","v":735},null,181,{"$f":"DSUM(仕入月合計データ!$B$3:$N$9771,仕入月合計データ!$M$3,U64:U65)","v":0},null,256,{"$f":"DSUM(仕入月合計データ!$B$3:$N$9771,仕入月合計データ!$M$3,X64:X65)","v":0},null,321,{"$f":"DSUM(仕入月合計データ!$B$3:$N$9771,仕入月合計データ!$M$3,AA64:AA65)","v":0},null,532,{"$f":"DSUM(仕入月合計データ!$B$3:$N$9771,仕入月合計データ!$M$3,AD64:AD65)","v":0},null,110,{"$f":"DSUM(経費月合計データ!$B$3:$K$1000,経費月合計データ!$J$3,AG64:AG65)","v":0},null,181,{"$f":"DSUM(経費月合計データ!$B$3:$K$1000,経費月合計データ!$J$3,AJ64:AJ65)","v":0},null,256,{"$f":"DSUM(経費月合計データ!$B$3:$K$1000,経費月合計データ!$J$3,AM64:AM65)","v":0},null,321,{"$f":"DSUM(経費月合計データ!$B$3:$K$1000,経費月合計データ!$J$3,AP64:AP65)","v":0},null,532,{"$f":"DSUM(経費月合計データ!$B$3:$K$1000,経費月合計データ!$J$3,AS64:AS65)","v":0}]
[null,null,null,null,null,null,null,null,null,null,null,null,null,null,null,null,null,"CODE",null,null,"CODE",null,null,"CODE",null,null,"CODE",null,null,"CODE",null,null,"CODE",null,null,"CODE",null,null,"CODE",null,null,"CODE",null,null,"CODE"]
[null,null,null,null,null,null,null,null,null,null,null,null,null,null,null,null,null,111,{"$f":"DSUM(仕入月合計データ!$B$3:$N$9771,仕入月合計データ!$M$3,R66:R67)","v":0},null,182,{"$f":"DSUM(仕入月合計データ!$B$3:$N$9771,仕入月合計データ!$M$3,U66:U67)","v":0},null,257,{"$f":"DSUM(仕入月合計データ!$B$3:$N$9771,仕入月合計データ!$M$3,X66:X67)","v":0},null,322,{"$f":"DSUM(仕入月合計データ!$B$3:$N$9771,仕入月合計データ!$M$3,AA66:AA67)","v":0},null,533,{"$f":"DSUM(仕入月合計データ!$B$3:$N$9771,仕入月合計データ!$M$3,AD66:AD67)","v":0},null,111,{"$f":"DSUM(経費月合計データ!$B$3:$K$1000,経費月合計データ!$J$3,AG66:AG67)","v":0},null,182,{"$f":"DSUM(経費月合計データ!$B$3:$K$1000,経費月合計データ!$J$3,AJ66:AJ67)","v":0},null,257,{"$f":"DSUM(経費月合計データ!$B$3:$K$1000,経費月合計データ!$J$3,AM66:AM67)","v":0},null,322,{"$f":"DSUM(経費月合計データ!$B$3:$K$1000,経費月合計データ!$J$3,AP66:AP67)","v":0},null,533,{"$f":"DSUM(経費月合計データ!$B$3:$K$1000,経費月合計データ!$J$3,AS66:AS67)","v":0}]
[null,null,null,null,null,null,null,null,null,null,null,null,null,null,null,null,null,"CODE",null,null,"CODE",null,null,"CODE",null,null,"CODE",null,null,"CODE",null,null,"CODE",null,null,"CODE",null,null,"CODE",null,null,"CODE",null,null,"CODE"]
[null,null,null,null,null,null,null,null,null,null,null,null,null,null,null,null,null,112,{"$f":"DSUM(仕入月合計データ!$B$3:$N$9771,仕入月合計データ!$M$3,R68:R69)","v":0},null,183,{"$f":"DSUM(仕入月合計データ!$B$3:$N$9771,仕入月合計データ!$M$3,U68:U69)","v":0},null,258,{"$f":"DSUM(仕入月合計データ!$B$3:$N$9771,仕入月合計データ!$M$3,X68:X69)","v":0},null,323,{"$f":"DSUM(仕入月合計データ!$B$3:$N$9771,仕入月合計データ!$M$3,AA68:AA69)","v":0},null,534,{"$f":"DSUM(仕入月合計データ!$B$3:$N$9771,仕入月合計データ!$M$3,AD68:AD69)","v":0},null,112,{"$f":"DSUM(経費月合計データ!$B$3:$K$1000,経費月合計データ!$J$3,AG68:AG69)","v":0},null,183,{"$f":"DSUM(経費月合計データ!$B$3:$K$1000,経費月合計データ!$J$3,AJ68:AJ69)","v":0},null,258,{"$f":"DSUM(経費月合計データ!$B$3:$K$1000,経費月合計データ!$J$3,AM68:AM69)","v":0},null,323,{"$f":"DSUM(経費月合計データ!$B$3:$K$1000,経費月合計データ!$J$3,AP68:AP69)","v":0},null,534,{"$f":"DSUM(経費月合計データ!$B$3:$K$1000,経費月合計データ!$J$3,AS68:AS69)","v":0}]
[null,null,null,null,null,null,null,null,null,null,null,null,null,null,null,null,null,"CODE",null,null,"CODE",null,null,"CODE",null,null,"CODE",null,null,"CODE",null,null,"CODE",null,null,"CODE",null,null,"CODE",null,null,"CODE",null,null,"CODE"]
[null,null,null,null,null,null,null,null,null,null,null,null,null,null,null,null,null,113,{"$f":"DSUM(仕入月合計データ!$B$3:$N$9771,仕入月合計データ!$M$3,R70:R71)","v":0},null,184,{"$f":"DSUM(仕入月合計データ!$B$3:$N$9771,仕入月合計データ!$M$3,U70:U71)","v":0},null,259,{"$f":"DSUM(仕入月合計データ!$B$3:$N$9771,仕入月合計データ!$M$3,X70:X71)","v":0},null,324,{"$f":"DSUM(仕入月合計データ!$B$3:$N$9771,仕入月合計データ!$M$3,AA70:AA71)","v":0},null,535,{"$f":"DSUM(仕入月合計データ!$B$3:$N$9771,仕入月合計データ!$M$3,AD70:AD71)","v":0},null,113,{"$f":"DSUM(経費月合計データ!$B$3:$K$1000,経費月合計データ!$J$3,AG70:AG71)","v":0},null,184,{"$f":"DSUM(経費月合計データ!$B$3:$K$1000,経費月合計データ!$J$3,AJ70:AJ71)","v":0},null,259,{"$f":"DSUM(経費月合計データ!$B$3:$K$1000,経費月合計データ!$J$3,AM70:AM71)","v":0},null,324,{"$f":"DSUM(経費月合計データ!$B$3:$K$1000,経費月合計データ!$J$3,AP70:AP71)","v":0},null,535,{"$f":"DSUM(経費月合計データ!$B$3:$K$1000,経費月合計データ!$J$3,AS70:AS71)","v":0}]
[null,null,null,null,null,null,null,null,null,null,null,null,null,null,null,null,null,"CODE",null,null,"CODE",null,null,"CODE",null,null,"CODE",null,null,"CODE",null,null,"CODE",null,null,"CODE",null,null,"CODE",null,null,"CODE",null,null,"CODE"]
[null,null,null,null,null,null,null,null,null,null,null,null,null,null,null,null,null,114,{"$f":"DSUM(仕入月合計データ!$B$3:$N$9771,仕入月合計データ!$M$3,R72:R73)","v":0},null,185,{"$f":"DSUM(仕入月合計データ!$B$3:$N$9771,仕入月合計データ!$M$3,U72:U73)","v":0},null,260,{"$f":"DSUM(仕入月合計データ!$B$3:$N$9771,仕入月合計データ!$M$3,X72:X73)","v":0},null,325,{"$f":"DSUM(仕入月合計データ!$B$3:$N$9771,仕入月合計データ!$M$3,AA72:AA73)","v":0},null,536,{"$f":"DSUM(仕入月合計データ!$B$3:$N$9771,仕入月合計データ!$M$3,AD72:AD73)","v":0},null,114,{"$f":"DSUM(経費月合計データ!$B$3:$K$1000,経費月合計データ!$J$3,AG72:AG73)","v":0},null,185,{"$f":"DSUM(経費月合計データ!$B$3:$K$1000,経費月合計データ!$J$3,AJ72:AJ73)","v":0},null,260,{"$f":"DSUM(経費月合計データ!$B$3:$K$1000,経費月合計データ!$J$3,AM72:AM73)","v":0},null,325,{"$f":"DSUM(経費月合計データ!$B$3:$K$1000,経費月合計データ!$J$3,AP72:AP73)","v":0},null,536,{"$f":"DSUM(経費月合計データ!$B$3:$K$1000,経費月合計データ!$J$3,AS72:AS73)","v":0}]
[null,null,null,null,null,null,null,null,null,null,null,null,null,null,null,null,null,"CODE",null,null,"CODE",null,null,"CODE",null,null,"CODE",null,null,"CODE",null,null,"CODE",null,null,"CODE",null,null,"CODE",null,null,"CODE",null,null,"CODE"]
[null,null,null,null,null,null,null,null,null,null,null,null,null,null,null,null,null,115,{"$f":"DSUM(仕入月合計データ!$B$3:$N$9771,仕入月合計データ!$M$3,R74:R75)","v":0},null,186,{"$f":"DSUM(仕入月合計データ!$B$3:$N$9771,仕入月合計データ!$M$3,U74:U75)","v":0},null,261,{"$f":"DSUM(仕入月合計データ!$B$3:$N$9771,仕入月合計データ!$M$3,X74:X75)","v":0},null,326,{"$f":"DSUM(仕入月合計データ!$B$3:$N$9771,仕入月合計データ!$M$3,AA74:AA75)","v":0},null,537,{"$f":"DSUM(仕入月合計データ!$B$3:$N$9771,仕入月合計データ!$M$3,AD74:AD75)","v":0},null,115,{"$f":"DSUM(経費月合計データ!$B$3:$K$1000,経費月合計データ!$J$3,AG74:AG75)","v":0},null,186,{"$f":"DSUM(経費月合計データ!$B$3:$K$1000,経費月合計データ!$J$3,AJ74:AJ75)","v":0},null,261,{"$f":"DSUM(経費月合計データ!$B$3:$K$1000,経費月合計データ!$J$3,AM74:AM75)","v":0},null,326,{"$f":"DSUM(経費月合計データ!$B$3:$K$1000,経費月合計データ!$J$3,AP74:AP75)","v":0},null,537,{"$f":"DSUM(経費月合計データ!$B$3:$K$1000,経費月合計データ!$J$3,AS74:AS75)","v":0}]
[null,null,null,null,null,null,null,null,null,null,null,null,null,null,null,null,null,"CODE",null,null,"CODE",null,null,"CODE",null,null,"CODE",null,null,"CODE",null,null,"CODE",null,null,"CODE",null,null,"CODE",null,null,"CODE",null,null,"CODE"]
[null,null,null,null,null,null,null,null,null,null,null,null,null,null,null,null,null,116,{"$f":"DSUM(仕入月合計データ!$B$3:$N$9771,仕入月合計データ!$M$3,R76:R77)","v":0},null,187,{"$f":"DSUM(仕入月合計データ!$B$3:$N$9771,仕入月合計データ!$M$3,U76:U77)","v":0},null,262,{"$f":"DSUM(仕入月合計データ!$B$3:$N$9771,仕入月合計データ!$M$3,X76:X77)","v":0},null,327,{"$f":"DSUM(仕入月合計データ!$B$3:$N$9771,仕入月合計データ!$M$3,AA76:AA77)","v":0},null,538,{"$f":"DSUM(仕入月合計データ!$B$3:$N$9771,仕入月合計データ!$M$3,AD76:AD77)","v":0},null,116,{"$f":"DSUM(経費月合計データ!$B$3:$K$1000,経費月合計データ!$J$3,AG76:AG77)","v":0},null,187,{"$f":"DSUM(経費月合計データ!$B$3:$K$1000,経費月合計データ!$J$3,AJ76:AJ77)","v":0},null,262,{"$f":"DSUM(経費月合計データ!$B$3:$K$1000,経費月合計データ!$J$3,AM76:AM77)","v":0},null,327,{"$f":"DSUM(経費月合計データ!$B$3:$K$1000,経費月合計データ!$J$3,AP76:AP77)","v":0},null,538,{"$f":"DSUM(経費月合計データ!$B$3:$K$1000,経費月合計データ!$J$3,AS76:AS77)","v":0}]
[null,null,null,null,null,null,null,null,null,null,null,null,null,null,null,null,null,"CODE",null,null,"CODE",null,null,"CODE",null,null,"CODE",null,null,"CODE",null,null,"CODE",null,null,"CODE",null,null,"CODE",null,null,"CODE",null,null,"CODE"]
[null,null,null,null,null,null,null,null,null,null,null,null,null,null,null,null,null,117,{"$f":"DSUM(仕入月合計データ!$B$3:$N$9771,仕入月合計データ!$M$3,R78:R79)","v":0},null,188,{"$f":"DSUM(仕入月合計データ!$B$3:$N$9771,仕入月合計データ!$M$3,U78:U79)","v":0},null,263,{"$f":"DSUM(仕入月合計データ!$B$3:$N$9771,仕入月合計データ!$M$3,X78:X79)","v":0},null,328,{"$f":"DSUM(仕入月合計データ!$B$3:$N$9771,仕入月合計データ!$M$3,AA78:AA79)","v":0},null,539,{"$f":"DSUM(仕入月合計データ!$B$3:$N$9771,仕入月合計データ!$M$3,AD78:AD79)","v":0},null,117,{"$f":"DSUM(経費月合計データ!$B$3:$K$1000,経費月合計データ!$J$3,AG78:AG79)","v":0},null,188,{"$f":"DSUM(経費月合計データ!$B$3:$K$1000,経費月合計データ!$J$3,AJ78:AJ79)","v":0},null,263,{"$f":"DSUM(経費月合計データ!$B$3:$K$1000,経費月合計データ!$J$3,AM78:AM79)","v":0},null,328,{"$f":"DSUM(経費月合計データ!$B$3:$K$1000,経費月合計データ!$J$3,AP78:AP79)","v":0},null,539,{"$f":"DSUM(経費月合計データ!$B$3:$K$1000,経費月合計データ!$J$3,AS78:AS79)","v":0}]
[null,null,null,null,null,null,null,null,null,null,null,null,null,null,null,null,null,"CODE",null,null,"CODE",null,null,"CODE",null,null,"CODE",null,null,"CODE",null,null,"CODE",null,null,"CODE",null,null,"CODE",null,null,"CODE",null,null,"CODE"]
[null,null,null,null,null,null,null,null,null,null,null,null,null,null,null,null,null,118,{"$f":"DSUM(仕入月合計データ!$B$3:$N$9771,仕入月合計データ!$M$3,R80:R81)","v":0},null,189,{"$f":"DSUM(仕入月合計データ!$B$3:$N$9771,仕入月合計データ!$M$3,U80:U81)","v":0},null,264,{"$f":"DSUM(仕入月合計データ!$B$3:$N$9771,仕入月合計データ!$M$3,X80:X81)","v":0},null,329,{"$f":"DSUM(仕入月合計データ!$B$3:$N$9771,仕入月合計データ!$M$3,AA80:AA81)","v":0},null,540,{"$f":"DSUM(仕入月合計データ!$B$3:$N$9771,仕入月合計データ!$M$3,AD80:AD81)","v":1875},null,118,{"$f":"DSUM(経費月合計データ!$B$3:$K$1000,経費月合計データ!$J$3,AG80:AG81)","v":0},null,189,{"$f":"DSUM(経費月合計データ!$B$3:$K$1000,経費月合計データ!$J$3,AJ80:AJ81)","v":0},null,264,{"$f":"DSUM(経費月合計データ!$B$3:$K$1000,経費月合計データ!$J$3,AM80:AM81)","v":0},null,329,{"$f":"DSUM(経費月合計データ!$B$3:$K$1000,経費月合計データ!$J$3,AP80:AP81)","v":0},null,540,{"$f":"DSUM(経費月合計データ!$B$3:$K$1000,経費月合計データ!$J$3,AS80:AS81)","v":0}]
[null,null,null,null,null,null,null,null,null,null,null,null,null,null,null,null,null,"CODE",null,null,"CODE",null,null,"CODE",null,null,"CODE",null,null,"CODE",null,null,"CODE",null,null,"CODE",null,null,"CODE",null,null,"CODE",null,null,"CODE"]
[null,null,null,null,null,null,null,null,null,null,null,null,null,null,null,null,null,119,{"$f":"DSUM(仕入月合計データ!$B$3:$N$9771,仕入月合計データ!$M$3,R82:R83)","v":0},null,190,{"$f":"DSUM(仕入月合計データ!$B$3:$N$9771,仕入月合計データ!$M$3,U82:U83)","v":0},null,265,{"$f":"DSUM(仕入月合計データ!$B$3:$N$9771,仕入月合計データ!$M$3,X82:X83)","v":0},null,330,{"$f":"DSUM(仕入月合計データ!$B$3:$N$9771,仕入月合計データ!$M$3,AA82:AA83)","v":1335},null,541,{"$f":"DSUM(仕入月合計データ!$B$3:$N$9771,仕入月合計データ!$M$3,AD82:AD83)","v":0},null,119,{"$f":"DSUM(経費月合計データ!$B$3:$K$1000,経費月合計データ!$J$3,AG82:AG83)","v":0},null,190,{"$f":"DSUM(経費月合計データ!$B$3:$K$1000,経費月合計データ!$J$3,AJ82:AJ83)","v":0},null,265,{"$f":"DSUM(経費月合計データ!$B$3:$K$1000,経費月合計データ!$J$3,AM82:AM83)","v":0},null,330,{"$f":"DSUM(経費月合計データ!$B$3:$K$1000,経費月合計データ!$J$3,AP82:AP83)","v":0},null,541,{"$f":"DSUM(経費月合計データ!$B$3:$K$1000,経費月合計データ!$J$3,AS82:AS83)","v":0}]
[null,null,null,null,null,null,null,null,null,null,null,null,null,null,null,null,null,"CODE",null,null,"CODE",null,null,"CODE",null,null,"CODE",null,null,"CODE",null,null,"CODE",null,null,"CODE",null,null,"CODE",null,null,"CODE",null,null,"CODE"]
[null,null,null,null,null,null,null,null,null,null,null,null,null,null,null,null,null,120,{"$f":"DSUM(仕入月合計データ!$B$3:$N$9771,仕入月合計データ!$M$3,R84:R85)","v":735},null,191,{"$f":"DSUM(仕入月合計データ!$B$3:$N$9771,仕入月合計データ!$M$3,U84:U85)","v":0},null,266,{"$f":"DSUM(仕入月合計データ!$B$3:$N$9771,仕入月合計データ!$M$3,X84:X85)","v":0},null,331,{"$f":"DSUM(仕入月合計データ!$B$3:$N$9771,仕入月合計データ!$M$3,AA84:AA85)","v":0},null,542,{"$f":"DSUM(仕入月合計データ!$B$3:$N$9771,仕入月合計データ!$M$3,AD84:AD85)","v":0},null,120,{"$f":"DSUM(経費月合計データ!$B$3:$K$1000,経費月合計データ!$J$3,AG84:AG85)","v":0},null,191,{"$f":"DSUM(経費月合計データ!$B$3:$K$1000,経費月合計データ!$J$3,AJ84:AJ85)","v":0},null,266,{"$f":"DSUM(経費月合計データ!$B$3:$K$1000,経費月合計データ!$J$3,AM84:AM85)","v":0},null,331,{"$f":"DSUM(経費月合計データ!$B$3:$K$1000,経費月合計データ!$J$3,AP84:AP85)","v":0},null,542,{"$f":"DSUM(経費月合計データ!$B$3:$K$1000,経費月合計データ!$J$3,AS84:AS85)","v":0}]
[null,null,null,null,null,null,null,null,null,null,null,null,null,null,null,null,null,"CODE",null,null,"CODE",null,null,"CODE",null,null,"CODE",null,null,"CODE",null,null,"CODE",null,null,"CODE",null,null,"CODE",null,null,"CODE",null,null,"CODE"]
[null,null,null,null,null,null,null,null,null,null,null,null,null,null,null,null,null,121,{"$f":"DSUM(仕入月合計データ!$B$3:$N$9771,仕入月合計データ!$M$3,R86:R87)","v":0},null,192,{"$f":"DSUM(仕入月合計データ!$B$3:$N$9771,仕入月合計データ!$M$3,U86:U87)","v":0},null,267,{"$f":"DSUM(仕入月合計データ!$B$3:$N$9771,仕入月合計データ!$M$3,X86:X87)","v":0},null,332,{"$f":"DSUM(仕入月合計データ!$B$3:$N$9771,仕入月合計データ!$M$3,AA86:AA87)","v":0},null,543,{"$f":"DSUM(仕入月合計データ!$B$3:$N$9771,仕入月合計データ!$M$3,AD86:AD87)","v":0},null,121,{"$f":"DSUM(経費月合計データ!$B$3:$K$1000,経費月合計データ!$J$3,AG86:AG87)","v":0},null,192,{"$f":"DSUM(経費月合計データ!$B$3:$K$1000,経費月合計データ!$J$3,AJ86:AJ87)","v":0},null,267,{"$f":"DSUM(経費月合計データ!$B$3:$K$1000,経費月合計データ!$J$3,AM86:AM87)","v":0},null,332,{"$f":"DSUM(経費月合計データ!$B$3:$K$1000,経費月合計データ!$J$3,AP86:AP87)","v":0},null,543,{"$f":"DSUM(経費月合計データ!$B$3:$K$1000,経費月合計データ!$J$3,AS86:AS87)","v":0}]
[null,null,null,null,null,null,null,null,null,null,null,null,null,null,null,null,null,"CODE",null,null,"CODE",null,null,"CODE",null,null,"CODE",null,null,"CODE",null,null,"CODE",null,null,"CODE",null,null,"CODE",null,null,"CODE",null,null,"CODE"]
[null,null,null,null,null,null,null,null,null,null,null,null,null,null,null,null,null,122,{"$f":"DSUM(仕入月合計データ!$B$3:$N$9771,仕入月合計データ!$M$3,R88:R89)","v":0},null,193,{"$f":"DSUM(仕入月合計データ!$B$3:$N$9771,仕入月合計データ!$M$3,U88:U89)","v":0},null,268,{"$f":"DSUM(仕入月合計データ!$B$3:$N$9771,仕入月合計データ!$M$3,X88:X89)","v":0},null,333,{"$f":"DSUM(仕入月合計データ!$B$3:$N$9771,仕入月合計データ!$M$3,AA88:AA89)","v":0},null,601,{"$f":"DSUM(仕入月合計データ!$B$3:$N$9771,仕入月合計データ!$M$3,AD88:AD89)","v":0},null,122,{"$f":"DSUM(経費月合計データ!$B$3:$K$1000,経費月合計データ!$J$3,AG88:AG89)","v":0},null,193,{"$f":"DSUM(経費月合計データ!$B$3:$K$1000,経費月合計データ!$J$3,AJ88:AJ89)","v":0},null,268,{"$f":"DSUM(経費月合計データ!$B$3:$K$1000,経費月合計データ!$J$3,AM88:AM89)","v":0},null,333,{"$f":"DSUM(経費月合計データ!$B$3:$K$1000,経費月合計データ!$J$3,AP88:AP89)","v":0},null,601,{"$f":"DSUM(経費月合計データ!$B$3:$K$1000,経費月合計データ!$J$3,AS88:AS89)","v":0}]
[null,null,null,null,null,null,null,null,null,null,null,null,null,null,null,null,null,"CODE",null,null,"CODE",null,null,"CODE",null,null,"CODE",null,null,"CODE",null,null,"CODE",null,null,"CODE",null,null,"CODE",null,null,"CODE",null,null,"CODE"]
[null,null,null,null,null,null,null,null,null,null,null,null,null,null,null,null,null,123,{"$f":"DSUM(仕入月合計データ!$B$3:$N$9771,仕入月合計データ!$M$3,R90:R91)","v":0},null,194,{"$f":"DSUM(仕入月合計データ!$B$3:$N$9771,仕入月合計データ!$M$3,U90:U91)","v":0},null,269,{"$f":"DSUM(仕入月合計データ!$B$3:$N$9771,仕入月合計データ!$M$3,X90:X91)","v":0},null,334,{"$f":"DSUM(仕入月合計データ!$B$3:$N$9771,仕入月合計データ!$M$3,AA90:AA91)","v":0},null,602,{"$f":"DSUM(仕入月合計データ!$B$3:$N$9771,仕入月合計データ!$M$3,AD90:AD91)","v":0},null,123,{"$f":"DSUM(経費月合計データ!$B$3:$K$1000,経費月合計データ!$J$3,AG90:AG91)","v":0},null,194,{"$f":"DSUM(経費月合計データ!$B$3:$K$1000,経費月合計データ!$J$3,AJ90:AJ91)","v":0},null,269,{"$f":"DSUM(経費月合計データ!$B$3:$K$1000,経費月合計データ!$J$3,AM90:AM91)","v":0},null,334,{"$f":"DSUM(経費月合計データ!$B$3:$K$1000,経費月合計データ!$J$3,AP90:AP91)","v":0},null,602,{"$f":"DSUM(経費月合計データ!$B$3:$K$1000,経費月合計データ!$J$3,AS90:AS91)","v":0}]
[null,null,null,null,null,null,null,null,null,null,null,null,null,null,null,null,null,"CODE",null,null,"CODE",null,null,"CODE",null,null,"CODE",null,null,"CODE",null,null,"CODE",null,null,"CODE",null,null,"CODE",null,null,"CODE",null,null,"CODE"]
[null,null,null,null,null,null,null,null,null,null,null,null,null,null,null,null,null,124,{"$f":"DSUM(仕入月合計データ!$B$3:$N$9771,仕入月合計データ!$M$3,R92:R93)","v":0},null,195,{"$f":"DSUM(仕入月合計データ!$B$3:$N$9771,仕入月合計データ!$M$3,U92:U93)","v":0},null,270,{"$f":"DSUM(仕入月合計データ!$B$3:$N$9771,仕入月合計データ!$M$3,X92:X93)","v":0},null,401,{"$f":"DSUM(仕入月合計データ!$B$3:$N$9771,仕入月合計データ!$M$3,AA92:AA93)","v":0},null,603,{"$f":"DSUM(仕入月合計データ!$B$3:$N$9771,仕入月合計データ!$M$3,AD92:AD93)","v":0},null,124,{"$f":"DSUM(経費月合計データ!$B$3:$K$1000,経費月合計データ!$J$3,AG92:AG93)","v":0},null,195,{"$f":"DSUM(経費月合計データ!$B$3:$K$1000,経費月合計データ!$J$3,AJ92:AJ93)","v":0},null,270,{"$f":"DSUM(経費月合計データ!$B$3:$K$1000,経費月合計データ!$J$3,AM92:AM93)","v":0},null,401,{"$f":"DSUM(経費月合計データ!$B$3:$K$1000,経費月合計データ!$J$3,AP92:AP93)","v":0},null,603,{"$f":"DSUM(経費月合計データ!$B$3:$K$1000,経費月合計データ!$J$3,AS92:AS93)","v":0}]
[null,null,null,null,null,null,null,null,null,null,null,null,null,null,null,null,null,"CODE",null,null,"CODE",null,null,"CODE",null,null,"CODE",null,null,"CODE",null,null,"CODE",null,null,"CODE",null,null,"CODE",null,null,"CODE",null,null,"CODE"]
[null,null,null,null,null,null,null,null,null,null,null,null,null,null,null,null,null,125,{"$f":"DSUM(仕入月合計データ!$B$3:$N$9771,仕入月合計データ!$M$3,R94:R95)","v":0},null,196,{"$f":"DSUM(仕入月合計データ!$B$3:$N$9771,仕入月合計データ!$M$3,U94:U95)","v":0},null,271,{"$f":"DSUM(仕入月合計データ!$B$3:$N$9771,仕入月合計データ!$M$3,X94:X95)","v":0},null,402,{"$f":"DSUM(仕入月合計データ!$B$3:$N$9771,仕入月合計データ!$M$3,AA94:AA95)","v":0},null,604,{"$f":"DSUM(仕入月合計データ!$B$3:$N$9771,仕入月合計データ!$M$3,AD94:AD95)","v":0},null,125,{"$f":"DSUM(経費月合計データ!$B$3:$K$1000,経費月合計データ!$J$3,AG94:AG95)","v":0},null,196,{"$f":"DSUM(経費月合計データ!$B$3:$K$1000,経費月合計データ!$J$3,AJ94:AJ95)","v":0},null,271,{"$f":"DSUM(経費月合計データ!$B$3:$K$1000,経費月合計データ!$J$3,AM94:AM95)","v":0},null,402,{"$f":"DSUM(経費月合計データ!$B$3:$K$1000,経費月合計データ!$J$3,AP94:AP95)","v":0},null,604,{"$f":"DSUM(経費月合計データ!$B$3:$K$1000,経費月合計データ!$J$3,AS94:AS95)","v":0}]
[null,null,null,null,null,null,null,null,null,null,null,null,null,null,null,null,null,"CODE",null,null,"CODE",null,null,"CODE",null,null,"CODE",null,null,"CODE",null,null,"CODE",null,null,"CODE",null,null,"CODE",null,null,"CODE",null,null,"CODE"]
[null,null,null,null,null,null,null,null,null,null,null,null,null,null,null,null,null,126,{"$f":"DSUM(仕入月合計データ!$B$3:$N$9771,仕入月合計データ!$M$3,R96:R97)","v":0},null,197,{"$f":"DSUM(仕入月合計データ!$B$3:$N$9771,仕入月合計データ!$M$3,U96:U97)","v":0},null,272,{"$f":"DSUM(仕入月合計データ!$B$3:$N$9771,仕入月合計データ!$M$3,X96:X97)","v":0},null,403,{"$f":"DSUM(仕入月合計データ!$B$3:$N$9771,仕入月合計データ!$M$3,AA96:AA97)","v":0},null,605,{"$f":"DSUM(仕入月合計データ!$B$3:$N$9771,仕入月合計データ!$M$3,AD96:AD97)","v":0},null,126,{"$f":"DSUM(経費月合計データ!$B$3:$K$1000,経費月合計データ!$J$3,AG96:AG97)","v":0},null,197,{"$f":"DSUM(経費月合計データ!$B$3:$K$1000,経費月合計データ!$J$3,AJ96:AJ97)","v":0},null,272,{"$f":"DSUM(経費月合計データ!$B$3:$K$1000,経費月合計データ!$J$3,AM96:AM97)","v":0},null,403,{"$f":"DSUM(経費月合計データ!$B$3:$K$1000,経費月合計データ!$J$3,AP96:AP97)","v":0},null,605,{"$f":"DSUM(経費月合計データ!$B$3:$K$1000,経費月合計データ!$J$3,AS96:AS97)","v":0}]
[null,null,null,null,null,null,null,null,null,null,null,null,null,null,null,null,null,"CODE",null,null,"CODE",null,null,"CODE",null,null,"CODE",null,null,"CODE",null,null,"CODE",null,null,"CODE",null,null,"CODE",null,null,"CODE",null,null,"CODE"]
[null,null,null,null,null,null,null,null,null,null,null,null,null,null,null,null,null,127,{"$f":"DSUM(仕入月合計データ!$B$3:$N$9771,仕入月合計データ!$M$3,R98:R99)","v":0},null,198,{"$f":"DSUM(仕入月合計データ!$B$3:$N$9771,仕入月合計データ!$M$3,U98:U99)","v":0},null,273,{"$f":"DSUM(仕入月合計データ!$B$3:$N$9771,仕入月合計データ!$M$3,X98:X99)","v":0},null,404,{"$f":"DSUM(仕入月合計データ!$B$3:$N$9771,仕入月合計データ!$M$3,AA98:AA99)","v":0},null,606,{"$f":"DSUM(仕入月合計データ!$B$3:$N$9771,仕入月合計データ!$M$3,AD98:AD99)","v":0},null,127,{"$f":"DSUM(経費月合計データ!$B$3:$K$1000,経費月合計データ!$J$3,AG98:AG99)","v":0},null,198,{"$f":"DSUM(経費月合計データ!$B$3:$K$1000,経費月合計データ!$J$3,AJ98:AJ99)","v":0},null,273,{"$f":"DSUM(経費月合計データ!$B$3:$K$1000,経費月合計データ!$J$3,AM98:AM99)","v":0},null,404,{"$f":"DSUM(経費月合計データ!$B$3:$K$1000,経費月合計データ!$J$3,AP98:AP99)","v":0},null,606,{"$f":"DSUM(経費月合計データ!$B$3:$K$1000,経費月合計データ!$J$3,AS98:AS99)","v":0}]
[null,null,null,null,null,null,null,null,null,null,null,null,null,null,null,null,null,"CODE",null,null,"CODE",null,null,"CODE",null,null,"CODE",null,null,"CODE",null,null,"CODE",null,null,"CODE",null,null,"CODE",null,null,"CODE",null,null,"CODE"]
[null,null,null,null,null,null,null,null,null,null,null,null,null,null,null,null,null,128,{"$f":"DSUM(仕入月合計データ!$B$3:$N$9771,仕入月合計データ!$M$3,R100:R101)","v":0},null,199,{"$f":"DSUM(仕入月合計データ!$B$3:$N$9771,仕入月合計データ!$M$3,U100:U101)","v":0},null,274,{"$f":"DSUM(仕入月合計データ!$B$3:$N$9771,仕入月合計データ!$M$3,X100:X101)","v":0},null,405,{"$f":"DSUM(仕入月合計データ!$B$3:$N$9771,仕入月合計データ!$M$3,AA100:AA101)","v":0},null,607,{"$f":"DSUM(仕入月合計データ!$B$3:$N$9771,仕入月合計データ!$M$3,AD100:AD101)","v":0},null,128,{"$f":"DSUM(経費月合計データ!$B$3:$K$1000,経費月合計データ!$J$3,AG100:AG101)","v":0},null,199,{"$f":"DSUM(経費月合計データ!$B$3:$K$1000,経費月合計データ!$J$3,AJ100:AJ101)","v":0},null,274,{"$f":"DSUM(経費月合計データ!$B$3:$K$1000,経費月合計データ!$J$3,AM100:AM101)","v":0},null,405,{"$f":"DSUM(経費月合計データ!$B$3:$K$1000,経費月合計データ!$J$3,AP100:AP101)","v":0},null,607,{"$f":"DSUM(経費月合計データ!$B$3:$K$1000,経費月合計データ!$J$3,AS100:AS101)","v":0}]
[null,null,null,null,null,null,null,null,null,null,null,null,null,null,null,null,null,"CODE",null,null,"CODE",null,null,"CODE",null,null,"CODE",null,null,"CODE",null,null,"CODE",null,null,"CODE",null,null,"CODE",null,null,"CODE",null,null,"CODE"]
[null,null,null,null,null,null,null,null,null,null,null,null,null,null,null,null,null,129,{"$f":"DSUM(仕入月合計データ!$B$3:$N$9771,仕入月合計データ!$M$3,R102:R103)","v":0},null,200,{"$f":"DSUM(仕入月合計データ!$B$3:$N$9771,仕入月合計データ!$M$3,U102:U103)","v":0},null,275,{"$f":"DSUM(仕入月合計データ!$B$3:$N$9771,仕入月合計データ!$M$3,X102:X103)","v":0},null,406,{"$f":"DSUM(仕入月合計データ!$B$3:$N$9771,仕入月合計データ!$M$3,AA102:AA103)","v":0},null,608,{"$f":"DSUM(仕入月合計データ!$B$3:$N$9771,仕入月合計データ!$M$3,AD102:AD103)","v":0},null,129,{"$f":"DSUM(経費月合計データ!$B$3:$K$1000,経費月合計データ!$J$3,AG102:AG103)","v":0},null,200,{"$f":"DSUM(経費月合計データ!$B$3:$K$1000,経費月合計データ!$J$3,AJ102:AJ103)","v":0},null,275,{"$f":"DSUM(経費月合計データ!$B$3:$K$1000,経費月合計データ!$J$3,AM102:AM103)","v":0},null,406,{"$f":"DSUM(経費月合計データ!$B$3:$K$1000,経費月合計データ!$J$3,AP102:AP103)","v":0},null,608,{"$f":"DSUM(経費月合計データ!$B$3:$K$1000,経費月合計データ!$J$3,AS102:AS103)","v":0}]
[null,null,null,null,null,null,null,null,null,null,null,null,null,null,null,null,null,"CODE",null,null,"CODE",null,null,"CODE",null,null,"CODE",null,null,"CODE",null,null,"CODE",null,null,"CODE",null,null,"CODE",null,null,"CODE",null,null,"CODE"]
[null,null,null,null,null,null,null,null,null,null,null,null,null,null,null,null,null,130,{"$f":"DSUM(仕入月合計データ!$B$3:$N$9771,仕入月合計データ!$M$3,R104:R105)","v":0},null,201,{"$f":"DSUM(仕入月合計データ!$B$3:$N$9771,仕入月合計データ!$M$3,U104:U105)","v":0},null,276,{"$f":"DSUM(仕入月合計データ!$B$3:$N$9771,仕入月合計データ!$M$3,X104:X105)","v":0},null,407,{"$f":"DSUM(仕入月合計データ!$B$3:$N$9771,仕入月合計データ!$M$3,AA104:AA105)","v":0},null,609,{"$f":"DSUM(仕入月合計データ!$B$3:$N$9771,仕入月合計データ!$M$3,AD104:AD105)","v":0},null,130,{"$f":"DSUM(経費月合計データ!$B$3:$K$1000,経費月合計データ!$J$3,AG104:AG105)","v":0},null,201,{"$f":"DSUM(経費月合計データ!$B$3:$K$1000,経費月合計データ!$J$3,AJ104:AJ105)","v":0},null,276,{"$f":"DSUM(経費月合計データ!$B$3:$K$1000,経費月合計データ!$J$3,AM104:AM105)","v":0},null,407,{"$f":"DSUM(経費月合計データ!$B$3:$K$1000,経費月合計データ!$J$3,AP104:AP105)","v":0},null,609,{"$f":"DSUM(経費月合計データ!$B$3:$K$1000,経費月合計データ!$J$3,AS104:AS105)","v":0}]
[null,null,null,null,null,null,null,null,null,null,null,null,null,null,null,null,null,"CODE",null,null,"CODE",null,null,"CODE",null,null,"CODE",null,null,"CODE",null,null,"CODE",null,null,"CODE",null,null,"CODE",null,null,"CODE",null,null,"CODE"]
[null,null,null,null,null,null,null,null,null,null,null,null,null,null,null,null,null,131,{"$f":"DSUM(仕入月合計データ!$B$3:$N$9771,仕入月合計データ!$M$3,R106:R107)","v":0},null,202,{"$f":"DSUM(仕入月合計データ!$B$3:$N$9771,仕入月合計データ!$M$3,U106:U107)","v":0},null,277,{"$f":"DSUM(仕入月合計データ!$B$3:$N$9771,仕入月合計データ!$M$3,X106:X107)","v":0},null,408,{"$f":"DSUM(仕入月合計データ!$B$3:$N$9771,仕入月合計データ!$M$3,AA106:AA107)","v":0},null,610,{"$f":"DSUM(仕入月合計データ!$B$3:$N$9771,仕入月合計データ!$M$3,AD106:AD107)","v":0},null,131,{"$f":"DSUM(経費月合計データ!$B$3:$K$1000,経費月合計データ!$J$3,AG106:AG107)","v":0},null,202,{"$f":"DSUM(経費月合計データ!$B$3:$K$1000,経費月合計データ!$J$3,AJ106:AJ107)","v":0},null,277,{"$f":"DSUM(経費月合計データ!$B$3:$K$1000,経費月合計データ!$J$3,AM106:AM107)","v":0},null,408,{"$f":"DSUM(経費月合計データ!$B$3:$K$1000,経費月合計データ!$J$3,AP106:AP107)","v":0},null,610,{"$f":"DSUM(経費月合計データ!$B$3:$K$1000,経費月合計データ!$J$3,AS106:AS107)","v":0}]
[null,null,null,null,null,null,null,null,null,null,null,null,null,null,null,null,null,"CODE",null,null,"CODE",null,null,"CODE",null,null,"CODE",null,null,"CODE",null,null,"CODE",null,null,"CODE",null,null,"CODE",null,null,"CODE",null,null,"CODE"]
[null,null,null,null,null,null,null,null,null,null,null,null,null,null,null,null,null,132,{"$f":"DSUM(仕入月合計データ!$B$3:$N$9771,仕入月合計データ!$M$3,R108:R109)","v":0},null,203,{"$f":"DSUM(仕入月合計データ!$B$3:$N$9771,仕入月合計データ!$M$3,U108:U109)","v":0},null,278,{"$f":"DSUM(仕入月合計データ!$B$3:$N$9771,仕入月合計データ!$M$3,X108:X109)","v":0},null,409,{"$f":"DSUM(仕入月合計データ!$B$3:$N$9771,仕入月合計データ!$M$3,AA108:AA109)","v":0},null,611,{"$f":"DSUM(仕入月合計データ!$B$3:$N$9771,仕入月合計データ!$M$3,AD108:AD109)","v":0},null,132,{"$f":"DSUM(経費月合計データ!$B$3:$K$1000,経費月合計データ!$J$3,AG108:AG109)","v":0},null,203,{"$f":"DSUM(経費月合計データ!$B$3:$K$1000,経費月合計データ!$J$3,AJ108:AJ109)","v":0},null,278,{"$f":"DSUM(経費月合計データ!$B$3:$K$1000,経費月合計データ!$J$3,AM108:AM109)","v":0},null,409,{"$f":"DSUM(経費月合計データ!$B$3:$K$1000,経費月合計データ!$J$3,AP108:AP109)","v":0},null,611,{"$f":"DSUM(経費月合計データ!$B$3:$K$1000,経費月合計データ!$J$3,AS108:AS109)","v":0}]
[null,null,null,null,null,null,null,null,null,null,null,null,null,null,null,null,null,"CODE",null,null,"CODE",null,null,"CODE",null,null,"CODE",null,null,"CODE",null,null,"CODE",null,null,"CODE",null,null,"CODE",null,null,"CODE",null,null,"CODE"]
[null,null,null,null,null,null,null,null,null,null,null,null,null,null,null,null,null,133,{"$f":"DSUM(仕入月合計データ!$B$3:$N$9771,仕入月合計データ!$M$3,R110:R111)","v":0},null,204,{"$f":"DSUM(仕入月合計データ!$B$3:$N$9771,仕入月合計データ!$M$3,U110:U111)","v":0},null,279,{"$f":"DSUM(仕入月合計データ!$B$3:$N$9771,仕入月合計データ!$M$3,X110:X111)","v":0},null,410,{"$f":"DSUM(仕入月合計データ!$B$3:$N$9771,仕入月合計データ!$M$3,AA110:AA111)","v":0},null,612,{"$f":"DSUM(仕入月合計データ!$B$3:$N$9771,仕入月合計データ!$M$3,AD110:AD111)","v":0},null,133,{"$f":"DSUM(経費月合計データ!$B$3:$K$1000,経費月合計データ!$J$3,AG110:AG111)","v":0},null,204,{"$f":"DSUM(経費月合計データ!$B$3:$K$1000,経費月合計データ!$J$3,AJ110:AJ111)","v":0},null,279,{"$f":"DSUM(経費月合計データ!$B$3:$K$1000,経費月合計データ!$J$3,AM110:AM111)","v":0},null,410,{"$f":"DSUM(経費月合計データ!$B$3:$K$1000,経費月合計データ!$J$3,AP110:AP111)","v":0},null,612,{"$f":"DSUM(経費月合計データ!$B$3:$K$1000,経費月合計データ!$J$3,AS110:AS111)","v":0}]
[null,null,null,null,null,null,null,null,null,null,null,null,null,null,null,null,null,"CODE",null,null,"CODE",null,null,"CODE",null,null,"CODE",null,null,"CODE",null,null,"CODE",null,null,"CODE",null,null,"CODE",null,null,"CODE",null,null,"CODE"]
[null,null,null,null,null,null,null,null,null,null,null,null,null,null,null,null,null,134,{"$f":"DSUM(仕入月合計データ!$B$3:$N$9771,仕入月合計データ!$M$3,R112:R113)","v":0},null,205,{"$f":"DSUM(仕入月合計データ!$B$3:$N$9771,仕入月合計データ!$M$3,U112:U113)","v":0},null,280,{"$f":"DSUM(仕入月合計データ!$B$3:$N$9771,仕入月合計データ!$M$3,X112:X113)","v":0},null,411,{"$f":"DSUM(仕入月合計データ!$B$3:$N$9771,仕入月合計データ!$M$3,AA112:AA113)","v":0},null,613,{"$f":"DSUM(仕入月合計データ!$B$3:$N$9771,仕入月合計データ!$M$3,AD112:AD113)","v":0},null,134,{"$f":"DSUM(経費月合計データ!$B$3:$K$1000,経費月合計データ!$J$3,AG112:AG113)","v":0},null,205,{"$f":"DSUM(経費月合計データ!$B$3:$K$1000,経費月合計データ!$J$3,AJ112:AJ113)","v":0},null,280,{"$f":"DSUM(経費月合計データ!$B$3:$K$1000,経費月合計データ!$J$3,AM112:AM113)","v":0},null,411,{"$f":"DSUM(経費月合計データ!$B$3:$K$1000,経費月合計データ!$J$3,AP112:AP113)","v":0},null,613,{"$f":"DSUM(経費月合計データ!$B$3:$K$1000,経費月合計データ!$J$3,AS112:AS113)","v":0}]
[null,null,null,null,null,null,null,null,null,null,null,null,null,null,null,null,null,"CODE",null,null,"CODE",null,null,"CODE",null,null,"CODE",null,null,"CODE",null,null,"CODE",null,null,"CODE",null,null,"CODE",null,null,"CODE",null,null,"CODE"]
[null,null,null,null,null,null,null,null,null,null,null,null,null,null,null,null,null,135,{"$f":"DSUM(仕入月合計データ!$B$3:$N$9771,仕入月合計データ!$M$3,R114:R115)","v":0},null,206,{"$f":"DSUM(仕入月合計データ!$B$3:$N$9771,仕入月合計データ!$M$3,U114:U115)","v":0},null,281,{"$f":"DSUM(仕入月合計データ!$B$3:$N$9771,仕入月合計データ!$M$3,X114:X115)","v":0},null,412,{"$f":"DSUM(仕入月合計データ!$B$3:$N$9771,仕入月合計データ!$M$3,AA114:AA115)","v":0},null,614,{"$f":"DSUM(仕入月合計データ!$B$3:$N$9771,仕入月合計データ!$M$3,AD114:AD115)","v":0},null,135,{"$f":"DSUM(経費月合計データ!$B$3:$K$1000,経費月合計データ!$J$3,AG114:AG115)","v":0},null,206,{"$f":"DSUM(経費月合計データ!$B$3:$K$1000,経費月合計データ!$J$3,AJ114:AJ115)","v":0},null,281,{"$f":"DSUM(経費月合計データ!$B$3:$K$1000,経費月合計データ!$J$3,AM114:AM115)","v":0},null,412,{"$f":"DSUM(経費月合計データ!$B$3:$K$1000,経費月合計データ!$J$3,AP114:AP115)","v":0},null,614,{"$f":"DSUM(経費月合計データ!$B$3:$K$1000,経費月合計データ!$J$3,AS114:AS115)","v":0}]
[null,null,null,null,null,null,null,null,null,null,null,null,null,null,null,null,null,"CODE",null,null,"CODE",null,null,"CODE",null,null,"CODE",null,null,"CODE",null,null,"CODE",null,null,"CODE",null,null,"CODE",null,null,"CODE",null,null,"CODE"]
[null,null,null,null,null,null,null,null,null,null,null,null,null,null,null,null,null,136,{"$f":"DSUM(仕入月合計データ!$B$3:$N$9771,仕入月合計データ!$M$3,R116:R117)","v":0},null,207,{"$f":"DSUM(仕入月合計データ!$B$3:$N$9771,仕入月合計データ!$M$3,U116:U117)","v":0},null,282,{"$f":"DSUM(仕入月合計データ!$B$3:$N$9771,仕入月合計データ!$M$3,X116:X117)","v":0},null,413,{"$f":"DSUM(仕入月合計データ!$B$3:$N$9771,仕入月合計データ!$M$3,AA116:AA117)","v":0},null,615,{"$f":"DSUM(仕入月合計データ!$B$3:$N$9771,仕入月合計データ!$M$3,AD116:AD117)","v":0},null,136,{"$f":"DSUM(経費月合計データ!$B$3:$K$1000,経費月合計データ!$J$3,AG116:AG117)","v":0},null,207,{"$f":"DSUM(経費月合計データ!$B$3:$K$1000,経費月合計データ!$J$3,AJ116:AJ117)","v":0},null,282,{"$f":"DSUM(経費月合計データ!$B$3:$K$1000,経費月合計データ!$J$3,AM116:AM117)","v":0},null,413,{"$f":"DSUM(経費月合計データ!$B$3:$K$1000,経費月合計データ!$J$3,AP116:AP117)","v":0},null,615,{"$f":"DSUM(経費月合計データ!$B$3:$K$1000,経費月合計データ!$J$3,AS116:AS117)","v":0}]
[null,null,null,null,null,null,null,null,null,null,null,null,null,null,null,null,null,"CODE",null,null,"CODE",null,null,"CODE",null,null,"CODE",null,null,"CODE",null,null,"CODE",null,null,"CODE",null,null,"CODE",null,null,"CODE",null,null,"CODE"]
[null,null,null,null,null,null,null,null,null,null,null,null,null,null,null,null,null,137,{"$f":"DSUM(仕入月合計データ!$B$3:$N$9771,仕入月合計データ!$M$3,R118:R119)","v":0},null,208,{"$f":"DSUM(仕入月合計データ!$B$3:$N$9771,仕入月合計データ!$M$3,U118:U119)","v":0},null,283,{"$f":"DSUM(仕入月合計データ!$B$3:$N$9771,仕入月合計データ!$M$3,X118:X119)","v":0},null,414,{"$f":"DSUM(仕入月合計データ!$B$3:$N$9771,仕入月合計データ!$M$3,AA118:AA119)","v":0},null,616,{"$f":"DSUM(仕入月合計データ!$B$3:$N$9771,仕入月合計データ!$M$3,AD118:AD119)","v":0},null,137,{"$f":"DSUM(経費月合計データ!$B$3:$K$1000,経費月合計データ!$J$3,AG118:AG119)","v":0},null,208,{"$f":"DSUM(経費月合計データ!$B$3:$K$1000,経費月合計データ!$J$3,AJ118:AJ119)","v":0},null,283,{"$f":"DSUM(経費月合計データ!$B$3:$K$1000,経費月合計データ!$J$3,AM118:AM119)","v":0},null,414,{"$f":"DSUM(経費月合計データ!$B$3:$K$1000,経費月合計データ!$J$3,AP118:AP119)","v":0},null,616,{"$f":"DSUM(経費月合計データ!$B$3:$K$1000,経費月合計データ!$J$3,AS118:AS119)","v":0}]
[null,null,null,null,null,null,null,null,null,null,null,null,null,null,null,null,null,"CODE",null,null,"CODE",null,null,"CODE",null,null,"CODE",null,null,"CODE",null,null,"CODE",null,null,"CODE",null,null,"CODE",null,null,"CODE",null,null,"CODE"]
[null,null,null,null,null,null,null,null,null,null,null,null,null,null,null,null,null,138,{"$f":"DSUM(仕入月合計データ!$B$3:$N$9771,仕入月合計データ!$M$3,R120:R121)","v":0},null,209,{"$f":"DSUM(仕入月合計データ!$B$3:$N$9771,仕入月合計データ!$M$3,U120:U121)","v":0},null,284,{"$f":"DSUM(仕入月合計データ!$B$3:$N$9771,仕入月合計データ!$M$3,X120:X121)","v":0},null,415,{"$f":"DSUM(仕入月合計データ!$B$3:$N$9771,仕入月合計データ!$M$3,AA120:AA121)","v":0},null,617,{"$f":"DSUM(仕入月合計データ!$B$3:$N$9771,仕入月合計データ!$M$3,AD120:AD121)","v":0},null,138,{"$f":"DSUM(経費月合計データ!$B$3:$K$1000,経費月合計データ!$J$3,AG120:AG121)","v":0},null,209,{"$f":"DSUM(経費月合計データ!$B$3:$K$1000,経費月合計データ!$J$3,AJ120:AJ121)","v":0},null,284,{"$f":"DSUM(経費月合計データ!$B$3:$K$1000,経費月合計データ!$J$3,AM120:AM121)","v":0},null,415,{"$f":"DSUM(経費月合計データ!$B$3:$K$1000,経費月合計データ!$J$3,AP120:AP121)","v":0},null,617,{"$f":"DSUM(経費月合計データ!$B$3:$K$1000,経費月合計データ!$J$3,AS120:AS121)","v":0}]
[null,null,null,null,null,null,null,null,null,null,null,null,null,null,null,null,null,"CODE",null,null,"CODE",null,null,"CODE",null,null,"CODE",null,null,"CODE",null,null,"CODE",null,null,"CODE",null,null,"CODE",null,null,"CODE",null,null,"CODE"]
[null,null,null,null,null,null,null,null,null,null,null,null,null,null,null,null,null,139,{"$f":"DSUM(仕入月合計データ!$B$3:$N$9771,仕入月合計データ!$M$3,R122:R123)","v":0},null,210,{"$f":"DSUM(仕入月合計データ!$B$3:$N$9771,仕入月合計データ!$M$3,U122:U123)","v":0},null,285,{"$f":"DSUM(仕入月合計データ!$B$3:$N$9771,仕入月合計データ!$M$3,X122:X123)","v":0},null,416,{"$f":"DSUM(仕入月合計データ!$B$3:$N$9771,仕入月合計データ!$M$3,AA122:AA123)","v":0},null,618,{"$f":"DSUM(仕入月合計データ!$B$3:$N$9771,仕入月合計データ!$M$3,AD122:AD123)","v":0},null,139,{"$f":"DSUM(経費月合計データ!$B$3:$K$1000,経費月合計データ!$J$3,AG122:AG123)","v":0},null,210,{"$f":"DSUM(経費月合計データ!$B$3:$K$1000,経費月合計データ!$J$3,AJ122:AJ123)","v":0},null,285,{"$f":"DSUM(経費月合計データ!$B$3:$K$1000,経費月合計データ!$J$3,AM122:AM123)","v":0},null,416,{"$f":"DSUM(経費月合計データ!$B$3:$K$1000,経費月合計データ!$J$3,AP122:AP123)","v":0},null,618,{"$f":"DSUM(経費月合計データ!$B$3:$K$1000,経費月合計データ!$J$3,AS122:AS123)","v":0}]
[null,null,null,null,null,null,null,null,null,null,null,null,null,null,null,null,null,"CODE",null,null,"CODE",null,null,"CODE",null,null,"CODE",null,null,"CODE",null,null,"CODE",null,null,"CODE",null,null,"CODE",null,null,"CODE",null,null,"CODE"]
[null,null,null,null,null,null,null,null,null,null,null,null,null,null,null,null,null,140,{"$f":"DSUM(仕入月合計データ!$B$3:$N$9771,仕入月合計データ!$M$3,R124:R125)","v":0},null,211,{"$f":"DSUM(仕入月合計データ!$B$3:$N$9771,仕入月合計データ!$M$3,U124:U125)","v":0},null,286,{"$f":"DSUM(仕入月合計データ!$B$3:$N$9771,仕入月合計データ!$M$3,X124:X125)","v":0},null,417,{"$f":"DSUM(仕入月合計データ!$B$3:$N$9771,仕入月合計データ!$M$3,AA124:AA125)","v":0},null,619,{"$f":"DSUM(仕入月合計データ!$B$3:$N$9771,仕入月合計データ!$M$3,AD124:AD125)","v":0},null,140,{"$f":"DSUM(経費月合計データ!$B$3:$K$1000,経費月合計データ!$J$3,AG124:AG125)","v":0},null,211,{"$f":"DSUM(経費月合計データ!$B$3:$K$1000,経費月合計データ!$J$3,AJ124:AJ125)","v":0},null,286,{"$f":"DSUM(経費月合計データ!$B$3:$K$1000,経費月合計データ!$J$3,AM124:AM125)","v":0},null,417,{"$f":"DSUM(経費月合計データ!$B$3:$K$1000,経費月合計データ!$J$3,AP124:AP125)","v":0},null,619,{"$f":"DSUM(経費月合計データ!$B$3:$K$1000,経費月合計データ!$J$3,AS124:AS125)","v":0}]
[null,null,null,null,null,null,null,null,null,null,null,null,null,null,null,null,null,"CODE",null,null,"CODE",null,null,"CODE",null,null,"CODE",null,null,"CODE",null,null,"CODE",null,null,"CODE",null,null,"CODE",null,null,"CODE",null,null,"CODE"]
[null,null,null,null,null,null,null,null,null,null,null,null,null,null,null,null,null,141,{"$f":"DSUM(仕入月合計データ!$B$3:$N$9771,仕入月合計データ!$M$3,R126:R127)","v":0},null,212,{"$f":"DSUM(仕入月合計データ!$B$3:$N$9771,仕入月合計データ!$M$3,U126:U127)","v":0},null,287,{"$f":"DSUM(仕入月合計データ!$B$3:$N$9771,仕入月合計データ!$M$3,X126:X127)","v":0},null,418,{"$f":"DSUM(仕入月合計データ!$B$3:$N$9771,仕入月合計データ!$M$3,AA126:AA127)","v":0},null,620,{"$f":"DSUM(仕入月合計データ!$B$3:$N$9771,仕入月合計データ!$M$3,AD126:AD127)","v":0},null,141,{"$f":"DSUM(経費月合計データ!$B$3:$K$1000,経費月合計データ!$J$3,AG126:AG127)","v":0},null,212,{"$f":"DSUM(経費月合計データ!$B$3:$K$1000,経費月合計データ!$J$3,AJ126:AJ127)","v":0},null,287,{"$f":"DSUM(経費月合計データ!$B$3:$K$1000,経費月合計データ!$J$3,AM126:AM127)","v":0},null,418,{"$f":"DSUM(経費月合計データ!$B$3:$K$1000,経費月合計データ!$J$3,AP126:AP127)","v":0},null,620,{"$f":"DSUM(経費月合計データ!$B$3:$K$1000,経費月合計データ!$J$3,AS126:AS127)","v":0}]
[null,null,null,null,null,null,null,null,null,null,null,null,null,null,null,null,null,"CODE",null,null,"CODE",null,null,"CODE",null,null,"CODE",null,null,"CODE",null,null,"CODE",null,null,"CODE",null,null,"CODE",null,null,"CODE",null,null,"CODE"]
[null,null,null,null,null,null,null,null,null,null,null,null,null,null,null,null,null,142,{"$f":"DSUM(仕入月合計データ!$B$3:$N$9771,仕入月合計データ!$M$3,R128:R129)","v":0},null,213,{"$f":"DSUM(仕入月合計データ!$B$3:$N$9771,仕入月合計データ!$M$3,U128:U129)","v":0},null,288,{"$f":"DSUM(仕入月合計データ!$B$3:$N$9771,仕入月合計データ!$M$3,X128:X129)","v":0},null,419,{"$f":"DSUM(仕入月合計データ!$B$3:$N$9771,仕入月合計データ!$M$3,AA128:AA129)","v":0},null,621,{"$f":"DSUM(仕入月合計データ!$B$3:$N$9771,仕入月合計データ!$M$3,AD128:AD129)","v":0},null,142,{"$f":"DSUM(経費月合計データ!$B$3:$K$1000,経費月合計データ!$J$3,AG128:AG129)","v":0},null,213,{"$f":"DSUM(経費月合計データ!$B$3:$K$1000,経費月合計データ!$J$3,AJ128:AJ129)","v":0},null,288,{"$f":"DSUM(経費月合計データ!$B$3:$K$1000,経費月合計データ!$J$3,AM128:AM129)","v":0},null,419,{"$f":"DSUM(経費月合計データ!$B$3:$K$1000,経費月合計データ!$J$3,AP128:AP129)","v":0},null,621,{"$f":"DSUM(経費月合計データ!$B$3:$K$1000,経費月合計データ!$J$3,AS128:AS129)","v":0}]
[null,null,null,null,null,null,null,null,null,null,null,null,null,null,null,null,null,"CODE",null,null,"CODE",null,null,"CODE",null,null,"CODE",null,null,"CODE",null,null,"CODE",null,null,"CODE",null,null,"CODE",null,null,"CODE",null,null,"CODE"]
[null,null,null,null,null,null,null,null,null,null,null,null,null,null,null,null,null,143,{"$f":"DSUM(仕入月合計データ!$B$3:$N$9771,仕入月合計データ!$M$3,R130:R131)","v":0},null,214,{"$f":"DSUM(仕入月合計データ!$B$3:$N$9771,仕入月合計データ!$M$3,U130:U131)","v":0},null,289,{"$f":"DSUM(仕入月合計データ!$B$3:$N$9771,仕入月合計データ!$M$3,X130:X131)","v":0},null,420,{"$f":"DSUM(仕入月合計データ!$B$3:$N$9771,仕入月合計データ!$M$3,AA130:AA131)","v":0},null,622,{"$f":"DSUM(仕入月合計データ!$B$3:$N$9771,仕入月合計データ!$M$3,AD130:AD131)","v":0},null,143,{"$f":"DSUM(経費月合計データ!$B$3:$K$1000,経費月合計データ!$J$3,AG130:AG131)","v":0},null,214,{"$f":"DSUM(経費月合計データ!$B$3:$K$1000,経費月合計データ!$J$3,AJ130:AJ131)","v":0},null,289,{"$f":"DSUM(経費月合計データ!$B$3:$K$1000,経費月合計データ!$J$3,AM130:AM131)","v":0},null,420,{"$f":"DSUM(経費月合計データ!$B$3:$K$1000,経費月合計データ!$J$3,AP130:AP131)","v":0},null,622,{"$f":"DSUM(経費月合計データ!$B$3:$K$1000,経費月合計データ!$J$3,AS130:AS131)","v":0}]
[null,null,null,null,null,null,null,null,null,null,null,null,null,null,null,null,null,"CODE",null,null,"CODE",null,null,"CODE",null,null,"CODE",null,null,"CODE",null,null,"CODE",null,null,"CODE",null,null,"CODE",null,null,"CODE",null,null,"CODE"]
[null,null,null,null,null,null,null,null,null,null,null,null,null,null,null,null,null,144,{"$f":"DSUM(仕入月合計データ!$B$3:$N$9771,仕入月合計データ!$M$3,R132:R133)","v":0},null,215,{"$f":"DSUM(仕入月合計データ!$B$3:$N$9771,仕入月合計データ!$M$3,U132:U133)","v":0},null,290,{"$f":"DSUM(仕入月合計データ!$B$3:$N$9771,仕入月合計データ!$M$3,X132:X133)","v":0},null,421,{"$f":"DSUM(仕入月合計データ!$B$3:$N$9771,仕入月合計データ!$M$3,AA132:AA133)","v":0},null,623,{"$f":"DSUM(仕入月合計データ!$B$3:$N$9771,仕入月合計データ!$M$3,AD132:AD133)","v":0},null,144,{"$f":"DSUM(経費月合計データ!$B$3:$K$1000,経費月合計データ!$J$3,AG132:AG133)","v":0},null,215,{"$f":"DSUM(経費月合計データ!$B$3:$K$1000,経費月合計データ!$J$3,AJ132:AJ133)","v":0},null,290,{"$f":"DSUM(経費月合計データ!$B$3:$K$1000,経費月合計データ!$J$3,AM132:AM133)","v":0},null,421,{"$f":"DSUM(経費月合計データ!$B$3:$K$1000,経費月合計データ!$J$3,AP132:AP133)","v":0},null,623,{"$f":"DSUM(経費月合計データ!$B$3:$K$1000,経費月合計データ!$J$3,AS132:AS133)","v":0}]
[null,null,null,null,null,null,null,null,null,null,null,null,null,null,null,null,null,"CODE",null,null,"CODE",null,null,null,null,null,"CODE",null,null,"CODE",null,null,"CODE",null,null,"CODE",null,null,null,null,null,"CODE",null,null,"CODE"]
[null,null,null,null,null,null,null,null,null,null,null,null,null,null,null,null,null,145,{"$f":"DSUM(仕入月合計データ!$B$3:$N$9771,仕入月合計データ!$M$3,R134:R135)","v":0},null,216,{"$f":"DSUM(仕入月合計データ!$B$3:$N$9771,仕入月合計データ!$M$3,U134:U135)","v":0},null,null,null,null,422,{"$f":"DSUM(仕入月合計データ!$B$3:$N$9771,仕入月合計データ!$M$3,AA134:AA135)","v":0},null,624,{"$f":"DSUM(仕入月合計データ!$B$3:$N$9771,仕入月合計データ!$M$3,AD134:AD135)","v":0},null,145,{"$f":"DSUM(経費月合計データ!$B$3:$K$1000,経費月合計データ!$J$3,AG134:AG135)","v":0},null,216,{"$f":"DSUM(経費月合計データ!$B$3:$K$1000,経費月合計データ!$J$3,AJ134:AJ135)","v":0},null,null,null,null,422,{"$f":"DSUM(経費月合計データ!$B$3:$K$1000,経費月合計データ!$J$3,AP134:AP135)","v":0},null,624,{"$f":"DSUM(経費月合計データ!$B$3:$K$1000,経費月合計データ!$J$3,AS134:AS135)","v":0}]
[null,null,null,null,null,null,null,null,null,null,null,null,null,null,null,null,null,"CODE",null,null,"CODE",null,null,null,null,null,"CODE",null,null,"CODE",null,null,"CODE",null,null,"CODE",null,null,null,null,null,"CODE",null,null,"CODE"]
[null,null,null,null,null,null,null,null,null,null,null,null,null,null,null,null,null,146,{"$f":"DSUM(仕入月合計データ!$B$3:$N$9771,仕入月合計データ!$M$3,R136:R137)","v":0},null,217,{"$f":"DSUM(仕入月合計データ!$B$3:$N$9771,仕入月合計データ!$M$3,U136:U137)","v":0},null,null,null,null,423,{"$f":"DSUM(仕入月合計データ!$B$3:$N$9771,仕入月合計データ!$M$3,AA136:AA137)","v":0},null,625,{"$f":"DSUM(仕入月合計データ!$B$3:$N$9771,仕入月合計データ!$M$3,AD136:AD137)","v":0},null,146,{"$f":"DSUM(経費月合計データ!$B$3:$K$1000,経費月合計データ!$J$3,AG136:AG137)","v":0},null,217,{"$f":"DSUM(経費月合計データ!$B$3:$K$1000,経費月合計データ!$J$3,AJ136:AJ137)","v":0},null,null,null,null,423,{"$f":"DSUM(経費月合計データ!$B$3:$K$1000,経費月合計データ!$J$3,AP136:AP137)","v":0},null,625,{"$f":"DSUM(経費月合計データ!$B$3:$K$1000,経費月合計データ!$J$3,AS136:AS137)","v":0}]
[null,null,null,null,null,null,null,null,null,null,null,null,null,null,null,null,null,"CODE",null,null,"CODE",null,null,null,null,null,"CODE",null,null,"CODE",null,null,"CODE",null,null,"CODE",null,null,null,null,null,"CODE",null,null,"CODE"]
[null,null,null,null,null,null,null,null,null,null,null,null,null,null,null,null,null,147,{"$f":"DSUM(仕入月合計データ!$B$3:$N$9771,仕入月合計データ!$M$3,R138:R139)","v":0},null,218,{"$f":"DSUM(仕入月合計データ!$B$3:$N$9771,仕入月合計データ!$M$3,U138:U139)","v":0},null,null,null,null,424,{"$f":"DSUM(仕入月合計データ!$B$3:$N$9771,仕入月合計データ!$M$3,AA138:AA139)","v":0},null,626,{"$f":"DSUM(仕入月合計データ!$B$3:$N$9771,仕入月合計データ!$M$3,AD138:AD139)","v":0},null,147,{"$f":"DSUM(経費月合計データ!$B$3:$K$1000,経費月合計データ!$J$3,AG138:AG139)","v":0},null,218,{"$f":"DSUM(経費月合計データ!$B$3:$K$1000,経費月合計データ!$J$3,AJ138:AJ139)","v":0},null,null,null,null,424,{"$f":"DSUM(経費月合計データ!$B$3:$K$1000,経費月合計データ!$J$3,AP138:AP139)","v":0},null,626,{"$f":"DSUM(経費月合計データ!$B$3:$K$1000,経費月合計データ!$J$3,AS138:AS139)","v":0}]
[null,null,null,null,null,null,null,null,null,null,null,null,null,null,null,null,null,"CODE",null,null,"CODE",null,null,null,null,null,"CODE",null,null,"CODE",null,null,"CODE",null,null,"CODE",null,null,null,null,null,"CODE",null,null,"CODE"]
[null,null,null,null,null,null,null,null,null,null,null,null,null,null,null,null,null,148,{"$f":"DSUM(仕入月合計データ!$B$3:$N$9771,仕入月合計データ!$M$3,R140:R141)","v":0},null,219,{"$f":"DSUM(仕入月合計データ!$B$3:$N$9771,仕入月合計データ!$M$3,U140:U141)","v":0},null,null,null,null,425,{"$f":"DSUM(仕入月合計データ!$B$3:$N$9771,仕入月合計データ!$M$3,AA140:AA141)","v":1635},null,627,{"$f":"DSUM(仕入月合計データ!$B$3:$N$9771,仕入月合計データ!$M$3,AD140:AD141)","v":0},null,148,{"$f":"DSUM(経費月合計データ!$B$3:$K$1000,経費月合計データ!$J$3,AG140:AG141)","v":0},null,219,{"$f":"DSUM(経費月合計データ!$B$3:$K$1000,経費月合計データ!$J$3,AJ140:AJ141)","v":0},null,null,null,null,425,{"$f":"DSUM(経費月合計データ!$B$3:$K$1000,経費月合計データ!$J$3,AP140:AP141)","v":0},null,627,{"$f":"DSUM(経費月合計データ!$B$3:$K$1000,経費月合計データ!$J$3,AS140:AS141)","v":0}]
[null,null,null,null,null,null,null,null,null,null,null,null,null,null,null,null,null,"CODE",null,null,"CODE",null,null,null,null,null,"CODE",null,null,"CODE",null,null,"CODE",null,null,"CODE",null,null,null,null,null,"CODE",null,null,"CODE"]
[null,null,null,null,null,null,null,null,null,null,null,null,null,null,null,null,null,149,{"$f":"DSUM(仕入月合計データ!$B$3:$N$9771,仕入月合計データ!$M$3,R142:R143)","v":0},null,220,{"$f":"DSUM(仕入月合計データ!$B$3:$N$9771,仕入月合計データ!$M$3,U142:U143)","v":1035},null,null,null,null,426,{"$f":"DSUM(仕入月合計データ!$B$3:$N$9771,仕入月合計データ!$M$3,AA142:AA143)","v":0},null,628,{"$f":"DSUM(仕入月合計データ!$B$3:$N$9771,仕入月合計データ!$M$3,AD142:AD143)","v":0},null,149,{"$f":"DSUM(経費月合計データ!$B$3:$K$1000,経費月合計データ!$J$3,AG142:AG143)","v":0},null,220,{"$f":"DSUM(経費月合計データ!$B$3:$K$1000,経費月合計データ!$J$3,AJ142:AJ143)","v":0},null,null,null,null,426,{"$f":"DSUM(経費月合計データ!$B$3:$K$1000,経費月合計データ!$J$3,AP142:AP143)","v":0},null,628,{"$f":"DSUM(経費月合計データ!$B$3:$K$1000,経費月合計データ!$J$3,AS142:AS143)","v":0}]
[null,null,null,null,null,null,null,null,null,null,null,null,null,null,null,null,null,"CODE",null,null,"CODE",null,null,null,null,null,null,null,null,"CODE",null,null,"CODE",null,null,"CODE",null,null,null,null,null,"CODE",null,null,"CODE"]
[null,null,null,null,null,null,null,null,null,null,null,null,null,null,null,null,null,150,{"$f":"DSUM(仕入月合計データ!$B$3:$N$9771,仕入月合計データ!$M$3,R144:R145)","v":0},null,221,{"$f":"DSUM(仕入月合計データ!$B$3:$N$9771,仕入月合計データ!$M$3,U144:U145)","v":0},null,null,null,null,null,null,null,629,{"$f":"DSUM(仕入月合計データ!$B$3:$N$9771,仕入月合計データ!$M$3,AD144:AD145)","v":0},null,150,{"$f":"DSUM(経費月合計データ!$B$3:$K$1000,経費月合計データ!$J$3,AG144:AG145)","v":0},null,221,{"$f":"DSUM(経費月合計データ!$B$3:$K$1000,経費月合計データ!$J$3,AJ144:AJ145)","v":0},null,null,null,null,501,{"$f":"DSUM(経費月合計データ!$B$3:$K$1000,経費月合計データ!$J$3,AP144:AP145)","v":0},null,629,{"$f":"DSUM(経費月合計データ!$B$3:$K$1000,経費月合計データ!$J$3,AS144:AS145)","v":0}]
[null,null,null,null,null,null,null,null,null,null,null,null,null,null,null,null,null,null,null,null,"CODE",null,null,null,null,null,null,null,null,"CODE",null,null,null,null,null,"CODE",null,null,null,null,null,null,null,null,"CODE"]
[null,null,null,null,null,null,null,null,null,null,null,null,null,null,null,null,null,null,null,null,222,{"$f":"DSUM(仕入月合計データ!$B$3:$N$9771,仕入月合計データ!$M$3,U146:U147)","v":0},null,null,null,null,null,null,null,630,{"$f":"DSUM(仕入月合計データ!$B$3:$N$9771,仕入月合計データ!$M$3,AD146:AD147)","v":0},null,null,null,null,222,{"$f":"DSUM(経費月合計データ!$B$3:$K$1000,経費月合計データ!$J$3,AJ146:AJ147)","v":0},null,null,null,null,null,null,null,630,{"$f":"DSUM(経費月合計データ!$B$3:$K$1000,経費月合計データ!$J$3,AS146:AS147)","v":0}]
[null,null,null,null,null,null,null,null,null,null,null,null,null,null,null,null,null,null,null,null,"CODE",null,null,null,null,null,null,null,null,"CODE",null,null,null,null,null,"CODE",null,null,null,null,null,null,null,null,"CODE"]
[null,null,null,null,null,null,null,null,null,null,null,null,null,null,null,null,null,null,null,null,223,{"$f":"DSUM(仕入月合計データ!$B$3:$N$9771,仕入月合計データ!$M$3,U148:U149)","v":0},null,null,null,null,null,null,null,631,{"$f":"DSUM(仕入月合計データ!$B$3:$N$9771,仕入月合計データ!$M$3,AD148:AD149)","v":0},null,null,null,null,223,{"$f":"DSUM(経費月合計データ!$B$3:$K$1000,経費月合計データ!$J$3,AJ148:AJ149)","v":0},null,null,null,null,null,null,null,631,{"$f":"DSUM(経費月合計データ!$B$3:$K$1000,経費月合計データ!$J$3,AS148:AS149)","v":0}]
[null,null,null,null,null,null,null,null,null,null,null,null,null,null,null,null,null,null,null,null,"CODE",null,null,null,null,null,null,null,null,"CODE",null,null,null,null,null,"CODE",null,null,null,null,null,null,null,null,"CODE"]
[null,null,null,null,null,null,null,null,null,null,null,null,null,null,null,null,null,null,null,null,224,{"$f":"DSUM(仕入月合計データ!$B$3:$N$9771,仕入月合計データ!$M$3,U150:U151)","v":0},null,null,null,null,null,null,null,632,{"$f":"DSUM(仕入月合計データ!$B$3:$N$9771,仕入月合計データ!$M$3,AD150:AD151)","v":0},null,null,null,null,224,{"$f":"DSUM(経費月合計データ!$B$3:$K$1000,経費月合計データ!$J$3,AJ150:AJ151)","v":0},null,null,null,null,null,null,null,632,{"$f":"DSUM(経費月合計データ!$B$3:$K$1000,経費月合計データ!$J$3,AS150:AS151)","v":0}]
[null,null,null,null,null,null,null,null,null,null,null,null,null,null,null,null,null,null,null,null,"CODE",null,null,null,null,null,null,null,null,"CODE",null,null,null,null,null,"CODE",null,null,null,null,null,null,null,null,"CODE"]
[null,null,null,null,null,null,null,null,null,null,null,null,null,null,null,null,null,null,null,null,225,{"$f":"DSUM(仕入月合計データ!$B$3:$N$9771,仕入月合計データ!$M$3,U152:U153)","v":0},null,null,null,null,null,null,null,633,{"$f":"DSUM(仕入月合計データ!$B$3:$N$9771,仕入月合計データ!$M$3,AD152:AD153)","v":0},null,null,null,null,225,{"$f":"DSUM(経費月合計データ!$B$3:$K$1000,経費月合計データ!$J$3,AJ152:AJ153)","v":0},null,null,null,null,null,null,null,633,{"$f":"DSUM(経費月合計データ!$B$3:$K$1000,経費月合計データ!$J$3,AS152:AS153)","v":0}]
[null,null,null,null,null,null,null,null,null,null,null,null,null,null,null,null,null,null,null,null,null,null,null,null,null,null,null,null,null,"CODE",null,null,null,null,null,null,null,null,null,null,null,null,null,null,"CODE"]
[null,null,null,null,null,null,null,null,null,null,null,null,null,null,null,null,null,null,null,null,null,null,null,null,null,null,null,null,null,634,{"$f":"DSUM(仕入月合計データ!$B$3:$N$9771,仕入月合計データ!$M$3,AD154:AD155)","v":0},null,null,null,null,null,null,null,null,null,null,null,null,null,634,{"$f":"DSUM(経費月合計データ!$B$3:$K$1000,経費月合計データ!$J$3,AS154:AS155)","v":0}]
[null,null,null,null,null,null,null,null,null,null,null,null,null,null,null,null,null,null,null,null,null,null,null,null,null,null,null,null,null,"CODE",null,null,null,null,null,null,null,null,null,null,null,null,null,null,"CODE"]
[null,null,null,null,null,null,null,null,null,null,null,null,null,null,null,null,null,null,null,null,null,null,null,null,null,null,null,null,null,635,{"$f":"DSUM(仕入月合計データ!$B$3:$N$9771,仕入月合計データ!$M$3,AD156:AD157)","v":0},null,null,null,null,null,null,null,null,null,null,null,null,null,635,{"$f":"DSUM(経費月合計データ!$B$3:$K$1000,経費月合計データ!$J$3,AS156:AS157)","v":0}]

{"sheet":"計算2","index":19,"n_rows":160,"n_cols":31,"rows_kept":160,"cut":false,"hidden":false,"merged":[]}
[]
[null,null,"仕入先別仕入金額用",null,null,"本日入力部品",null,null,"合計",{"$f":"SUM(D5:D400)+SUM(G5:G400)+SUM(J5:J400)+SUM(M5:M400)+SUM(P5:P400)","v":3600},null,null,null,null,null,null,null,"仕入先別仕入金額用",null,null,"本日入力経費",null,null,"合計",{"$f":"SUM(S5:S400)+SUM(V5:V400)+SUM(Y5:Y400)+SUM(AB5:AB400)+SUM(AE5:AE400)","v":0}]
[]
[null,null,"CODE",null,null,"CODE",null,null,"CODE",null,null,"CODE",null,null,"CODE",null,null,"CODE",null,null,"CODE",null,null,"CODE",null,null,"CODE",null,null,"CODE"]
[null,null,1,{"$f":"DSUM(部品本日入力!$B$3:$N$5008,部品本日入力!$M$3,C4:C5)","v":0},null,151,{"$f":"DSUM(部品本日入力!$B$3:$N$5008,部品本日入力!$M$3,F4:F5)","v":0},null,226,{"$f":"DSUM(部品本日入力!$B$3:$N$5008,部品本日入力!$M$3,I4:I5)","v":0},null,291,{"$f":"DSUM(部品本日入力!$B$3:$N$5008,部品本日入力!$M$3,L4:L5)","v":0},null,502,{"$f":"DSUM(部品本日入力!$B$3:$N$5008,部品本日入力!$M$3,O4:O5)","v":0},null,1,{"$f":"DSUM(経費本日入力!$B$3:$K$2000,経費本日入力!$J$3,R4:R5)","v":0},null,151,{"$f":"DSUM(経費本日入力!$B$3:$K$2000,経費本日入力!$J$3,U4:U5)","v":0},null,226,{"$f":"DSUM(経費本日入力!$B$3:$K$2000,経費本日入力!$J$3,X4:X5)","v":0},null,291,{"$f":"DSUM(経費本日入力!$B$3:$K$2000,経費本日入力!$J$3,AA4:AA5)","v":0},null,502,{"$f":"DSUM(経費本日入力!$B$3:$K$2000,経費本日入力!$J$3,AD4:AD5)","v":0}]
[null,null,"CODE",null,null,"CODE",null,null,"CODE",null,null,"CODE",null,null,"CODE",null,null,"CODE",null,null,"CODE",null,null,"CODE",null,null,"CODE",null,null,"CODE"]
[null,null,2,{"$f":"DSUM(部品本日入力!$B$3:$N$5008,部品本日入力!$M$3,C6:C7)","v":0},null,152,{"$f":"DSUM(部品本日入力!$B$3:$N$5008,部品本日入力!$M$3,F6:F7)","v":0},null,227,{"$f":"DSUM(部品本日入力!$B$3:$N$5008,部品本日入力!$M$3,I6:I7)","v":0},null,292,{"$f":"DSUM(部品本日入力!$B$3:$N$5008,部品本日入力!$M$3,L6:L7)","v":0},null,503,{"$f":"DSUM(部品本日入力!$B$3:$N$5008,部品本日入力!$M$3,O6:O7)","v":0},null,2,{"$f":"DSUM(経費本日入力!$B$3:$K$2000,経費本日入力!$J$3,R6:R7)","v":0},null,152,{"$f":"DSUM(経費本日入力!$B$3:$K$2000,経費本日入力!$J$3,U6:U7)","v":0},null,227,{"$f":"DSUM(経費本日入力!$B$3:$K$2000,経費本日入力!$J$3,X6:X7)","v":0},null,292,{"$f":"DSUM(経費本日入力!$B$3:$K$2000,経費本日入力!$J$3,AA6:AA7)","v":0},null,503,{"$f":"DSUM(経費本日入力!$B$3:$K$2000,経費本日入力!$J$3,AD6:AD7)","v":0}]
[null,null,"CODE",null,null,"CODE",null,null,"CODE",null,null,"CODE",null,null,"CODE",null,null,"CODE",null,null,"CODE",null,null,"CODE",null,null,"CODE",null,null,"CODE"]
[null,null,3,{"$f":"DSUM(部品本日入力!$B$3:$N$5008,部品本日入力!$M$3,C8:C9)","v":0},null,153,{"$f":"DSUM(部品本日入力!$B$3:$N$5008,部品本日入力!$M$3,F8:F9)","v":0},null,228,{"$f":"DSUM(部品本日入力!$B$3:$N$5008,部品本日入力!$M$3,I8:I9)","v":0},null,293,{"$f":"DSUM(部品本日入力!$B$3:$N$5008,部品本日入力!$M$3,L8:L9)","v":0},null,504,{"$f":"DSUM(部品本日入力!$B$3:$N$5008,部品本日入力!$M$3,O8:O9)","v":0},null,3,{"$f":"DSUM(経費本日入力!$B$3:$K$2000,経費本日入力!$J$3,R8:R9)","v":0},null,153,{"$f":"DSUM(経費本日入力!$B$3:$K$2000,経費本日入力!$J$3,U8:U9)","v":0},null,228,{"$f":"DSUM(経費本日入力!$B$3:$K$2000,経費本日入力!$J$3,X8:X9)","v":0},null,293,{"$f":"DSUM(経費本日入力!$B$3:$K$2000,経費本日入力!$J$3,AA8:AA9)","v":0},null,504,{"$f":"DSUM(経費本日入力!$B$3:$K$2000,経費本日入力!$J$3,AD8:AD9)","v":0}]
[null,null,"CODE",null,null,"CODE",null,null,"CODE",null,null,"CODE",null,null,"CODE",null,null,"CODE",null,null,"CODE",null,null,"CODE",null,null,"CODE",null,null,"CODE"]
[null,null,4,{"$f":"DSUM(部品本日入力!$B$3:$N$5008,部品本日入力!$M$3,C10:C11)","v":0},null,154,{"$f":"DSUM(部品本日入力!$B$3:$N$5008,部品本日入力!$M$3,F10:F11)","v":0},null,229,{"$f":"DSUM(部品本日入力!$B$3:$N$5008,部品本日入力!$M$3,I10:I11)","v":0},null,294,{"$f":"DSUM(部品本日入力!$B$3:$N$5008,部品本日入力!$M$3,L10:L11)","v":0},null,505,{"$f":"DSUM(部品本日入力!$B$3:$N$5008,部品本日入力!$M$3,O10:O11)","v":0},null,4,{"$f":"DSUM(経費本日入力!$B$3:$K$2000,経費本日入力!$J$3,R10:R11)","v":0},null,154,{"$f":"DSUM(経費本日入力!$B$3:$K$2000,経費本日入力!$J$3,U10:U11)","v":0},null,229,{"$f":"DSUM(経費本日入力!$B$3:$K$2000,経費本日入力!$J$3,X10:X11)","v":0},null,294,{"$f":"DSUM(経費本日入力!$B$3:$K$2000,経費本日入力!$J$3,AA10:AA11)","v":0},null,505,{"$f":"DSUM(経費本日入力!$B$3:$K$2000,経費本日入力!$J$3,AD10:AD11)","v":0}]
[null,null,"CODE",null,null,"CODE",null,null,"CODE",null,null,"CODE",null,null,"CODE",null,null,"CODE",null,null,"CODE",null,null,"CODE",null,null,"CODE",null,null,"CODE"]
[null,null,5,{"$f":"DSUM(部品本日入力!$B$3:$N$5008,部品本日入力!$M$3,C12:C13)","v":0},null,155,{"$f":"DSUM(部品本日入力!$B$3:$N$5008,部品本日入力!$M$3,F12:F13)","v":0},null,230,{"$f":"DSUM(部品本日入力!$B$3:$N$5008,部品本日入力!$M$3,I12:I13)","v":0},null,295,{"$f":"DSUM(部品本日入力!$B$3:$N$5008,部品本日入力!$M$3,L12:L13)","v":0},null,506,{"$f":"DSUM(部品本日入力!$B$3:$N$5008,部品本日入力!$M$3,O12:O13)","v":0},null,5,{"$f":"DSUM(経費本日入力!$B$3:$K$2000,経費本日入力!$J$3,R12:R13)","v":0},null,155,{"$f":"DSUM(経費本日入力!$B$3:$K$2000,経費本日入力!$J$3,U12:U13)","v":0},null,230,{"$f":"DSUM(経費本日入力!$B$3:$K$2000,経費本日入力!$J$3,X12:X13)","v":0},null,295,{"$f":"DSUM(経費本日入力!$B$3:$K$2000,経費本日入力!$J$3,AA12:AA13)","v":0},null,506,{"$f":"DSUM(経費本日入力!$B$3:$K$2000,経費本日入力!$J$3,AD12:AD13)","v":0}]
[null,null,"CODE",null,null,"CODE",null,null,"CODE",null,null,"CODE",null,null,"CODE",null,null,"CODE",null,null,"CODE",null,null,"CODE",null,null,"CODE",null,null,"CODE"]
[null,null,6,{"$f":"DSUM(部品本日入力!$B$3:$N$5008,部品本日入力!$M$3,C14:C15)","v":100},null,156,{"$f":"DSUM(部品本日入力!$B$3:$N$5008,部品本日入力!$M$3,F14:F15)","v":0},null,231,{"$f":"DSUM(部品本日入力!$B$3:$N$5008,部品本日入力!$M$3,I14:I15)","v":0},null,296,{"$f":"DSUM(部品本日入力!$B$3:$N$5008,部品本日入力!$M$3,L14:L15)","v":0},null,507,{"$f":"DSUM(部品本日入力!$B$3:$N$5008,部品本日入力!$M$3,O14:O15)","v":0},null,6,{"$f":"DSUM(経費本日入力!$B$3:$K$2000,経費本日入力!$J$3,R14:R15)","v":0},null,156,{"$f":"DSUM(経費本日入力!$B$3:$K$2000,経費本日入力!$J$3,U14:U15)","v":0},null,231,{"$f":"DSUM(経費本日入力!$B$3:$K$2000,経費本日入力!$J$3,X14:X15)","v":0},null,296,{"$f":"DSUM(経費本日入力!$B$3:$K$2000,経費本日入力!$J$3,AA14:AA15)","v":0},null,507,{"$f":"DSUM(経費本日入力!$B$3:$K$2000,経費本日入力!$J$3,AD14:AD15)","v":0}]
[null,null,"CODE",null,null,"CODE",null,null,"CODE",null,null,"CODE",null,null,"CODE",null,null,"CODE",null,null,"CODE",null,null,"CODE",null,null,"CODE",null,null,"CODE"]
[null,null,7,{"$f":"DSUM(部品本日入力!$B$3:$N$5008,部品本日入力!$M$3,C16:C17)","v":0},null,157,{"$f":"DSUM(部品本日入力!$B$3:$N$5008,部品本日入力!$M$3,F16:F17)","v":0},null,232,{"$f":"DSUM(部品本日入力!$B$3:$N$5008,部品本日入力!$M$3,I16:I17)","v":0},null,297,{"$f":"DSUM(部品本日入力!$B$3:$N$5008,部品本日入力!$M$3,L16:L17)","v":0},null,508,{"$f":"DSUM(部品本日入力!$B$3:$N$5008,部品本日入力!$M$3,O16:O17)","v":0},null,7,{"$f":"DSUM(経費本日入力!$B$3:$K$2000,経費本日入力!$J$3,R16:R17)","v":0},null,157,{"$f":"DSUM(経費本日入力!$B$3:$K$2000,経費本日入力!$J$3,U16:U17)","v":0},null,232,{"$f":"DSUM(経費本日入力!$B$3:$K$2000,経費本日入力!$J$3,X16:X17)","v":0},null,297,{"$f":"DSUM(経費本日入力!$B$3:$K$2000,経費本日入力!$J$3,AA16:AA17)","v":0},null,508,{"$f":"DSUM(経費本日入力!$B$3:$K$2000,経費本日入力!$J$3,AD16:AD17)","v":0}]
[null,null,"CODE",null,null,"CODE",null,null,"CODE",null,null,"CODE",null,null,"CODE",null,null,"CODE",null,null,"CODE",null,null,"CODE",null,null,"CODE",null,null,"CODE"]
[null,null,8,{"$f":"DSUM(部品本日入力!$B$3:$N$5008,部品本日入力!$M$3,C18:C19)","v":0},null,158,{"$f":"DSUM(部品本日入力!$B$3:$N$5008,部品本日入力!$M$3,F18:F19)","v":0},null,233,{"$f":"DSUM(部品本日入力!$B$3:$N$5008,部品本日入力!$M$3,I18:I19)","v":0},null,298,{"$f":"DSUM(部品本日入力!$B$3:$N$5008,部品本日入力!$M$3,L18:L19)","v":0},null,509,{"$f":"DSUM(部品本日入力!$B$3:$N$5008,部品本日入力!$M$3,O18:O19)","v":0},null,8,{"$f":"DSUM(経費本日入力!$B$3:$K$2000,経費本日入力!$J$3,R18:R19)","v":0},null,158,{"$f":"DSUM(経費本日入力!$B$3:$K$2000,経費本日入力!$J$3,U18:U19)","v":0},null,233,{"$f":"DSUM(経費本日入力!$B$3:$K$2000,経費本日入力!$J$3,X18:X19)","v":0},null,298,{"$f":"DSUM(経費本日入力!$B$3:$K$2000,経費本日入力!$J$3,AA18:AA19)","v":0},null,509,{"$f":"DSUM(経費本日入力!$B$3:$K$2000,経費本日入力!$J$3,AD18:AD19)","v":0}]
[null,null,"CODE",null,null,"CODE",null,null,"CODE",null,null,"CODE",null,null,"CODE",null,null,"CODE",null,null,"CODE",null,null,"CODE",null,null,"CODE",null,null,"CODE"]
[null,null,9,{"$f":"DSUM(部品本日入力!$B$3:$N$5008,部品本日入力!$M$3,C20:C21)","v":0},null,159,{"$f":"DSUM(部品本日入力!$B$3:$N$5008,部品本日入力!$M$3,F20:F21)","v":0},null,234,{"$f":"DSUM(部品本日入力!$B$3:$N$5008,部品本日入力!$M$3,I20:I21)","v":0},null,299,{"$f":"DSUM(部品本日入力!$B$3:$N$5008,部品本日入力!$M$3,L20:L21)","v":0},null,510,{"$f":"DSUM(部品本日入力!$B$3:$N$5008,部品本日入力!$M$3,O20:O21)","v":0},null,9,{"$f":"DSUM(経費本日入力!$B$3:$K$2000,経費本日入力!$J$3,R20:R21)","v":0},null,159,{"$f":"DSUM(経費本日入力!$B$3:$K$2000,経費本日入力!$J$3,U20:U21)","v":0},null,234,{"$f":"DSUM(経費本日入力!$B$3:$K$2000,経費本日入力!$J$3,X20:X21)","v":0},null,299,{"$f":"DSUM(経費本日入力!$B$3:$K$2000,経費本日入力!$J$3,AA20:AA21)","v":0},null,510,{"$f":"DSUM(経費本日入力!$B$3:$K$2000,経費本日入力!$J$3,AD20:AD21)","v":0}]
[null,null,"CODE",null,null,"CODE",null,null,"CODE",null,null,"CODE",null,null,"CODE",null,null,"CODE",null,null,"CODE",null,null,"CODE",null,null,"CODE",null,null,"CODE"]
[null,null,10,{"$f":"DSUM(部品本日入力!$B$3:$N$5008,部品本日入力!$M$3,C22:C23)","v":0},null,160,{"$f":"DSUM(部品本日入力!$B$3:$N$5008,部品本日入力!$M$3,F22:F23)","v":0},null,235,{"$f":"DSUM(部品本日入力!$B$3:$N$5008,部品本日入力!$M$3,I22:I23)","v":0},null,300,{"$f":"DSUM(部品本日入力!$B$3:$N$5008,部品本日入力!$M$3,L22:L23)","v":0},null,511,{"$f":"DSUM(部品本日入力!$B$3:$N$5008,部品本日入力!$M$3,O22:O23)","v":0},null,10,{"$f":"DSUM(経費本日入力!$B$3:$K$2000,経費本日入力!$J$3,R22:R23)","v":0},null,160,{"$f":"DSUM(経費本日入力!$B$3:$K$2000,経費本日入力!$J$3,U22:U23)","v":0},null,235,{"$f":"DSUM(経費本日入力!$B$3:$K$2000,経費本日入力!$J$3,X22:X23)","v":0},null,300,{"$f":"DSUM(経費本日入力!$B$3:$K$2000,経費本日入力!$J$3,AA22:AA23)","v":0},null,511,{"$f":"DSUM(経費本日入力!$B$3:$K$2000,経費本日入力!$J$3,AD22:AD23)","v":0}]
[null,null,"CODE",null,null,"CODE",null,null,"CODE",null,null,"CODE",null,null,"CODE",null,null,"CODE",null,null,"CODE",null,null,"CODE",null,null,"CODE",null,null,"CODE"]
[null,null,11,{"$f":"DSUM(部品本日入力!$B$3:$N$5008,部品本日入力!$M$3,C24:C25)","v":0},null,161,{"$f":"DSUM(部品本日入力!$B$3:$N$5008,部品本日入力!$M$3,F24:F25)","v":0},null,236,{"$f":"DSUM(部品本日入力!$B$3:$N$5008,部品本日入力!$M$3,I24:I25)","v":0},null,301,{"$f":"DSUM(部品本日入力!$B$3:$N$5008,部品本日入力!$M$3,L24:L25)","v":0},null,512,{"$f":"DSUM(部品本日入力!$B$3:$N$5008,部品本日入力!$M$3,O24:O25)","v":0},null,11,{"$f":"DSUM(経費本日入力!$B$3:$K$2000,経費本日入力!$J$3,R24:R25)","v":0},null,161,{"$f":"DSUM(経費本日入力!$B$3:$K$2000,経費本日入力!$J$3,U24:U25)","v":0},null,236,{"$f":"DSUM(経費本日入力!$B$3:$K$2000,経費本日入力!$J$3,X24:X25)","v":0},null,301,{"$f":"DSUM(経費本日入力!$B$3:$K$2000,経費本日入力!$J$3,AA24:AA25)","v":0},null,512,{"$f":"DSUM(経費本日入力!$B$3:$K$2000,経費本日入力!$J$3,AD24:AD25)","v":0}]
[null,null,"CODE",null,null,"CODE",null,null,"CODE",null,null,"CODE",null,null,"CODE",null,null,"CODE",null,null,"CODE",null,null,"CODE",null,null,"CODE",null,null,"CODE"]
[null,null,12,{"$f":"DSUM(部品本日入力!$B$3:$N$5008,部品本日入力!$M$3,C26:C27)","v":0},null,162,{"$f":"DSUM(部品本日入力!$B$3:$N$5008,部品本日入力!$M$3,F26:F27)","v":0},null,237,{"$f":"DSUM(部品本日入力!$B$3:$N$5008,部品本日入力!$M$3,I26:I27)","v":0},null,302,{"$f":"DSUM(部品本日入力!$B$3:$N$5008,部品本日入力!$M$3,L26:L27)","v":0},null,513,{"$f":"DSUM(部品本日入力!$B$3:$N$5008,部品本日入力!$M$3,O26:O27)","v":0},null,12,{"$f":"DSUM(経費本日入力!$B$3:$K$2000,経費本日入力!$J$3,R26:R27)","v":0},null,162,{"$f":"DSUM(経費本日入力!$B$3:$K$2000,経費本日入力!$J$3,U26:U27)","v":0},null,237,{"$f":"DSUM(経費本日入力!$B$3:$K$2000,経費本日入力!$J$3,X26:X27)","v":0},null,302,{"$f":"DSUM(経費本日入力!$B$3:$K$2000,経費本日入力!$J$3,AA26:AA27)","v":0},null,513,{"$f":"DSUM(経費本日入力!$B$3:$K$2000,経費本日入力!$J$3,AD26:AD27)","v":0}]
[null,null,"CODE",null,null,"CODE",null,null,"CODE",null,null,"CODE",null,null,"CODE",null,null,"CODE",null,null,"CODE",null,null,"CODE",null,null,"CODE",null,null,"CODE"]
[null,null,13,{"$f":"DSUM(部品本日入力!$B$3:$N$5008,部品本日入力!$M$3,C28:C29)","v":0},null,163,{"$f":"DSUM(部品本日入力!$B$3:$N$5008,部品本日入力!$M$3,F28:F29)","v":0},null,238,{"$f":"DSUM(部品本日入力!$B$3:$N$5008,部品本日入力!$M$3,I28:I29)","v":0},null,303,{"$f":"DSUM(部品本日入力!$B$3:$N$5008,部品本日入力!$M$3,L28:L29)","v":0},null,514,{"$f":"DSUM(部品本日入力!$B$3:$N$5008,部品本日入力!$M$3,O28:O29)","v":0},null,13,{"$f":"DSUM(経費本日入力!$B$3:$K$2000,経費本日入力!$J$3,R28:R29)","v":0},null,163,{"$f":"DSUM(経費本日入力!$B$3:$K$2000,経費本日入力!$J$3,U28:U29)","v":0},null,238,{"$f":"DSUM(経費本日入力!$B$3:$K$2000,経費本日入力!$J$3,X28:X29)","v":0},null,303,{"$f":"DSUM(経費本日入力!$B$3:$K$2000,経費本日入力!$J$3,AA28:AA29)","v":0},null,514,{"$f":"DSUM(経費本日入力!$B$3:$K$2000,経費本日入力!$J$3,AD28:AD29)","v":0}]
[null,null,"CODE",null,null,"CODE",null,null,"CODE",null,null,"CODE",null,null,"CODE",null,null,"CODE",null,null,"CODE",null,null,"CODE",null,null,"CODE",null,null,"CODE"]
[null,null,14,{"$f":"DSUM(部品本日入力!$B$3:$N$5008,部品本日入力!$M$3,C30:C31)","v":0},null,164,{"$f":"DSUM(部品本日入力!$B$3:$N$5008,部品本日入力!$M$3,F30:F31)","v":0},null,239,{"$f":"DSUM(部品本日入力!$B$3:$N$5008,部品本日入力!$M$3,I30:I31)","v":0},null,304,{"$f":"DSUM(部品本日入力!$B$3:$N$5008,部品本日入力!$M$3,L30:L31)","v":0},null,515,{"$f":"DSUM(部品本日入力!$B$3:$N$5008,部品本日入力!$M$3,O30:O31)","v":0},null,14,{"$f":"DSUM(経費本日入力!$B$3:$K$2000,経費本日入力!$J$3,R30:R31)","v":0},null,164,{"$f":"DSUM(経費本日入力!$B$3:$K$2000,経費本日入力!$J$3,U30:U31)","v":0},null,239,{"$f":"DSUM(経費本日入力!$B$3:$K$2000,経費本日入力!$J$3,X30:X31)","v":0},null,304,{"$f":"DSUM(経費本日入力!$B$3:$K$2000,経費本日入力!$J$3,AA30:AA31)","v":0},null,515,{"$f":"DSUM(経費本日入力!$B$3:$K$2000,経費本日入力!$J$3,AD30:AD31)","v":0}]
[null,null,"CODE",null,null,"CODE",null,null,"CODE",null,null,"CODE",null,null,"CODE",null,null,"CODE",null,null,"CODE",null,null,"CODE",null,null,"CODE",null,null,"CODE"]
[null,null,15,{"$f":"DSUM(部品本日入力!$B$3:$N$5008,部品本日入力!$M$3,C32:C33)","v":0},null,165,{"$f":"DSUM(部品本日入力!$B$3:$N$5008,部品本日入力!$M$3,F32:F33)","v":0},null,240,{"$f":"DSUM(部品本日入力!$B$3:$N$5008,部品本日入力!$M$3,I32:I33)","v":0},null,305,{"$f":"DSUM(部品本日入力!$B$3:$N$5008,部品本日入力!$M$3,L32:L33)","v":0},null,516,{"$f":"DSUM(部品本日入力!$B$3:$N$5008,部品本日入力!$M$3,O32:O33)","v":0},null,15,{"$f":"DSUM(経費本日入力!$B$3:$K$2000,経費本日入力!$J$3,R32:R33)","v":0},null,165,{"$f":"DSUM(経費本日入力!$B$3:$K$2000,経費本日入力!$J$3,U32:U33)","v":0},null,240,{"$f":"DSUM(経費本日入力!$B$3:$K$2000,経費本日入力!$J$3,X32:X33)","v":0},null,305,{"$f":"DSUM(経費本日入力!$B$3:$K$2000,経費本日入力!$J$3,AA32:AA33)","v":0},null,516,{"$f":"DSUM(経費本日入力!$B$3:$K$2000,経費本日入力!$J$3,AD32:AD33)","v":0}]
[null,null,"CODE",null,null,"CODE",null,null,"CODE",null,null,"CODE",null,null,"CODE",null,null,"CODE",null,null,"CODE",null,null,"CODE",null,null,"CODE",null,null,"CODE"]
[null,null,16,{"$f":"DSUM(部品本日入力!$B$3:$N$5008,部品本日入力!$M$3,C34:C35)","v":0},null,166,{"$f":"DSUM(部品本日入力!$B$3:$N$5008,部品本日入力!$M$3,F34:F35)","v":3500},null,241,{"$f":"DSUM(部品本日入力!$B$3:$N$5008,部品本日入力!$M$3,I34:I35)","v":0},null,306,{"$f":"DSUM(部品本日入力!$B$3:$N$5008,部品本日入力!$M$3,L34:L35)","v":0},null,517,{"$f":"DSUM(部品本日入力!$B$3:$N$5008,部品本日入力!$M$3,O34:O35)","v":0},null,16,{"$f":"DSUM(経費本日入力!$B$3:$K$2000,経費本日入力!$J$3,R34:R35)","v":0},null,166,{"$f":"DSUM(経費本日入力!$B$3:$K$2000,経費本日入力!$J$3,U34:U35)","v":0},null,241,{"$f":"DSUM(経費本日入力!$B$3:$K$2000,経費本日入力!$J$3,X34:X35)","v":0},null,306,{"$f":"DSUM(経費本日入力!$B$3:$K$2000,経費本日入力!$J$3,AA34:AA35)","v":0},null,517,{"$f":"DSUM(経費本日入力!$B$3:$K$2000,経費本日入力!$J$3,AD34:AD35)","v":0}]
[null,null,"CODE",null,null,"CODE",null,null,"CODE",null,null,"CODE",null,null,"CODE",null,null,"CODE",null,null,"CODE",null,null,"CODE",null,null,"CODE",null,null,"CODE"]
[null,null,17,{"$f":"DSUM(部品本日入力!$B$3:$N$5008,部品本日入力!$M$3,C36:C37)","v":0},null,167,{"$f":"DSUM(部品本日入力!$B$3:$N$5008,部品本日入力!$M$3,F36:F37)","v":0},null,242,{"$f":"DSUM(部品本日入力!$B$3:$N$5008,部品本日入力!$M$3,I36:I37)","v":0},null,307,{"$f":"DSUM(部品本日入力!$B$3:$N$5008,部品本日入力!$M$3,L36:L37)","v":0},null,518,{"$f":"DSUM(部品本日入力!$B$3:$N$5008,部品本日入力!$M$3,O36:O37)","v":0},null,17,{"$f":"DSUM(経費本日入力!$B$3:$K$2000,経費本日入力!$J$3,R36:R37)","v":0},null,167,{"$f":"DSUM(経費本日入力!$B$3:$K$2000,経費本日入力!$J$3,U36:U37)","v":0},null,242,{"$f":"DSUM(経費本日入力!$B$3:$K$2000,経費本日入力!$J$3,X36:X37)","v":0},null,307,{"$f":"DSUM(経費本日入力!$B$3:$K$2000,経費本日入力!$J$3,AA36:AA37)","v":0},null,518,{"$f":"DSUM(経費本日入力!$B$3:$K$2000,経費本日入力!$J$3,AD36:AD37)","v":0}]
[null,null,"CODE",null,null,"CODE",null,null,"CODE",null,null,"CODE",null,null,"CODE",null,null,"CODE",null,null,"CODE",null,null,"CODE",null,null,"CODE",null,null,"CODE"]
[null,null,18,{"$f":"DSUM(部品本日入力!$B$3:$N$5008,部品本日入力!$M$3,C38:C39)","v":0},null,168,{"$f":"DSUM(部品本日入力!$B$3:$N$5008,部品本日入力!$M$3,F38:F39)","v":0},null,243,{"$f":"DSUM(部品本日入力!$B$3:$N$5008,部品本日入力!$M$3,I38:I39)","v":0},null,308,{"$f":"DSUM(部品本日入力!$B$3:$N$5008,部品本日入力!$M$3,L38:L39)","v":0},null,519,{"$f":"DSUM(部品本日入力!$B$3:$N$5008,部品本日入力!$M$3,O38:O39)","v":0},null,18,{"$f":"DSUM(経費本日入力!$B$3:$K$2000,経費本日入力!$J$3,R38:R39)","v":0},null,168,{"$f":"DSUM(経費本日入力!$B$3:$K$2000,経費本日入力!$J$3,U38:U39)","v":0},null,243,{"$f":"DSUM(経費本日入力!$B$3:$K$2000,経費本日入力!$J$3,X38:X39)","v":0},null,308,{"$f":"DSUM(経費本日入力!$B$3:$K$2000,経費本日入力!$J$3,AA38:AA39)","v":0},null,519,{"$f":"DSUM(経費本日入力!$B$3:$K$2000,経費本日入力!$J$3,AD38:AD39)","v":0}]
[null,null,"CODE",null,null,"CODE",null,null,"CODE",null,null,"CODE",null,null,"CODE",null,null,"CODE",null,null,"CODE",null,null,"CODE",null,null,"CODE",null,null,"CODE"]
[null,null,19,{"$f":"DSUM(部品本日入力!$B$3:$N$5008,部品本日入力!$M$3,C40:C41)","v":0},null,169,{"$f":"DSUM(部品本日入力!$B$3:$N$5008,部品本日入力!$M$3,F40:F41)","v":0},null,244,{"$f":"DSUM(部品本日入力!$B$3:$N$5008,部品本日入力!$M$3,I40:I41)","v":0},null,309,{"$f":"DSUM(部品本日入力!$B$3:$N$5008,部品本日入力!$M$3,L40:L41)","v":0},null,520,{"$f":"DSUM(部品本日入力!$B$3:$N$5008,部品本日入力!$M$3,O40:O41)","v":0},null,19,{"$f":"DSUM(経費本日入力!$B$3:$K$2000,経費本日入力!$J$3,R40:R41)","v":0},null,169,{"$f":"DSUM(経費本日入力!$B$3:$K$2000,経費本日入力!$J$3,U40:U41)","v":0},null,244,{"$f":"DSUM(経費本日入力!$B$3:$K$2000,経費本日入力!$J$3,X40:X41)","v":0},null,309,{"$f":"DSUM(経費本日入力!$B$3:$K$2000,経費本日入力!$J$3,AA40:AA41)","v":0},null,520,{"$f":"DSUM(経費本日入力!$B$3:$K$2000,経費本日入力!$J$3,AD40:AD41)","v":0}]
[null,null,"CODE",null,null,"CODE",null,null,"CODE",null,null,"CODE",null,null,"CODE",null,null,"CODE",null,null,"CODE",null,null,"CODE",null,null,"CODE",null,null,"CODE"]
[null,null,20,{"$f":"DSUM(部品本日入力!$B$3:$N$5008,部品本日入力!$M$3,C42:C43)","v":0},null,170,{"$f":"DSUM(部品本日入力!$B$3:$N$5008,部品本日入力!$M$3,F42:F43)","v":0},null,245,{"$f":"DSUM(部品本日入力!$B$3:$N$5008,部品本日入力!$M$3,I42:I43)","v":0},null,310,{"$f":"DSUM(部品本日入力!$B$3:$N$5008,部品本日入力!$M$3,L42:L43)","v":0},null,521,{"$f":"DSUM(部品本日入力!$B$3:$N$5008,部品本日入力!$M$3,O42:O43)","v":0},null,20,{"$f":"DSUM(経費本日入力!$B$3:$K$2000,経費本日入力!$J$3,R42:R43)","v":0},null,170,{"$f":"DSUM(経費本日入力!$B$3:$K$2000,経費本日入力!$J$3,U42:U43)","v":0},null,245,{"$f":"DSUM(経費本日入力!$B$3:$K$2000,経費本日入力!$J$3,X42:X43)","v":0},null,310,{"$f":"DSUM(経費本日入力!$B$3:$K$2000,経費本日入力!$J$3,AA42:AA43)","v":0},null,521,{"$f":"DSUM(経費本日入力!$B$3:$K$2000,経費本日入力!$J$3,AD42:AD43)","v":0}]
[null,null,"CODE",null,null,"CODE",null,null,"CODE",null,null,"CODE",null,null,"CODE",null,null,"CODE",null,null,"CODE",null,null,"CODE",null,null,"CODE",null,null,"CODE"]
[null,null,21,{"$f":"DSUM(部品本日入力!$B$3:$N$5008,部品本日入力!$M$3,C44:C45)","v":0},null,171,{"$f":"DSUM(部品本日入力!$B$3:$N$5008,部品本日入力!$M$3,F44:F45)","v":0},null,246,{"$f":"DSUM(部品本日入力!$B$3:$N$5008,部品本日入力!$M$3,I44:I45)","v":0},null,311,{"$f":"DSUM(部品本日入力!$B$3:$N$5008,部品本日入力!$M$3,L44:L45)","v":0},null,522,{"$f":"DSUM(部品本日入力!$B$3:$N$5008,部品本日入力!$M$3,O44:O45)","v":0},null,21,{"$f":"DSUM(経費本日入力!$B$3:$K$2000,経費本日入力!$J$3,R44:R45)","v":0},null,171,{"$f":"DSUM(経費本日入力!$B$3:$K$2000,経費本日入力!$J$3,U44:U45)","v":0},null,246,{"$f":"DSUM(経費本日入力!$B$3:$K$2000,経費本日入力!$J$3,X44:X45)","v":0},null,311,{"$f":"DSUM(経費本日入力!$B$3:$K$2000,経費本日入力!$J$3,AA44:AA45)","v":0},null,522,{"$f":"DSUM(経費本日入力!$B$3:$K$2000,経費本日入力!$J$3,AD44:AD45)","v":0}]
[null,null,"CODE",null,null,"CODE",null,null,"CODE",null,null,"CODE",null,null,"CODE",null,null,"CODE",null,null,"CODE",null,null,"CODE",null,null,"CODE",null,null,"CODE"]
[null,null,101,{"$f":"DSUM(部品本日入力!$B$3:$N$5008,部品本日入力!$M$3,C46:C47)","v":0},null,172,{"$f":"DSUM(部品本日入力!$B$3:$N$5008,部品本日入力!$M$3,F46:F47)","v":0},null,247,{"$f":"DSUM(部品本日入力!$B$3:$N$5008,部品本日入力!$M$3,I46:I47)","v":0},null,312,{"$f":"DSUM(部品本日入力!$B$3:$N$5008,部品本日入力!$M$3,L46:L47)","v":0},null,523,{"$f":"DSUM(部品本日入力!$B$3:$N$5008,部品本日入力!$M$3,O46:O47)","v":0},null,101,{"$f":"DSUM(経費本日入力!$B$3:$K$2000,経費本日入力!$J$3,R46:R47)","v":0},null,172,{"$f":"DSUM(経費本日入力!$B$3:$K$2000,経費本日入力!$J$3,U46:U47)","v":0},null,247,{"$f":"DSUM(経費本日入力!$B$3:$K$2000,経費本日入力!$J$3,X46:X47)","v":0},null,312,{"$f":"DSUM(経費本日入力!$B$3:$K$2000,経費本日入力!$J$3,AA46:AA47)","v":0},null,523,{"$f":"DSUM(経費本日入力!$B$3:$K$2000,経費本日入力!$J$3,AD46:AD47)","v":0}]
[null,null,"CODE",null,null,"CODE",null,null,"CODE",null,null,"CODE",null,null,"CODE",null,null,"CODE",null,null,"CODE",null,null,"CODE",null,null,"CODE",null,null,"CODE"]
[null,null,102,{"$f":"DSUM(部品本日入力!$B$3:$N$5008,部品本日入力!$M$3,C48:C49)","v":0},null,173,{"$f":"DSUM(部品本日入力!$B$3:$N$5008,部品本日入力!$M$3,F48:F49)","v":0},null,248,{"$f":"DSUM(部品本日入力!$B$3:$N$5008,部品本日入力!$M$3,I48:I49)","v":0},null,313,{"$f":"DSUM(部品本日入力!$B$3:$N$5008,部品本日入力!$M$3,L48:L49)","v":0},null,524,{"$f":"DSUM(部品本日入力!$B$3:$N$5008,部品本日入力!$M$3,O48:O49)","v":0},null,102,{"$f":"DSUM(経費本日入力!$B$3:$K$2000,経費本日入力!$J$3,R48:R49)","v":0},null,173,{"$f":"DSUM(経費本日入力!$B$3:$K$2000,経費本日入力!$J$3,U48:U49)","v":0},null,248,{"$f":"DSUM(経費本日入力!$B$3:$K$2000,経費本日入力!$J$3,X48:X49)","v":0},null,313,{"$f":"DSUM(経費本日入力!$B$3:$K$2000,経費本日入力!$J$3,AA48:AA49)","v":0},null,524,{"$f":"DSUM(経費本日入力!$B$3:$K$2000,経費本日入力!$J$3,AD48:AD49)","v":0}]
[null,null,"CODE",null,null,"CODE",null,null,"CODE",null,null,"CODE",null,null,"CODE",null,null,"CODE",null,null,"CODE",null,null,"CODE",null,null,"CODE",null,null,"CODE"]
[null,null,103,{"$f":"DSUM(部品本日入力!$B$3:$N$5008,部品本日入力!$M$3,C50:C51)","v":0},null,174,{"$f":"DSUM(部品本日入力!$B$3:$N$5008,部品本日入力!$M$3,F50:F51)","v":0},null,249,{"$f":"DSUM(部品本日入力!$B$3:$N$5008,部品本日入力!$M$3,I50:I51)","v":0},null,314,{"$f":"DSUM(部品本日入力!$B$3:$N$5008,部品本日入力!$M$3,L50:L51)","v":0},null,525,{"$f":"DSUM(部品本日入力!$B$3:$N$5008,部品本日入力!$M$3,O50:O51)","v":0},null,103,{"$f":"DSUM(経費本日入力!$B$3:$K$2000,経費本日入力!$J$3,R50:R51)","v":0},null,174,{"$f":"DSUM(経費本日入力!$B$3:$K$2000,経費本日入力!$J$3,U50:U51)","v":0},null,249,{"$f":"DSUM(経費本日入力!$B$3:$K$2000,経費本日入力!$J$3,X50:X51)","v":0},null,314,{"$f":"DSUM(経費本日入力!$B$3:$K$2000,経費本日入力!$J$3,AA50:AA51)","v":0},null,525,{"$f":"DSUM(経費本日入力!$B$3:$K$2000,経費本日入力!$J$3,AD50:AD51)","v":0}]
[null,null,"CODE",null,null,"CODE",null,null,"CODE",null,null,"CODE",null,null,"CODE",null,null,"CODE",null,null,"CODE",null,null,"CODE",null,null,"CODE",null,null,"CODE"]
[null,null,104,{"$f":"DSUM(部品本日入力!$B$3:$N$5008,部品本日入力!$M$3,C52:C53)","v":0},null,175,{"$f":"DSUM(部品本日入力!$B$3:$N$5008,部品本日入力!$M$3,F52:F53)","v":0},null,250,{"$f":"DSUM(部品本日入力!$B$3:$N$5008,部品本日入力!$M$3,I52:I53)","v":0},null,315,{"$f":"DSUM(部品本日入力!$B$3:$N$5008,部品本日入力!$M$3,L52:L53)","v":0},null,526,{"$f":"DSUM(部品本日入力!$B$3:$N$5008,部品本日入力!$M$3,O52:O53)","v":0},null,104,{"$f":"DSUM(経費本日入力!$B$3:$K$2000,経費本日入力!$J$3,R52:R53)","v":0},null,175,{"$f":"DSUM(経費本日入力!$B$3:$K$2000,経費本日入力!$J$3,U52:U53)","v":0},null,250,{"$f":"DSUM(経費本日入力!$B$3:$K$2000,経費本日入力!$J$3,X52:X53)","v":0},null,315,{"$f":"DSUM(経費本日入力!$B$3:$K$2000,経費本日入力!$J$3,AA52:AA53)","v":0},null,526,{"$f":"DSUM(経費本日入力!$B$3:$K$2000,経費本日入力!$J$3,AD52:AD53)","v":0}]
[null,null,"CODE",null,null,"CODE",null,null,"CODE",null,null,"CODE",null,null,"CODE",null,null,"CODE",null,null,"CODE",null,null,"CODE",null,null,"CODE",null,null,"CODE"]
[null,null,105,{"$f":"DSUM(部品本日入力!$B$3:$N$5008,部品本日入力!$M$3,C54:C55)","v":0},null,176,{"$f":"DSUM(部品本日入力!$B$3:$N$5008,部品本日入力!$M$3,F54:F55)","v":0},null,251,{"$f":"DSUM(部品本日入力!$B$3:$N$5008,部品本日入力!$M$3,I54:I55)","v":0},null,316,{"$f":"DSUM(部品本日入力!$B$3:$N$5008,部品本日入力!$M$3,L54:L55)","v":0},null,527,{"$f":"DSUM(部品本日入力!$B$3:$N$5008,部品本日入力!$M$3,O54:O55)","v":0},null,105,{"$f":"DSUM(経費本日入力!$B$3:$K$2000,経費本日入力!$J$3,R54:R55)","v":0},null,176,{"$f":"DSUM(経費本日入力!$B$3:$K$2000,経費本日入力!$J$3,U54:U55)","v":0},null,251,{"$f":"DSUM(経費本日入力!$B$3:$K$2000,経費本日入力!$J$3,X54:X55)","v":0},null,316,{"$f":"DSUM(経費本日入力!$B$3:$K$2000,経費本日入力!$J$3,AA54:AA55)","v":0},null,527,{"$f":"DSUM(経費本日入力!$B$3:$K$2000,経費本日入力!$J$3,AD54:AD55)","v":0}]
[null,null,"CODE",null,null,"CODE",null,null,"CODE",null,null,"CODE",null,null,"CODE",null,null,"CODE",null,null,"CODE",null,null,"CODE",null,null,"CODE",null,null,"CODE"]
[null,null,106,{"$f":"DSUM(部品本日入力!$B$3:$N$5008,部品本日入力!$M$3,C56:C57)","v":0},null,177,{"$f":"DSUM(部品本日入力!$B$3:$N$5008,部品本日入力!$M$3,F56:F57)","v":0},null,252,{"$f":"DSUM(部品本日入力!$B$3:$N$5008,部品本日入力!$M$3,I56:I57)","v":0},null,317,{"$f":"DSUM(部品本日入力!$B$3:$N$5008,部品本日入力!$M$3,L56:L57)","v":0},null,528,{"$f":"DSUM(部品本日入力!$B$3:$N$5008,部品本日入力!$M$3,O56:O57)","v":0},null,106,{"$f":"DSUM(経費本日入力!$B$3:$K$2000,経費本日入力!$J$3,R56:R57)","v":0},null,177,{"$f":"DSUM(経費本日入力!$B$3:$K$2000,経費本日入力!$J$3,U56:U57)","v":0},null,252,{"$f":"DSUM(経費本日入力!$B$3:$K$2000,経費本日入力!$J$3,X56:X57)","v":0},null,317,{"$f":"DSUM(経費本日入力!$B$3:$K$2000,経費本日入力!$J$3,AA56:AA57)","v":0},null,528,{"$f":"DSUM(経費本日入力!$B$3:$K$2000,経費本日入力!$J$3,AD56:AD57)","v":0}]
[null,null,"CODE",null,null,"CODE",null,null,"CODE",null,null,"CODE",null,null,"CODE",null,null,"CODE",null,null,"CODE",null,null,"CODE",null,null,"CODE",null,null,"CODE"]
[null,null,107,{"$f":"DSUM(部品本日入力!$B$3:$N$5008,部品本日入力!$M$3,C58:C59)","v":0},null,178,{"$f":"DSUM(部品本日入力!$B$3:$N$5008,部品本日入力!$M$3,F58:F59)","v":0},null,253,{"$f":"DSUM(部品本日入力!$B$3:$N$5008,部品本日入力!$M$3,I58:I59)","v":0},null,318,{"$f":"DSUM(部品本日入力!$B$3:$N$5008,部品本日入力!$M$3,L58:L59)","v":0},null,529,{"$f":"DSUM(部品本日入力!$B$3:$N$5008,部品本日入力!$M$3,O58:O59)","v":0},null,107,{"$f":"DSUM(経費本日入力!$B$3:$K$2000,経費本日入力!$J$3,R58:R59)","v":0},null,178,{"$f":"DSUM(経費本日入力!$B$3:$K$2000,経費本日入力!$J$3,U58:U59)","v":0},null,253,{"$f":"DSUM(経費本日入力!$B$3:$K$2000,経費本日入力!$J$3,X58:X59)","v":0},null,318,{"$f":"DSUM(経費本日入力!$B$3:$K$2000,経費本日入力!$J$3,AA58:AA59)","v":0},null,529,{"$f":"DSUM(経費本日入力!$B$3:$K$2000,経費本日入力!$J$3,AD58:AD59)","v":0}]
[null,null,"CODE",null,null,"CODE",null,null,"CODE",null,null,"CODE",null,null,"CODE",null,null,"CODE",null,null,"CODE",null,null,"CODE",null,null,"CODE",null,null,"CODE"]
[null,null,108,{"$f":"DSUM(部品本日入力!$B$3:$N$5008,部品本日入力!$M$3,C60:C61)","v":0},null,179,{"$f":"DSUM(部品本日入力!$B$3:$N$5008,部品本日入力!$M$3,F60:F61)","v":0},null,254,{"$f":"DSUM(部品本日入力!$B$3:$N$5008,部品本日入力!$M$3,I60:I61)","v":0},null,319,{"$f":"DSUM(部品本日入力!$B$3:$N$5008,部品本日入力!$M$3,L60:L61)","v":0},null,530,{"$f":"DSUM(部品本日入力!$B$3:$N$5008,部品本日入力!$M$3,O60:O61)","v":0},null,108,{"$f":"DSUM(経費本日入力!$B$3:$K$2000,経費本日入力!$J$3,R60:R61)","v":0},null,179,{"$f":"DSUM(経費本日入力!$B$3:$K$2000,経費本日入力!$J$3,U60:U61)","v":0},null,254,{"$f":"DSUM(経費本日入力!$B$3:$K$2000,経費本日入力!$J$3,X60:X61)","v":0},null,319,{"$f":"DSUM(経費本日入力!$B$3:$K$2000,経費本日入力!$J$3,AA60:AA61)","v":0},null,530,{"$f":"DSUM(経費本日入力!$B$3:$K$2000,経費本日入力!$J$3,AD60:AD61)","v":0}]
[null,null,"CODE",null,null,"CODE",null,null,"CODE",null,null,"CODE",null,null,"CODE",null,null,"CODE",null,null,"CODE",null,null,"CODE",null,null,"CODE",null,null,"CODE"]
[null,null,109,{"$f":"DSUM(部品本日入力!$B$3:$N$5008,部品本日入力!$M$3,C62:C63)","v":0},null,180,{"$f":"DSUM(部品本日入力!$B$3:$N$5008,部品本日入力!$M$3,F62:F63)","v":0},null,255,{"$f":"DSUM(部品本日入力!$B$3:$N$5008,部品本日入力!$M$3,I62:I63)","v":0},null,320,{"$f":"DSUM(部品本日入力!$B$3:$N$5008,部品本日入力!$M$3,L62:L63)","v":0},null,531,{"$f":"DSUM(部品本日入力!$B$3:$N$5008,部品本日入力!$M$3,O62:O63)","v":0},null,109,{"$f":"DSUM(経費本日入力!$B$3:$K$2000,経費本日入力!$J$3,R62:R63)","v":0},null,180,{"$f":"DSUM(経費本日入力!$B$3:$K$2000,経費本日入力!$J$3,U62:U63)","v":0},null,255,{"$f":"DSUM(経費本日入力!$B$3:$K$2000,経費本日入力!$J$3,X62:X63)","v":0},null,320,{"$f":"DSUM(経費本日入力!$B$3:$K$2000,経費本日入力!$J$3,AA62:AA63)","v":0},null,531,{"$f":"DSUM(経費本日入力!$B$3:$K$2000,経費本日入力!$J$3,AD62:AD63)","v":0}]
[null,null,"CODE",null,null,"CODE",null,null,"CODE",null,null,"CODE",null,null,"CODE",null,null,"CODE",null,null,"CODE",null,null,"CODE",null,null,"CODE",null,null,"CODE"]
[null,null,110,{"$f":"DSUM(部品本日入力!$B$3:$N$5008,部品本日入力!$M$3,C64:C65)","v":0},null,181,{"$f":"DSUM(部品本日入力!$B$3:$N$5008,部品本日入力!$M$3,F64:F65)","v":0},null,256,{"$f":"DSUM(部品本日入力!$B$3:$N$5008,部品本日入力!$M$3,I64:I65)","v":0},null,321,{"$f":"DSUM(部品本日入力!$B$3:$N$5008,部品本日入力!$M$3,L64:L65)","v":0},null,532,{"$f":"DSUM(部品本日入力!$B$3:$N$5008,部品本日入力!$M$3,O64:O65)","v":0},null,110,{"$f":"DSUM(経費本日入力!$B$3:$K$2000,経費本日入力!$J$3,R64:R65)","v":0},null,181,{"$f":"DSUM(経費本日入力!$B$3:$K$2000,経費本日入力!$J$3,U64:U65)","v":0},null,256,{"$f":"DSUM(経費本日入力!$B$3:$K$2000,経費本日入力!$J$3,X64:X65)","v":0},null,321,{"$f":"DSUM(経費本日入力!$B$3:$K$2000,経費本日入力!$J$3,AA64:AA65)","v":0},null,532,{"$f":"DSUM(経費本日入力!$B$3:$K$2000,経費本日入力!$J$3,AD64:AD65)","v":0}]
[null,null,"CODE",null,null,"CODE",null,null,"CODE",null,null,"CODE",null,null,"CODE",null,null,"CODE",null,null,"CODE",null,null,"CODE",null,null,"CODE",null,null,"CODE"]
[null,null,111,{"$f":"DSUM(部品本日入力!$B$3:$N$5008,部品本日入力!$M$3,C66:C67)","v":0},null,182,{"$f":"DSUM(部品本日入力!$B$3:$N$5008,部品本日入力!$M$3,F66:F67)","v":0},null,257,{"$f":"DSUM(部品本日入力!$B$3:$N$5008,部品本日入力!$M$3,I66:I67)","v":0},null,322,{"$f":"DSUM(部品本日入力!$B$3:$N$5008,部品本日入力!$M$3,L66:L67)","v":0},null,533,{"$f":"DSUM(部品本日入力!$B$3:$N$5008,部品本日入力!$M$3,O66:O67)","v":0},null,111,{"$f":"DSUM(経費本日入力!$B$3:$K$2000,経費本日入力!$J$3,R66:R67)","v":0},null,182,{"$f":"DSUM(経費本日入力!$B$3:$K$2000,経費本日入力!$J$3,U66:U67)","v":0},null,257,{"$f":"DSUM(経費本日入力!$B$3:$K$2000,経費本日入力!$J$3,X66:X67)","v":0},null,322,{"$f":"DSUM(経費本日入力!$B$3:$K$2000,経費本日入力!$J$3,AA66:AA67)","v":0},null,533,{"$f":"DSUM(経費本日入力!$B$3:$K$2000,経費本日入力!$J$3,AD66:AD67)","v":0}]
[null,null,"CODE",null,null,"CODE",null,null,"CODE",null,null,"CODE",null,null,"CODE",null,null,"CODE",null,null,"CODE",null,null,"CODE",null,null,"CODE",null,null,"CODE"]
[null,null,112,{"$f":"DSUM(部品本日入力!$B$3:$N$5008,部品本日入力!$M$3,C68:C69)","v":0},null,183,{"$f":"DSUM(部品本日入力!$B$3:$N$5008,部品本日入力!$M$3,F68:F69)","v":0},null,258,{"$f":"DSUM(部品本日入力!$B$3:$N$5008,部品本日入力!$M$3,I68:I69)","v":0},null,323,{"$f":"DSUM(部品本日入力!$B$3:$N$5008,部品本日入力!$M$3,L68:L69)","v":0},null,534,{"$f":"DSUM(部品本日入力!$B$3:$N$5008,部品本日入力!$M$3,O68:O69)","v":0},null,112,{"$f":"DSUM(経費本日入力!$B$3:$K$2000,経費本日入力!$J$3,R68:R69)","v":0},null,183,{"$f":"DSUM(経費本日入力!$B$3:$K$2000,経費本日入力!$J$3,U68:U69)","v":0},null,258,{"$f":"DSUM(経費本日入力!$B$3:$K$2000,経費本日入力!$J$3,X68:X69)","v":0},null,323,{"$f":"DSUM(経費本日入力!$B$3:$K$2000,経費本日入力!$J$3,AA68:AA69)","v":0},null,534,{"$f":"DSUM(経費本日入力!$B$3:$K$2000,経費本日入力!$J$3,AD68:AD69)","v":0}]
[null,null,"CODE",null,null,"CODE",null,null,"CODE",null,null,"CODE",null,null,"CODE",null,null,"CODE",null,null,"CODE",null,null,"CODE",null,null,"CODE",null,null,"CODE"]
[null,null,113,{"$f":"DSUM(部品本日入力!$B$3:$N$5008,部品本日入力!$M$3,C70:C71)","v":0},null,184,{"$f":"DSUM(部品本日入力!$B$3:$N$5008,部品本日入力!$M$3,F70:F71)","v":0},null,259,{"$f":"DSUM(部品本日入力!$B$3:$N$5008,部品本日入力!$M$3,I70:I71)","v":0},null,324,{"$f":"DSUM(部品本日入力!$B$3:$N$5008,部品本日入力!$M$3,L70:L71)","v":0},null,535,{"$f":"DSUM(部品本日入力!$B$3:$N$5008,部品本日入力!$M$3,O70:O71)","v":0},null,113,{"$f":"DSUM(経費本日入力!$B$3:$K$2000,経費本日入力!$J$3,R70:R71)","v":0},null,184,{"$f":"DSUM(経費本日入力!$B$3:$K$2000,経費本日入力!$J$3,U70:U71)","v":0},null,259,{"$f":"DSUM(経費本日入力!$B$3:$K$2000,経費本日入力!$J$3,X70:X71)","v":0},null,324,{"$f":"DSUM(経費本日入力!$B$3:$K$2000,経費本日入力!$J$3,AA70:AA71)","v":0},null,535,{"$f":"DSUM(経費本日入力!$B$3:$K$2000,経費本日入力!$J$3,AD70:AD71)","v":0}]
[null,null,"CODE",null,null,"CODE",null,null,"CODE",null,null,"CODE",null,null,"CODE",null,null,"CODE",null,null,"CODE",null,null,"CODE",null,null,"CODE",null,null,"CODE"]
[null,null,114,{"$f":"DSUM(部品本日入力!$B$3:$N$5008,部品本日入力!$M$3,C72:C73)","v":0},null,185,{"$f":"DSUM(部品本日入力!$B$3:$N$5008,部品本日入力!$M$3,F72:F73)","v":0},null,260,{"$f":"DSUM(部品本日入力!$B$3:$N$5008,部品本日入力!$M$3,I72:I73)","v":0},null,325,{"$f":"DSUM(部品本日入力!$B$3:$N$5008,部品本日入力!$M$3,L72:L73)","v":0},null,536,{"$f":"DSUM(部品本日入力!$B$3:$N$5008,部品本日入力!$M$3,O72:O73)","v":0},null,114,{"$f":"DSUM(経費本日入力!$B$3:$K$2000,経費本日入力!$J$3,R72:R73)","v":0},null,185,{"$f":"DSUM(経費本日入力!$B$3:$K$2000,経費本日入力!$J$3,U72:U73)","v":0},null,260,{"$f":"DSUM(経費本日入力!$B$3:$K$2000,経費本日入力!$J$3,X72:X73)","v":0},null,325,{"$f":"DSUM(経費本日入力!$B$3:$K$2000,経費本日入力!$J$3,AA72:AA73)","v":0},null,536,{"$f":"DSUM(経費本日入力!$B$3:$K$2000,経費本日入力!$J$3,AD72:AD73)","v":0}]
[null,null,"CODE",null,null,"CODE",null,null,"CODE",null,null,"CODE",null,null,"CODE",null,null,"CODE",null,null,"CODE",null,null,"CODE",null,null,"CODE",null,null,"CODE"]
[null,null,115,{"$f":"DSUM(部品本日入力!$B$3:$N$5008,部品本日入力!$M$3,C74:C75)","v":0},null,186,{"$f":"DSUM(部品本日入力!$B$3:$N$5008,部品本日入力!$M$3,F74:F75)","v":0},null,261,{"$f":"DSUM(部品本日入力!$B$3:$N$5008,部品本日入力!$M$3,I74:I75)","v":0},null,326,{"$f":"DSUM(部品本日入力!$B$3:$N$5008,部品本日入力!$M$3,L74:L75)","v":0},null,537,{"$f":"DSUM(部品本日入力!$B$3:$N$5008,部品本日入力!$M$3,O74:O75)","v":0},null,115,{"$f":"DSUM(経費本日入力!$B$3:$K$2000,経費本日入力!$J$3,R74:R75)","v":0},null,186,{"$f":"DSUM(経費本日入力!$B$3:$K$2000,経費本日入力!$J$3,U74:U75)","v":0},null,261,{"$f":"DSUM(経費本日入力!$B$3:$K$2000,経費本日入力!$J$3,X74:X75)","v":0},null,326,{"$f":"DSUM(経費本日入力!$B$3:$K$2000,経費本日入力!$J$3,AA74:AA75)","v":0},null,537,{"$f":"DSUM(経費本日入力!$B$3:$K$2000,経費本日入力!$J$3,AD74:AD75)","v":0}]
[null,null,"CODE",null,null,"CODE",null,null,"CODE",null,null,"CODE",null,null,"CODE",null,null,"CODE",null,null,"CODE",null,null,"CODE",null,null,"CODE",null,null,"CODE"]
[null,null,116,{"$f":"DSUM(部品本日入力!$B$3:$N$5008,部品本日入力!$M$3,C76:C77)","v":0},null,187,{"$f":"DSUM(部品本日入力!$B$3:$N$5008,部品本日入力!$M$3,F76:F77)","v":0},null,262,{"$f":"DSUM(部品本日入力!$B$3:$N$5008,部品本日入力!$M$3,I76:I77)","v":0},null,327,{"$f":"DSUM(部品本日入力!$B$3:$N$5008,部品本日入力!$M$3,L76:L77)","v":0},null,538,{"$f":"DSUM(部品本日入力!$B$3:$N$5008,部品本日入力!$M$3,O76:O77)","v":0},null,116,{"$f":"DSUM(経費本日入力!$B$3:$K$2000,経費本日入力!$J$3,R76:R77)","v":0},null,187,{"$f":"DSUM(経費本日入力!$B$3:$K$2000,経費本日入力!$J$3,U76:U77)","v":0},null,262,{"$f":"DSUM(経費本日入力!$B$3:$K$2000,経費本日入力!$J$3,X76:X77)","v":0},null,327,{"$f":"DSUM(経費本日入力!$B$3:$K$2000,経費本日入力!$J$3,AA76:AA77)","v":0},null,538,{"$f":"DSUM(経費本日入力!$B$3:$K$2000,経費本日入力!$J$3,AD76:AD77)","v":0}]
[null,null,"CODE",null,null,"CODE",null,null,"CODE",null,null,"CODE",null,null,"CODE",null,null,"CODE",null,null,"CODE",null,null,"CODE",null,null,"CODE",null,null,"CODE"]
[null,null,117,{"$f":"DSUM(部品本日入力!$B$3:$N$5008,部品本日入力!$M$3,C78:C79)","v":0},null,188,{"$f":"DSUM(部品本日入力!$B$3:$N$5008,部品本日入力!$M$3,F78:F79)","v":0},null,263,{"$f":"DSUM(部品本日入力!$B$3:$N$5008,部品本日入力!$M$3,I78:I79)","v":0},null,328,{"$f":"DSUM(部品本日入力!$B$3:$N$5008,部品本日入力!$M$3,L78:L79)","v":0},null,539,{"$f":"DSUM(部品本日入力!$B$3:$N$5008,部品本日入力!$M$3,O78:O79)","v":0},null,117,{"$f":"DSUM(経費本日入力!$B$3:$K$2000,経費本日入力!$J$3,R78:R79)","v":0},null,188,{"$f":"DSUM(経費本日入力!$B$3:$K$2000,経費本日入力!$J$3,U78:U79)","v":0},null,263,{"$f":"DSUM(経費本日入力!$B$3:$K$2000,経費本日入力!$J$3,X78:X79)","v":0},null,328,{"$f":"DSUM(経費本日入力!$B$3:$K$2000,経費本日入力!$J$3,AA78:AA79)","v":0},null,539,{"$f":"DSUM(経費本日入力!$B$3:$K$2000,経費本日入力!$J$3,AD78:AD79)","v":0}]
[null,null,"CODE",null,null,"CODE",null,null,"CODE",null,null,"CODE",null,null,"CODE",null,null,"CODE",null,null,"CODE",null,null,"CODE",null,null,"CODE",null,null,"CODE"]
[null,null,118,{"$f":"DSUM(部品本日入力!$B$3:$N$5008,部品本日入力!$M$3,C80:C81)","v":0},null,189,{"$f":"DSUM(部品本日入力!$B$3:$N$5008,部品本日入力!$M$3,F80:F81)","v":0},null,264,{"$f":"DSUM(部品本日入力!$B$3:$N$5008,部品本日入力!$M$3,I80:I81)","v":0},null,329,{"$f":"DSUM(部品本日入力!$B$3:$N$5008,部品本日入力!$M$3,L80:L81)","v":0},null,540,{"$f":"DSUM(部品本日入力!$B$3:$N$5008,部品本日入力!$M$3,O80:O81)","v":0},null,118,{"$f":"DSUM(経費本日入力!$B$3:$K$2000,経費本日入力!$J$3,R80:R81)","v":0},null,189,{"$f":"DSUM(経費本日入力!$B$3:$K$2000,経費本日入力!$J$3,U80:U81)","v":0},null,264,{"$f":"DSUM(経費本日入力!$B$3:$K$2000,経費本日入力!$J$3,X80:X81)","v":0},null,329,{"$f":"DSUM(経費本日入力!$B$3:$K$2000,経費本日入力!$J$3,AA80:AA81)","v":0},null,540,{"$f":"DSUM(経費本日入力!$B$3:$K$2000,経費本日入力!$J$3,AD80:AD81)","v":0}]
[null,null,"CODE",null,null,"CODE",null,null,"CODE",null,null,"CODE",null,null,"CODE",null,null,"CODE",null,null,"CODE",null,null,"CODE",null,null,"CODE",null,null,"CODE"]
[null,null,119,{"$f":"DSUM(部品本日入力!$B$3:$N$5008,部品本日入力!$M$3,C82:C83)","v":0},null,190,{"$f":"DSUM(部品本日入力!$B$3:$N$5008,部品本日入力!$M$3,F82:F83)","v":0},null,265,{"$f":"DSUM(部品本日入力!$B$3:$N$5008,部品本日入力!$M$3,I82:I83)","v":0},null,330,{"$f":"DSUM(部品本日入力!$B$3:$N$5008,部品本日入力!$M$3,L82:L83)","v":0},null,541,{"$f":"DSUM(部品本日入力!$B$3:$N$5008,部品本日入力!$M$3,O82:O83)","v":0},null,119,{"$f":"DSUM(経費本日入力!$B$3:$K$2000,経費本日入力!$J$3,R82:R83)","v":0},null,190,{"$f":"DSUM(経費本日入力!$B$3:$K$2000,経費本日入力!$J$3,U82:U83)","v":0},null,265,{"$f":"DSUM(経費本日入力!$B$3:$K$2000,経費本日入力!$J$3,X82:X83)","v":0},null,330,{"$f":"DSUM(経費本日入力!$B$3:$K$2000,経費本日入力!$J$3,AA82:AA83)","v":0},null,541,{"$f":"DSUM(経費本日入力!$B$3:$K$2000,経費本日入力!$J$3,AD82:AD83)","v":0}]
[null,null,"CODE",null,null,"CODE",null,null,"CODE",null,null,"CODE",null,null,"CODE",null,null,"CODE",null,null,"CODE",null,null,"CODE",null,null,"CODE",null,null,"CODE"]
[null,null,120,{"$f":"DSUM(部品本日入力!$B$3:$N$5008,部品本日入力!$M$3,C84:C85)","v":0},null,191,{"$f":"DSUM(部品本日入力!$B$3:$N$5008,部品本日入力!$M$3,F84:F85)","v":0},null,266,{"$f":"DSUM(部品本日入力!$B$3:$N$5008,部品本日入力!$M$3,I84:I85)","v":0},null,331,{"$f":"DSUM(部品本日入力!$B$3:$N$5008,部品本日入力!$M$3,L84:L85)","v":0},null,542,{"$f":"DSUM(部品本日入力!$B$3:$N$5008,部品本日入力!$M$3,O84:O85)","v":0},null,120,{"$f":"DSUM(経費本日入力!$B$3:$K$2000,経費本日入力!$J$3,R84:R85)","v":0},null,191,{"$f":"DSUM(経費本日入力!$B$3:$K$2000,経費本日入力!$J$3,U84:U85)","v":0},null,266,{"$f":"DSUM(経費本日入力!$B$3:$K$2000,経費本日入力!$J$3,X84:X85)","v":0},null,331,{"$f":"DSUM(経費本日入力!$B$3:$K$2000,経費本日入力!$J$3,AA84:AA85)","v":0},null,542,{"$f":"DSUM(経費本日入力!$B$3:$K$2000,経費本日入力!$J$3,AD84:AD85)","v":0}]
[null,null,"CODE",null,null,"CODE",null,null,"CODE",null,null,"CODE",null,null,"CODE",null,null,"CODE",null,null,"CODE",null,null,"CODE",null,null,"CODE",null,null,"CODE"]
[null,null,121,{"$f":"DSUM(部品本日入力!$B$3:$N$5008,部品本日入力!$M$3,C86:C87)","v":0},null,192,{"$f":"DSUM(部品本日入力!$B$3:$N$5008,部品本日入力!$M$3,F86:F87)","v":0},null,267,{"$f":"DSUM(部品本日入力!$B$3:$N$5008,部品本日入力!$M$3,I86:I87)","v":0},null,332,{"$f":"DSUM(部品本日入力!$B$3:$N$5008,部品本日入力!$M$3,L86:L87)","v":0},null,543,{"$f":"DSUM(部品本日入力!$B$3:$N$5008,部品本日入力!$M$3,O86:O87)","v":0},null,121,{"$f":"DSUM(経費本日入力!$B$3:$K$2000,経費本日入力!$J$3,R86:R87)","v":0},null,192,{"$f":"DSUM(経費本日入力!$B$3:$K$2000,経費本日入力!$J$3,U86:U87)","v":0},null,267,{"$f":"DSUM(経費本日入力!$B$3:$K$2000,経費本日入力!$J$3,X86:X87)","v":0},null,332,{"$f":"DSUM(経費本日入力!$B$3:$K$2000,経費本日入力!$J$3,AA86:AA87)","v":0},null,543,{"$f":"DSUM(経費本日入力!$B$3:$K$2000,経費本日入力!$J$3,AD86:AD87)","v":0}]
[null,null,"CODE",null,null,"CODE",null,null,"CODE",null,null,"CODE",null,null,"CODE",null,null,"CODE",null,null,"CODE",null,null,"CODE",null,null,"CODE",null,null,"CODE"]
[null,null,122,{"$f":"DSUM(部品本日入力!$B$3:$N$5008,部品本日入力!$M$3,C88:C89)","v":0},null,193,{"$f":"DSUM(部品本日入力!$B$3:$N$5008,部品本日入力!$M$3,F88:F89)","v":0},null,268,{"$f":"DSUM(部品本日入力!$B$3:$N$5008,部品本日入力!$M$3,I88:I89)","v":0},null,333,{"$f":"DSUM(部品本日入力!$B$3:$N$5008,部品本日入力!$M$3,L88:L89)","v":0},null,601,{"$f":"DSUM(部品本日入力!$B$3:$N$5008,部品本日入力!$M$3,O88:O89)","v":0},null,122,{"$f":"DSUM(経費本日入力!$B$3:$K$2000,経費本日入力!$J$3,R88:R89)","v":0},null,193,{"$f":"DSUM(経費本日入力!$B$3:$K$2000,経費本日入力!$J$3,U88:U89)","v":0},null,268,{"$f":"DSUM(経費本日入力!$B$3:$K$2000,経費本日入力!$J$3,X88:X89)","v":0},null,333,{"$f":"DSUM(経費本日入力!$B$3:$K$2000,経費本日入力!$J$3,AA88:AA89)","v":0},null,601,{"$f":"DSUM(経費本日入力!$B$3:$K$2000,経費本日入力!$J$3,AD88:AD89)","v":0}]
[null,null,"CODE",null,null,"CODE",null,null,"CODE",null,null,"CODE",null,null,"CODE",null,null,"CODE",null,null,"CODE",null,null,"CODE",null,null,"CODE",null,null,"CODE"]
[null,null,123,{"$f":"DSUM(部品本日入力!$B$3:$N$5008,部品本日入力!$M$3,C90:C91)","v":0},null,194,{"$f":"DSUM(部品本日入力!$B$3:$N$5008,部品本日入力!$M$3,F90:F91)","v":0},null,269,{"$f":"DSUM(部品本日入力!$B$3:$N$5008,部品本日入力!$M$3,I90:I91)","v":0},null,334,{"$f":"DSUM(部品本日入力!$B$3:$N$5008,部品本日入力!$M$3,L90:L91)","v":0},null,602,{"$f":"DSUM(部品本日入力!$B$3:$N$5008,部品本日入力!$M$3,O90:O91)","v":0},null,123,{"$f":"DSUM(経費本日入力!$B$3:$K$2000,経費本日入力!$J$3,R90:R91)","v":0},null,194,{"$f":"DSUM(経費本日入力!$B$3:$K$2000,経費本日入力!$J$3,U90:U91)","v":0},null,269,{"$f":"DSUM(経費本日入力!$B$3:$K$2000,経費本日入力!$J$3,X90:X91)","v":0},null,334,{"$f":"DSUM(経費本日入力!$B$3:$K$2000,経費本日入力!$J$3,AA90:AA91)","v":0},null,602,{"$f":"DSUM(経費本日入力!$B$3:$K$2000,経費本日入力!$J$3,AD90:AD91)","v":0}]
[null,null,"CODE",null,null,"CODE",null,null,"CODE",null,null,"CODE",null,null,"CODE",null,null,"CODE",null,null,"CODE",null,null,"CODE",null,null,"CODE",null,null,"CODE"]
[null,null,124,{"$f":"DSUM(部品本日入力!$B$3:$N$5008,部品本日入力!$M$3,C92:C93)","v":0},null,195,{"$f":"DSUM(部品本日入力!$B$3:$N$5008,部品本日入力!$M$3,F92:F93)","v":0},null,270,{"$f":"DSUM(部品本日入力!$B$3:$N$5008,部品本日入力!$M$3,I92:I93)","v":0},null,400,{"$f":"DSUM(部品本日入力!$B$3:$N$5008,部品本日入力!$M$3,L92:L93)","v":0},null,603,{"$f":"DSUM(部品本日入力!$B$3:$N$5008,部品本日入力!$M$3,O92:O93)","v":0},null,124,{"$f":"DSUM(経費本日入力!$B$3:$K$2000,経費本日入力!$J$3,R92:R93)","v":0},null,195,{"$f":"DSUM(経費本日入力!$B$3:$K$2000,経費本日入力!$J$3,U92:U93)","v":0},null,270,{"$f":"DSUM(経費本日入力!$B$3:$K$2000,経費本日入力!$J$3,X92:X93)","v":0},null,401,{"$f":"DSUM(経費本日入力!$B$3:$K$2000,経費本日入力!$J$3,AA92:AA93)","v":0},null,603,{"$f":"DSUM(経費本日入力!$B$3:$K$2000,経費本日入力!$J$3,AD92:AD93)","v":0}]
[null,null,"CODE",null,null,"CODE",null,null,"CODE",null,null,"CODE",null,null,"CODE",null,null,"CODE",null,null,"CODE",null,null,"CODE",null,null,"CODE",null,null,"CODE"]
[null,null,125,{"$f":"DSUM(部品本日入力!$B$3:$N$5008,部品本日入力!$M$3,C94:C95)","v":0},null,196,{"$f":"DSUM(部品本日入力!$B$3:$N$5008,部品本日入力!$M$3,F94:F95)","v":0},null,271,{"$f":"DSUM(部品本日入力!$B$3:$N$5008,部品本日入力!$M$3,I94:I95)","v":0},null,401,{"$f":"DSUM(部品本日入力!$B$3:$N$5008,部品本日入力!$M$3,L94:L95)","v":0},null,604,{"$f":"DSUM(部品本日入力!$B$3:$N$5008,部品本日入力!$M$3,O94:O95)","v":0},null,125,{"$f":"DSUM(経費本日入力!$B$3:$K$2000,経費本日入力!$J$3,R94:R95)","v":0},null,196,{"$f":"DSUM(経費本日入力!$B$3:$K$2000,経費本日入力!$J$3,U94:U95)","v":0},null,271,{"$f":"DSUM(経費本日入力!$B$3:$K$2000,経費本日入力!$J$3,X94:X95)","v":0},null,402,{"$f":"DSUM(経費本日入力!$B$3:$K$2000,経費本日入力!$J$3,AA94:AA95)","v":0},null,604,{"$f":"DSUM(経費本日入力!$B$3:$K$2000,経費本日入力!$J$3,AD94:AD95)","v":0}]
[null,null,"CODE",null,null,"CODE",null,null,"CODE",null,null,"CODE",null,null,"CODE",null,null,"CODE",null,null,"CODE",null,null,"CODE",null,null,"CODE",null,null,"CODE"]
[null,null,126,{"$f":"DSUM(部品本日入力!$B$3:$N$5008,部品本日入力!$M$3,C96:C97)","v":0},null,197,{"$f":"DSUM(部品本日入力!$B$3:$N$5008,部品本日入力!$M$3,F96:F97)","v":0},null,272,{"$f":"DSUM(部品本日入力!$B$3:$N$5008,部品本日入力!$M$3,I96:I97)","v":0},null,402,{"$f":"DSUM(部品本日入力!$B$3:$N$5008,部品本日入力!$M$3,L96:L97)","v":0},null,605,{"$f":"DSUM(部品本日入力!$B$3:$N$5008,部品本日入力!$M$3,O96:O97)","v":0},null,126,{"$f":"DSUM(経費本日入力!$B$3:$K$2000,経費本日入力!$J$3,R96:R97)","v":0},null,197,{"$f":"DSUM(経費本日入力!$B$3:$K$2000,経費本日入力!$J$3,U96:U97)","v":0},null,272,{"$f":"DSUM(経費本日入力!$B$3:$K$2000,経費本日入力!$J$3,X96:X97)","v":0},null,403,{"$f":"DSUM(経費本日入力!$B$3:$K$2000,経費本日入力!$J$3,AA96:AA97)","v":0},null,605,{"$f":"DSUM(経費本日入力!$B$3:$K$2000,経費本日入力!$J$3,AD96:AD97)","v":0}]
[null,null,"CODE",null,null,"CODE",null,null,"CODE",null,null,"CODE",null,null,"CODE",null,null,"CODE",null,null,"CODE",null,null,"CODE",null,null,"CODE",null,null,"CODE"]
[null,null,127,{"$f":"DSUM(部品本日入力!$B$3:$N$5008,部品本日入力!$M$3,C98:C99)","v":0},null,198,{"$f":"DSUM(部品本日入力!$B$3:$N$5008,部品本日入力!$M$3,F98:F99)","v":0},null,273,{"$f":"DSUM(部品本日入力!$B$3:$N$5008,部品本日入力!$M$3,I98:I99)","v":0},null,403,{"$f":"DSUM(部品本日入力!$B$3:$N$5008,部品本日入力!$M$3,L98:L99)","v":0},null,606,{"$f":"DSUM(部品本日入力!$B$3:$N$5008,部品本日入力!$M$3,O98:O99)","v":0},null,127,{"$f":"DSUM(経費本日入力!$B$3:$K$2000,経費本日入力!$J$3,R98:R99)","v":0},null,198,{"$f":"DSUM(経費本日入力!$B$3:$K$2000,経費本日入力!$J$3,U98:U99)","v":0},null,273,{"$f":"DSUM(経費本日入力!$B$3:$K$2000,経費本日入力!$J$3,X98:X99)","v":0},null,404,{"$f":"DSUM(経費本日入力!$B$3:$K$2000,経費本日入力!$J$3,AA98:AA99)","v":0},null,606,{"$f":"DSUM(経費本日入力!$B$3:$K$2000,経費本日入力!$J$3,AD98:AD99)","v":0}]
[null,null,"CODE",null,null,"CODE",null,null,"CODE",null,null,"CODE",null,null,"CODE",null,null,"CODE",null,null,"CODE",null,null,"CODE",null,null,"CODE",null,null,"CODE"]
[null,null,128,{"$f":"DSUM(部品本日入力!$B$3:$N$5008,部品本日入力!$M$3,C100:C101)","v":0},null,199,{"$f":"DSUM(部品本日入力!$B$3:$N$5008,部品本日入力!$M$3,F100:F101)","v":0},null,274,{"$f":"DSUM(部品本日入力!$B$3:$N$5008,部品本日入力!$M$3,I100:I101)","v":0},null,404,{"$f":"DSUM(部品本日入力!$B$3:$N$5008,部品本日入力!$M$3,L100:L101)","v":0},null,607,{"$f":"DSUM(部品本日入力!$B$3:$N$5008,部品本日入力!$M$3,O100:O101)","v":0},null,128,{"$f":"DSUM(経費本日入力!$B$3:$K$2000,経費本日入力!$J$3,R100:R101)","v":0},null,199,{"$f":"DSUM(経費本日入力!$B$3:$K$2000,経費本日入力!$J$3,U100:U101)","v":0},null,274,{"$f":"DSUM(経費本日入力!$B$3:$K$2000,経費本日入力!$J$3,X100:X101)","v":0},null,405,{"$f":"DSUM(経費本日入力!$B$3:$K$2000,経費本日入力!$J$3,AA100:AA101)","v":0},null,607,{"$f":"DSUM(経費本日入力!$B$3:$K$2000,経費本日入力!$J$3,AD100:AD101)","v":0}]
[null,null,"CODE",null,null,"CODE",null,null,"CODE",null,null,"CODE",null,null,"CODE",null,null,"CODE",null,null,"CODE",null,null,"CODE",null,null,"CODE",null,null,"CODE"]
[null,null,129,{"$f":"DSUM(部品本日入力!$B$3:$N$5008,部品本日入力!$M$3,C102:C103)","v":0},null,200,{"$f":"DSUM(部品本日入力!$B$3:$N$5008,部品本日入力!$M$3,F102:F103)","v":0},null,275,{"$f":"DSUM(部品本日入力!$B$3:$N$5008,部品本日入力!$M$3,I102:I103)","v":0},null,405,{"$f":"DSUM(部品本日入力!$B$3:$N$5008,部品本日入力!$M$3,L102:L103)","v":0},null,608,{"$f":"DSUM(部品本日入力!$B$3:$N$5008,部品本日入力!$M$3,O102:O103)","v":0},null,129,{"$f":"DSUM(経費本日入力!$B$3:$K$2000,経費本日入力!$J$3,R102:R103)","v":0},null,200,{"$f":"DSUM(経費本日入力!$B$3:$K$2000,経費本日入力!$J$3,U102:U103)","v":0},null,275,{"$f":"DSUM(経費本日入力!$B$3:$K$2000,経費本日入力!$J$3,X102:X103)","v":0},null,406,{"$f":"DSUM(経費本日入力!$B$3:$K$2000,経費本日入力!$J$3,AA102:AA103)","v":0},null,608,{"$f":"DSUM(経費本日入力!$B$3:$K$2000,経費本日入力!$J$3,AD102:AD103)","v":0}]
[null,null,"CODE",null,null,"CODE",null,null,"CODE",null,null,"CODE",null,null,"CODE",null,null,"CODE",null,null,"CODE",null,null,"CODE",null,null,"CODE",null,null,"CODE"]
[null,null,130,{"$f":"DSUM(部品本日入力!$B$3:$N$5008,部品本日入力!$M$3,C104:C105)","v":0},null,201,{"$f":"DSUM(部品本日入力!$B$3:$N$5008,部品本日入力!$M$3,F104:F105)","v":0},null,276,{"$f":"DSUM(部品本日入力!$B$3:$N$5008,部品本日入力!$M$3,I104:I105)","v":0},null,406,{"$f":"DSUM(部品本日入力!$B$3:$N$5008,部品本日入力!$M$3,L104:L105)","v":0},null,609,{"$f":"DSUM(部品本日入力!$B$3:$N$5008,部品本日入力!$M$3,O104:O105)","v":0},null,130,{"$f":"DSUM(経費本日入力!$B$3:$K$2000,経費本日入力!$J$3,R104:R105)","v":0},null,201,{"$f":"DSUM(経費本日入力!$B$3:$K$2000,経費本日入力!$J$3,U104:U105)","v":0},null,276,{"$f":"DSUM(経費本日入力!$B$3:$K$2000,経費本日入力!$J$3,X104:X105)","v":0},null,407,{"$f":"DSUM(経費本日入力!$B$3:$K$2000,経費本日入力!$J$3,AA104:AA105)","v":0},null,609,{"$f":"DSUM(経費本日入力!$B$3:$K$2000,経費本日入力!$J$3,AD104:AD105)","v":0}]
[null,null,"CODE",null,null,"CODE",null,null,"CODE",null,null,"CODE",null,null,"CODE",null,null,"CODE",null,null,"CODE",null,null,"CODE",null,null,"CODE",null,null,"CODE"]
[null,null,131,{"$f":"DSUM(部品本日入力!$B$3:$N$5008,部品本日入力!$M$3,C106:C107)","v":0},null,202,{"$f":"DSUM(部品本日入力!$B$3:$N$5008,部品本日入力!$M$3,F106:F107)","v":0},null,277,{"$f":"DSUM(部品本日入力!$B$3:$N$5008,部品本日入力!$M$3,I106:I107)","v":0},null,407,{"$f":"DSUM(部品本日入力!$B$3:$N$5008,部品本日入力!$M$3,L106:L107)","v":0},null,610,{"$f":"DSUM(部品本日入力!$B$3:$N$5008,部品本日入力!$M$3,O106:O107)","v":0},null,131,{"$f":"DSUM(経費本日入力!$B$3:$K$2000,経費本日入力!$J$3,R106:R107)","v":0},null,202,{"$f":"DSUM(経費本日入力!$B$3:$K$2000,経費本日入力!$J$3,U106:U107)","v":0},null,277,{"$f":"DSUM(経費本日入力!$B$3:$K$2000,経費本日入力!$J$3,X106:X107)","v":0},null,408,{"$f":"DSUM(経費本日入力!$B$3:$K$2000,経費本日入力!$J$3,AA106:AA107)","v":0},null,610,{"$f":"DSUM(経費本日入力!$B$3:$K$2000,経費本日入力!$J$3,AD106:AD107)","v":0}]
[null,null,"CODE",null,null,"CODE",null,null,"CODE",null,null,"CODE",null,null,"CODE",null,null,"CODE",null,null,"CODE",null,null,"CODE",null,null,"CODE",null,null,"CODE"]
[null,null,132,{"$f":"DSUM(部品本日入力!$B$3:$N$5008,部品本日入力!$M$3,C108:C109)","v":0},null,203,{"$f":"DSUM(部品本日入力!$B$3:$N$5008,部品本日入力!$M$3,F108:F109)","v":0},null,278,{"$f":"DSUM(部品本日入力!$B$3:$N$5008,部品本日入力!$M$3,I108:I109)","v":0},null,408,{"$f":"DSUM(部品本日入力!$B$3:$N$5008,部品本日入力!$M$3,L108:L109)","v":0},null,611,{"$f":"DSUM(部品本日入力!$B$3:$N$5008,部品本日入力!$M$3,O108:O109)","v":0},null,132,{"$f":"DSUM(経費本日入力!$B$3:$K$2000,経費本日入力!$J$3,R108:R109)","v":0},null,203,{"$f":"DSUM(経費本日入力!$B$3:$K$2000,経費本日入力!$J$3,U108:U109)","v":0},null,278,{"$f":"DSUM(経費本日入力!$B$3:$K$2000,経費本日入力!$J$3,X108:X109)","v":0},null,409,{"$f":"DSUM(経費本日入力!$B$3:$K$2000,経費本日入力!$J$3,AA108:AA109)","v":0},null,611,{"$f":"DSUM(経費本日入力!$B$3:$K$2000,経費本日入力!$J$3,AD108:AD109)","v":0}]
[null,null,"CODE",null,null,"CODE",null,null,"CODE",null,null,"CODE",null,null,"CODE",null,null,"CODE",null,null,"CODE",null,null,"CODE",null,null,"CODE",null,null,"CODE"]
[null,null,133,{"$f":"DSUM(部品本日入力!$B$3:$N$5008,部品本日入力!$M$3,C110:C111)","v":0},null,204,{"$f":"DSUM(部品本日入力!$B$3:$N$5008,部品本日入力!$M$3,F110:F111)","v":0},null,279,{"$f":"DSUM(部品本日入力!$B$3:$N$5008,部品本日入力!$M$3,I110:I111)","v":0},null,409,{"$f":"DSUM(部品本日入力!$B$3:$N$5008,部品本日入力!$M$3,L110:L111)","v":0},null,612,{"$f":"DSUM(部品本日入力!$B$3:$N$5008,部品本日入力!$M$3,O110:O111)","v":0},null,133,{"$f":"DSUM(経費本日入力!$B$3:$K$2000,経費本日入力!$J$3,R110:R111)","v":0},null,204,{"$f":"DSUM(経費本日入力!$B$3:$K$2000,経費本日入力!$J$3,U110:U111)","v":0},null,279,{"$f":"DSUM(経費本日入力!$B$3:$K$2000,経費本日入力!$J$3,X110:X111)","v":0},null,410,{"$f":"DSUM(経費本日入力!$B$3:$K$2000,経費本日入力!$J$3,AA110:AA111)","v":0},null,612,{"$f":"DSUM(経費本日入力!$B$3:$K$2000,経費本日入力!$J$3,AD110:AD111)","v":0}]
[null,null,"CODE",null,null,"CODE",null,null,"CODE",null,null,"CODE",null,null,"CODE",null,null,"CODE",null,null,"CODE",null,null,"CODE",null,null,"CODE",null,null,"CODE"]
[null,null,134,{"$f":"DSUM(部品本日入力!$B$3:$N$5008,部品本日入力!$M$3,C112:C113)","v":0},null,205,{"$f":"DSUM(部品本日入力!$B$3:$N$5008,部品本日入力!$M$3,F112:F113)","v":0},null,280,{"$f":"DSUM(部品本日入力!$B$3:$N$5008,部品本日入力!$M$3,I112:I113)","v":0},null,410,{"$f":"DSUM(部品本日入力!$B$3:$N$5008,部品本日入力!$M$3,L112:L113)","v":0},null,613,{"$f":"DSUM(部品本日入力!$B$3:$N$5008,部品本日入力!$M$3,O112:O113)","v":0},null,134,{"$f":"DSUM(経費本日入力!$B$3:$K$2000,経費本日入力!$J$3,R112:R113)","v":0},null,205,{"$f":"DSUM(経費本日入力!$B$3:$K$2000,経費本日入力!$J$3,U112:U113)","v":0},null,280,{"$f":"DSUM(経費本日入力!$B$3:$K$2000,経費本日入力!$J$3,X112:X113)","v":0},null,411,{"$f":"DSUM(経費本日入力!$B$3:$K$2000,経費本日入力!$J$3,AA112:AA113)","v":0},null,613,{"$f":"DSUM(経費本日入力!$B$3:$K$2000,経費本日入力!$J$3,AD112:AD113)","v":0}]
[null,null,"CODE",null,null,"CODE",null,null,"CODE",null,null,"CODE",null,null,"CODE",null,null,"CODE",null,null,"CODE",null,null,"CODE",null,null,"CODE",null,null,"CODE"]
[null,null,135,{"$f":"DSUM(部品本日入力!$B$3:$N$5008,部品本日入力!$M$3,C114:C115)","v":0},null,206,{"$f":"DSUM(部品本日入力!$B$3:$N$5008,部品本日入力!$M$3,F114:F115)","v":0},null,281,{"$f":"DSUM(部品本日入力!$B$3:$N$5008,部品本日入力!$M$3,I114:I115)","v":0},null,411,{"$f":"DSUM(部品本日入力!$B$3:$N$5008,部品本日入力!$M$3,L114:L115)","v":0},null,614,{"$f":"DSUM(部品本日入力!$B$3:$N$5008,部品本日入力!$M$3,O114:O115)","v":0},null,135,{"$f":"DSUM(経費本日入力!$B$3:$K$2000,経費本日入力!$J$3,R114:R115)","v":0},null,206,{"$f":"DSUM(経費本日入力!$B$3:$K$2000,経費本日入力!$J$3,U114:U115)","v":0},null,281,{"$f":"DSUM(経費本日入力!$B$3:$K$2000,経費本日入力!$J$3,X114:X115)","v":0},null,412,{"$f":"DSUM(経費本日入力!$B$3:$K$2000,経費本日入力!$J$3,AA114:AA115)","v":0},null,614,{"$f":"DSUM(経費本日入力!$B$3:$K$2000,経費本日入力!$J$3,AD114:AD115)","v":0}]
[null,null,"CODE",null,null,"CODE",null,null,"CODE",null,null,"CODE",null,null,"CODE",null,null,"CODE",null,null,"CODE",null,null,"CODE",null,null,"CODE",null,null,"CODE"]
[null,null,136,{"$f":"DSUM(部品本日入力!$B$3:$N$5008,部品本日入力!$M$3,C116:C117)","v":0},null,207,{"$f":"DSUM(部品本日入力!$B$3:$N$5008,部品本日入力!$M$3,F116:F117)","v":0},null,282,{"$f":"DSUM(部品本日入力!$B$3:$N$5008,部品本日入力!$M$3,I116:I117)","v":0},null,412,{"$f":"DSUM(部品本日入力!$B$3:$N$5008,部品本日入力!$M$3,L116:L117)","v":0},null,615,{"$f":"DSUM(部品本日入力!$B$3:$N$5008,部品本日入力!$M$3,O116:O117)","v":0},null,136,{"$f":"DSUM(経費本日入力!$B$3:$K$2000,経費本日入力!$J$3,R116:R117)","v":0},null,207,{"$f":"DSUM(経費本日入力!$B$3:$K$2000,経費本日入力!$J$3,U116:U117)","v":0},null,282,{"$f":"DSUM(経費本日入力!$B$3:$K$2000,経費本日入力!$J$3,X116:X117)","v":0},null,413,{"$f":"DSUM(経費本日入力!$B$3:$K$2000,経費本日入力!$J$3,AA116:AA117)","v":0},null,615,{"$f":"DSUM(経費本日入力!$B$3:$K$2000,経費本日入力!$J$3,AD116:AD117)","v":0}]
[null,null,"CODE",null,null,"CODE",null,null,"CODE",null,null,"CODE",null,null,"CODE",null,null,"CODE",null,null,"CODE",null,null,"CODE",null,null,"CODE",null,null,"CODE"]
[null,null,137,{"$f":"DSUM(部品本日入力!$B$3:$N$5008,部品本日入力!$M$3,C118:C119)","v":0},null,208,{"$f":"DSUM(部品本日入力!$B$3:$N$5008,部品本日入力!$M$3,F118:F119)","v":0},null,283,{"$f":"DSUM(部品本日入力!$B$3:$N$5008,部品本日入力!$M$3,I118:I119)","v":0},null,413,{"$f":"DSUM(部品本日入力!$B$3:$N$5008,部品本日入力!$M$3,L118:L119)","v":0},null,616,{"$f":"DSUM(部品本日入力!$B$3:$N$5008,部品本日入力!$M$3,O118:O119)","v":0},null,137,{"$f":"DSUM(経費本日入力!$B$3:$K$2000,経費本日入力!$J$3,R118:R119)","v":0},null,208,{"$f":"DSUM(経費本日入力!$B$3:$K$2000,経費本日入力!$J$3,U118:U119)","v":0},null,283,{"$f":"DSUM(経費本日入力!$B$3:$K$2000,経費本日入力!$J$3,X118:X119)","v":0},null,414,{"$f":"DSUM(経費本日入力!$B$3:$K$2000,経費本日入力!$J$3,AA118:AA119)","v":0},null,616,{"$f":"DSUM(経費本日入力!$B$3:$K$2000,経費本日入力!$J$3,AD118:AD119)","v":0}]
[null,null,"CODE",null,null,"CODE",null,null,"CODE",null,null,"CODE",null,null,"CODE",null,null,"CODE",null,null,"CODE",null,null,"CODE",null,null,"CODE",null,null,"CODE"]
[null,null,138,{"$f":"DSUM(部品本日入力!$B$3:$N$5008,部品本日入力!$M$3,C120:C121)","v":0},null,209,{"$f":"DSUM(部品本日入力!$B$3:$N$5008,部品本日入力!$M$3,F120:F121)","v":0},null,284,{"$f":"DSUM(部品本日入力!$B$3:$N$5008,部品本日入力!$M$3,I120:I121)","v":0},null,414,{"$f":"DSUM(部品本日入力!$B$3:$N$5008,部品本日入力!$M$3,L120:L121)","v":0},null,617,{"$f":"DSUM(部品本日入力!$B$3:$N$5008,部品本日入力!$M$3,O120:O121)","v":0},null,138,{"$f":"DSUM(経費本日入力!$B$3:$K$2000,経費本日入力!$J$3,R120:R121)","v":0},null,209,{"$f":"DSUM(経費本日入力!$B$3:$K$2000,経費本日入力!$J$3,U120:U121)","v":0},null,284,{"$f":"DSUM(経費本日入力!$B$3:$K$2000,経費本日入力!$J$3,X120:X121)","v":0},null,415,{"$f":"DSUM(経費本日入力!$B$3:$K$2000,経費本日入力!$J$3,AA120:AA121)","v":0},null,617,{"$f":"DSUM(経費本日入力!$B$3:$K$2000,経費本日入力!$J$3,AD120:AD121)","v":0}]
[null,null,"CODE",null,null,"CODE",null,null,"CODE",null,null,"CODE",null,null,"CODE",null,null,"CODE",null,null,"CODE",null,null,"CODE",null,null,"CODE",null,null,"CODE"]
[null,null,139,{"$f":"DSUM(部品本日入力!$B$3:$N$5008,部品本日入力!$M$3,C122:C123)","v":0},null,210,{"$f":"DSUM(部品本日入力!$B$3:$N$5008,部品本日入力!$M$3,F122:F123)","v":0},null,285,{"$f":"DSUM(部品本日入力!$B$3:$N$5008,部品本日入力!$M$3,I122:I123)","v":0},null,415,{"$f":"DSUM(部品本日入力!$B$3:$N$5008,部品本日入力!$M$3,L122:L123)","v":0},null,618,{"$f":"DSUM(部品本日入力!$B$3:$N$5008,部品本日入力!$M$3,O122:O123)","v":0},null,139,{"$f":"DSUM(経費本日入力!$B$3:$K$2000,経費本日入力!$J$3,R122:R123)","v":0},null,210,{"$f":"DSUM(経費本日入力!$B$3:$K$2000,経費本日入力!$J$3,U122:U123)","v":0},null,285,{"$f":"DSUM(経費本日入力!$B$3:$K$2000,経費本日入力!$J$3,X122:X123)","v":0},null,416,{"$f":"DSUM(経費本日入力!$B$3:$K$2000,経費本日入力!$J$3,AA122:AA123)","v":0},null,618,{"$f":"DSUM(経費本日入力!$B$3:$K$2000,経費本日入力!$J$3,AD122:AD123)","v":0}]
[null,null,"CODE",null,null,"CODE",null,null,"CODE",null,null,"CODE",null,null,"CODE",null,null,"CODE",null,null,"CODE",null,null,"CODE",null,null,"CODE",null,null,"CODE"]
[null,null,140,{"$f":"DSUM(部品本日入力!$B$3:$N$5008,部品本日入力!$M$3,C124:C125)","v":0},null,211,{"$f":"DSUM(部品本日入力!$B$3:$N$5008,部品本日入力!$M$3,F124:F125)","v":0},null,286,{"$f":"DSUM(部品本日入力!$B$3:$N$5008,部品本日入力!$M$3,I124:I125)","v":0},null,416,{"$f":"DSUM(部品本日入力!$B$3:$N$5008,部品本日入力!$M$3,L124:L125)","v":0},null,619,{"$f":"DSUM(部品本日入力!$B$3:$N$5008,部品本日入力!$M$3,O124:O125)","v":0},null,140,{"$f":"DSUM(経費本日入力!$B$3:$K$2000,経費本日入力!$J$3,R124:R125)","v":0},null,211,{"$f":"DSUM(経費本日入力!$B$3:$K$2000,経費本日入力!$J$3,U124:U125)","v":0},null,286,{"$f":"DSUM(経費本日入力!$B$3:$K$2000,経費本日入力!$J$3,X124:X125)","v":0},null,417,{"$f":"DSUM(経費本日入力!$B$3:$K$2000,経費本日入力!$J$3,AA124:AA125)","v":0},null,619,{"$f":"DSUM(経費本日入力!$B$3:$K$2000,経費本日入力!$J$3,AD124:AD125)","v":0}]
[null,null,"CODE",null,null,"CODE",null,null,"CODE",null,null,"CODE",null,null,"CODE",null,null,"CODE",null,null,"CODE",null,null,"CODE",null,null,"CODE",null,null,"CODE"]
[null,null,141,{"$f":"DSUM(部品本日入力!$B$3:$N$5008,部品本日入力!$M$3,C126:C127)","v":0},null,212,{"$f":"DSUM(部品本日入力!$B$3:$N$5008,部品本日入力!$M$3,F126:F127)","v":0},null,287,{"$f":"DSUM(部品本日入力!$B$3:$N$5008,部品本日入力!$M$3,I126:I127)","v":0},null,417,{"$f":"DSUM(部品本日入力!$B$3:$N$5008,部品本日入力!$M$3,L126:L127)","v":0},null,620,{"$f":"DSUM(部品本日入力!$B$3:$N$5008,部品本日入力!$M$3,O126:O127)","v":0},null,141,{"$f":"DSUM(経費本日入力!$B$3:$K$2000,経費本日入力!$J$3,R126:R127)","v":0},null,212,{"$f":"DSUM(経費本日入力!$B$3:$K$2000,経費本日入力!$J$3,U126:U127)","v":0},null,287,{"$f":"DSUM(経費本日入力!$B$3:$K$2000,経費本日入力!$J$3,X126:X127)","v":0},null,418,{"$f":"DSUM(経費本日入力!$B$3:$K$2000,経費本日入力!$J$3,AA126:AA127)","v":0},null,620,{"$f":"DSUM(経費本日入力!$B$3:$K$2000,経費本日入力!$J$3,AD126:AD127)","v":0}]
[null,null,"CODE",null,null,"CODE",null,null,"CODE",null,null,"CODE",null,null,"CODE",null,null,"CODE",null,null,"CODE",null,null,"CODE",null,null,"CODE",null,null,"CODE"]
[null,null,142,{"$f":"DSUM(部品本日入力!$B$3:$N$5008,部品本日入力!$M$3,C128:C129)","v":0},null,213,{"$f":"DSUM(部品本日入力!$B$3:$N$5008,部品本日入力!$M$3,F128:F129)","v":0},null,288,{"$f":"DSUM(部品本日入力!$B$3:$N$5008,部品本日入力!$M$3,I128:I129)","v":0},null,418,{"$f":"DSUM(部品本日入力!$B$3:$N$5008,部品本日入力!$M$3,L128:L129)","v":0},null,621,{"$f":"DSUM(部品本日入力!$B$3:$N$5008,部品本日入力!$M$3,O128:O129)","v":0},null,142,{"$f":"DSUM(経費本日入力!$B$3:$K$2000,経費本日入力!$J$3,R128:R129)","v":0},null,213,{"$f":"DSUM(経費本日入力!$B$3:$K$2000,経費本日入力!$J$3,U128:U129)","v":0},null,288,{"$f":"DSUM(経費本日入力!$B$3:$K$2000,経費本日入力!$J$3,X128:X129)","v":0},null,419,{"$f":"DSUM(経費本日入力!$B$3:$K$2000,経費本日入力!$J$3,AA128:AA129)","v":0},null,621,{"$f":"DSUM(経費本日入力!$B$3:$K$2000,経費本日入力!$J$3,AD128:AD129)","v":0}]
[null,null,"CODE",null,null,"CODE",null,null,"CODE",null,null,"CODE",null,null,"CODE",null,null,"CODE",null,null,"CODE",null,null,"CODE",null,null,"CODE",null,null,"CODE"]
[null,null,143,{"$f":"DSUM(部品本日入力!$B$3:$N$5008,部品本日入力!$M$3,C130:C131)","v":0},null,214,{"$f":"DSUM(部品本日入力!$B$3:$N$5008,部品本日入力!$M$3,F130:F131)","v":0},null,289,{"$f":"DSUM(部品本日入力!$B$3:$N$5008,部品本日入力!$M$3,I130:I131)","v":0},null,419,{"$f":"DSUM(部品本日入力!$B$3:$N$5008,部品本日入力!$M$3,L130:L131)","v":0},null,622,{"$f":"DSUM(部品本日入力!$B$3:$N$5008,部品本日入力!$M$3,O130:O131)","v":0},null,143,{"$f":"DSUM(経費本日入力!$B$3:$K$2000,経費本日入力!$J$3,R130:R131)","v":0},null,214,{"$f":"DSUM(経費本日入力!$B$3:$K$2000,経費本日入力!$J$3,U130:U131)","v":0},null,289,{"$f":"DSUM(経費本日入力!$B$3:$K$2000,経費本日入力!$J$3,X130:X131)","v":0},null,420,{"$f":"DSUM(経費本日入力!$B$3:$K$2000,経費本日入力!$J$3,AA130:AA131)","v":0},null,622,{"$f":"DSUM(経費本日入力!$B$3:$K$2000,経費本日入力!$J$3,AD130:AD131)","v":0}]
[null,null,"CODE",null,null,"CODE",null,null,"CODE",null,null,"CODE",null,null,"CODE",null,null,"CODE",null,null,"CODE",null,null,"CODE",null,null,"CODE",null,null,"CODE"]
[null,null,144,{"$f":"DSUM(部品本日入力!$B$3:$N$5008,部品本日入力!$M$3,C132:C133)","v":0},null,215,{"$f":"DSUM(部品本日入力!$B$3:$N$5008,部品本日入力!$M$3,F132:F133)","v":0},null,290,{"$f":"DSUM(部品本日入力!$B$3:$N$5008,部品本日入力!$M$3,I132:I133)","v":0},null,420,{"$f":"DSUM(部品本日入力!$B$3:$N$5008,部品本日入力!$M$3,L132:L133)","v":0},null,623,{"$f":"DSUM(部品本日入力!$B$3:$N$5008,部品本日入力!$M$3,O132:O133)","v":0},null,144,{"$f":"DSUM(経費本日入力!$B$3:$K$2000,経費本日入力!$J$3,R132:R133)","v":0},null,215,{"$f":"DSUM(経費本日入力!$B$3:$K$2000,経費本日入力!$J$3,U132:U133)","v":0},null,290,{"$f":"DSUM(経費本日入力!$B$3:$K$2000,経費本日入力!$J$3,X132:X133)","v":0},null,421,{"$f":"DSUM(経費本日入力!$B$3:$K$2000,経費本日入力!$J$3,AA132:AA133)","v":0},null,623,{"$f":"DSUM(経費本日入力!$B$3:$K$2000,経費本日入力!$J$3,AD132:AD133)","v":0}]
[null,null,"CODE",null,null,"CODE",null,null,null,null,null,"CODE",null,null,"CODE",null,null,"CODE",null,null,"CODE",null,null,null,null,null,"CODE",null,null,"CODE"]
[null,null,145,{"$f":"DSUM(部品本日入力!$B$3:$N$5008,部品本日入力!$M$3,C134:C135)","v":0},null,216,{"$f":"DSUM(部品本日入力!$B$3:$N$5008,部品本日入力!$M$3,F134:F135)","v":0},null,null,null,null,421,{"$f":"DSUM(部品本日入力!$B$3:$N$5008,部品本日入力!$M$3,L134:L135)","v":0},null,624,{"$f":"DSUM(部品本日入力!$B$3:$N$5008,部品本日入力!$M$3,O134:O135)","v":0},null,145,{"$f":"DSUM(経費本日入力!$B$3:$K$2000,経費本日入力!$J$3,R134:R135)","v":0},null,216,{"$f":"DSUM(経費本日入力!$B$3:$K$2000,経費本日入力!$J$3,U134:U135)","v":0},null,null,null,null,422,{"$f":"DSUM(経費本日入力!$B$3:$K$2000,経費本日入力!$J$3,AA134:AA135)","v":0},null,624,{"$f":"DSUM(経費本日入力!$B$3:$K$2000,経費本日入力!$J$3,AD134:AD135)","v":0}]
[null,null,"CODE",null,null,"CODE",null,null,null,null,null,"CODE",null,null,"CODE",null,null,"CODE",null,null,"CODE",null,null,null,null,null,"CODE",null,null,"CODE"]
[null,null,146,{"$f":"DSUM(部品本日入力!$B$3:$N$5008,部品本日入力!$M$3,C136:C137)","v":0},null,217,{"$f":"DSUM(部品本日入力!$B$3:$N$5008,部品本日入力!$M$3,F136:F137)","v":0},null,null,null,null,422,{"$f":"DSUM(部品本日入力!$B$3:$N$5008,部品本日入力!$M$3,L136:L137)","v":0},null,625,{"$f":"DSUM(部品本日入力!$B$3:$N$5008,部品本日入力!$M$3,O136:O137)","v":0},null,146,{"$f":"DSUM(経費本日入力!$B$3:$K$2000,経費本日入力!$J$3,R136:R137)","v":0},null,217,{"$f":"DSUM(経費本日入力!$B$3:$K$2000,経費本日入力!$J$3,U136:U137)","v":0},null,null,null,null,423,{"$f":"DSUM(経費本日入力!$B$3:$K$2000,経費本日入力!$J$3,AA136:AA137)","v":0},null,625,{"$f":"DSUM(経費本日入力!$B$3:$K$2000,経費本日入力!$J$3,AD136:AD137)","v":0}]
[null,null,"CODE",null,null,"CODE",null,null,null,null,null,"CODE",null,null,"CODE",null,null,"CODE",null,null,"CODE",null,null,null,null,null,"CODE",null,null,"CODE"]
[null,null,147,{"$f":"DSUM(部品本日入力!$B$3:$N$5008,部品本日入力!$M$3,C138:C139)","v":0},null,218,{"$f":"DSUM(部品本日入力!$B$3:$N$5008,部品本日入力!$M$3,F138:F139)","v":0},null,null,null,null,423,{"$f":"DSUM(部品本日入力!$B$3:$N$5008,部品本日入力!$M$3,L138:L139)","v":0},null,626,{"$f":"DSUM(部品本日入力!$B$3:$N$5008,部品本日入力!$M$3,O138:O139)","v":0},null,147,{"$f":"DSUM(経費本日入力!$B$3:$K$2000,経費本日入力!$J$3,R138:R139)","v":0},null,218,{"$f":"DSUM(経費本日入力!$B$3:$K$2000,経費本日入力!$J$3,U138:U139)","v":0},null,null,null,null,424,{"$f":"DSUM(経費本日入力!$B$3:$K$2000,経費本日入力!$J$3,AA138:AA139)","v":0},null,626,{"$f":"DSUM(経費本日入力!$B$3:$K$2000,経費本日入力!$J$3,AD138:AD139)","v":0}]
[null,null,"CODE",null,null,"CODE",null,null,null,null,null,"CODE",null,null,"CODE",null,null,"CODE",null,null,"CODE",null,null,null,null,null,"CODE",null,null,"CODE"]
[null,null,148,{"$f":"DSUM(部品本日入力!$B$3:$N$5008,部品本日入力!$M$3,C140:C141)","v":0},null,219,{"$f":"DSUM(部品本日入力!$B$3:$N$5008,部品本日入力!$M$3,F140:F141)","v":0},null,null,null,null,424,{"$f":"DSUM(部品本日入力!$B$3:$N$5008,部品本日入力!$M$3,L140:L141)","v":0},null,627,{"$f":"DSUM(部品本日入力!$B$3:$N$5008,部品本日入力!$M$3,O140:O141)","v":0},null,148,{"$f":"DSUM(経費本日入力!$B$3:$K$2000,経費本日入力!$J$3,R140:R141)","v":0},null,219,{"$f":"DSUM(経費本日入力!$B$3:$K$2000,経費本日入力!$J$3,U140:U141)","v":0},null,null,null,null,425,{"$f":"DSUM(経費本日入力!$B$3:$K$2000,経費本日入力!$J$3,AA140:AA141)","v":0},null,627,{"$f":"DSUM(経費本日入力!$B$3:$K$2000,経費本日入力!$J$3,AD140:AD141)","v":0}]
[null,null,"CODE",null,null,"CODE",null,null,null,null,null,"CODE",null,null,"CODE",null,null,"CODE",null,null,"CODE",null,null,null,null,null,"CODE",null,null,"CODE"]
[null,null,149,{"$f":"DSUM(部品本日入力!$B$3:$N$5008,部品本日入力!$M$3,C142:C143)","v":0},null,220,{"$f":"DSUM(部品本日入力!$B$3:$N$5008,部品本日入力!$M$3,F142:F143)","v":0},null,null,null,null,425,{"$f":"DSUM(部品本日入力!$B$3:$N$5008,部品本日入力!$M$3,L142:L143)","v":0},null,628,{"$f":"DSUM(部品本日入力!$B$3:$N$5008,部品本日入力!$M$3,O142:O143)","v":0},null,149,{"$f":"DSUM(経費本日入力!$B$3:$K$2000,経費本日入力!$J$3,R142:R143)","v":0},null,220,{"$f":"DSUM(経費本日入力!$B$3:$K$2000,経費本日入力!$J$3,U142:U143)","v":0},null,null,null,null,426,{"$f":"DSUM(経費本日入力!$B$3:$K$2000,経費本日入力!$J$3,AA142:AA143)","v":0},null,628,{"$f":"DSUM(経費本日入力!$B$3:$K$2000,経費本日入力!$J$3,AD142:AD143)","v":0}]
[null,null,"CODE",null,null,"CODE",null,null,null,null,null,"CODE",null,null,"CODE",null,null,"CODE",null,null,"CODE",null,null,null,null,null,null,null,null,"CODE"]
[null,null,150,{"$f":"DSUM(部品本日入力!$B$3:$N$5008,部品本日入力!$M$3,C144:C145)","v":0},null,221,{"$f":"DSUM(部品本日入力!$B$3:$N$5008,部品本日入力!$M$3,F144:F145)","v":0},null,null,null,null,426,{"$f":"DSUM(部品本日入力!$B$3:$N$5008,部品本日入力!$M$3,L144:L145)","v":0},null,629,{"$f":"DSUM(部品本日入力!$B$3:$N$5008,部品本日入力!$M$3,O144:O145)","v":0},null,150,{"$f":"DSUM(経費本日入力!$B$3:$K$2000,経費本日入力!$J$3,R144:R145)","v":0},null,221,{"$f":"DSUM(経費本日入力!$B$3:$K$2000,経費本日入力!$J$3,U144:U145)","v":0},null,null,null,null,null,null,null,629,{"$f":"DSUM(経費本日入力!$B$3:$K$2000,経費本日入力!$J$3,AD144:AD145)","v":0}]
[null,null," ",null,null,"CODE",null,null,null,null,null,"CODE",null,null,"CODE",null,null,null,null,null,"CODE",null,null,null,null,null,null,null,null,"CODE"]
[null,null," "," ",null,222,{"$f":"DSUM(部品本日入力!$B$3:$N$5008,部品本日入力!$M$3,F146:F147)","v":0},null,null,null,null,501,{"$f":"DSUM(部品本日入力!$B$3:$N$5008,部品本日入力!$M$3,L146:L147)","v":0},null,630,{"$f":"DSUM(部品本日入力!$B$3:$N$5008,部品本日入力!$M$3,O146:O147)","v":0},null,null,null,null,222,{"$f":"DSUM(経費本日入力!$B$3:$K$2000,経費本日入力!$J$3,U146:U147)","v":0},null,null,null,null,null,null,null,630,{"$f":"DSUM(経費本日入力!$B$3:$K$2000,経費本日入力!$J$3,AD146:AD147)","v":0}]
[null,null,null,null,null,"CODE",null,null,null,null,null,null,null,null,"CODE",null,null,null,null,null,"CODE",null,null,null,null,null,null,null,null,"CODE"]
[null,null,null,null,null,223,{"$f":"DSUM(部品本日入力!$B$3:$N$5008,部品本日入力!$M$3,F148:F149)","v":0},null,null,null,null,null,null,null,631,{"$f":"DSUM(部品本日入力!$B$3:$N$5008,部品本日入力!$M$3,O148:O149)","v":0},null,null,null,null,223,{"$f":"DSUM(経費本日入力!$B$3:$K$2000,経費本日入力!$J$3,U148:U149)","v":0},null,null,null,null,null,null,null,631,{"$f":"DSUM(経費本日入力!$B$3:$K$2000,経費本日入力!$J$3,AD148:AD149)","v":0}]
[null,null,null,null,null,"CODE",null,null,null,null,null,null,null,null,"CODE",null,null,null,null,null,"CODE",null,null,null,null,null,null,null,null,"CODE"]
[null,null,null,null,null,224,{"$f":"DSUM(部品本日入力!$B$3:$N$5008,部品本日入力!$M$3,F150:F151)","v":0},null,null,null,null,null,null,null,632,{"$f":"DSUM(部品本日入力!$B$3:$N$5008,部品本日入力!$M$3,O150:O151)","v":0},null,null,null,null,224,{"$f":"DSUM(経費本日入力!$B$3:$K$2000,経費本日入力!$J$3,U150:U151)","v":0},null,null,null,null,null,null,null,632,{"$f":"DSUM(経費本日入力!$B$3:$K$2000,経費本日入力!$J$3,AD150:AD151)","v":0}]
[null,null,null,null,null,"CODE",null,null,null,null,null,null,null,null,"CODE",null,null,null,null,null,"CODE",null,null,null,null,null,null,null,null,"CODE"]
[null,null,null,null,null,225,{"$f":"DSUM(部品本日入力!$B$3:$N$5008,部品本日入力!$M$3,F152:F153)","v":0},null,null,null,null,null,null,null,633,{"$f":"DSUM(部品本日入力!$B$3:$N$5008,部品本日入力!$M$3,O152:O153)","v":0},null,null,null,null,225,{"$f":"DSUM(経費本日入力!$B$3:$K$2000,経費本日入力!$J$3,U152:U153)","v":0},null,null,null,null,null,null,null,633,{"$f":"DSUM(経費本日入力!$B$3:$K$2000,経費本日入力!$J$3,AD152:AD153)","v":0}]
[null,null,null,null,null,null,null,null,null,null,null,null,null,null,"CODE",null,null,null,null,null,null,null,null,null,null,null,null,null,null,"CODE"]
[null,null,null,null,null,null,null,null,null,null,null,null,null,null,634,{"$f":"DSUM(部品本日入力!$B$3:$N$5008,部品本日入力!$M$3,O154:O155)","v":0},null,null,null,null,null,null,null,null,null,null,null,null,null,634,{"$f":"DSUM(経費本日入力!$B$3:$K$2000,経費本日入力!$J$3,AD154:AD155)","v":0}]
[null,null,null,null,null,null,null,null,null,null,null,null,null,null,"CODE",null,null,null,null,null,null,null,null,null,null,null,null,null,null,"CODE"]
[null,null,null,null,null,null,null,null,null,null,null,null,null,null,635,{"$f":"DSUM(部品本日入力!$B$3:$N$5008,部品本日入力!$M$3,O156:O157)","v":0},null,null,null,null,null,null,null,null,null,null,null,null,null,635,{"$f":"DSUM(経費本日入力!$B$3:$K$2000,経費本日入力!$J$3,AD156:AD157)","v":0}]
[]
[]
[null,null,null,null,null," "]

{"sheet":"仕入月合計データ","index":20,"n_rows":237,"n_cols":45,"rows_kept":237,"cut":false,"hidden":false,"merged":[]}
["　",null,null,"　",null,null,null,null,"行削除は不可です。数式と値のクリアを使用する。",null,null,null," ",null,"　"]
[null,null,{"$f":"+menu!O6","v":2},"月",null,null,null,"当月部品　仕入データ",null,null,null,null,{"$f":"SUM(M4:M10771)","v":14345},null,null,"合計",{"$f":"+Q8+Q18+Q25+Q35+Q48+Q55+Q65+Q75+Q85+Q95","v":14345},null,"行端末","B239",{"$f":"U12+U22+U32+U42+U52+U62+U72+U82+U92+U102","v":14345},null," ",1,null,null,null,null,null,null,null,null,null,null,null,null,null,null,null,null," "," "," "]
[null,"製番","品番１","品番２","納入日","細　　品番","材質","品名  (材料取り）","形状・寸法","メーカー","数量","単価","金額","CODE",null,"分類計算",null,null,"　","　"]
[null,"AA-1234","01","02",null,null,null,"fghj",null,null,1,10,10,16,null,"製番",null,"0～100",{"$f":"DSUM($B$3:$N$9771,$M$3,V4:X5)","v":240},{"$f":"DSUM($B$3:$N$9771,$M$3,V6:X7)","v":0},{"$f":"SUM(S4:T4)","v":240},"製番","CODE","CODE","製番","CODE","CODE","製番","CODE","CODE","製番","CODE","CODE","製番","CODE","CODE","製番","CODE","CODE","製番","CODE","CODE","製番","CODE","CODE"]
[null,"AA-1234","01","02",null,null,null,"fghj",null,null,1,20,20,110,null,"AA",{"$f":"DSUM($B$3:$N$9771,$M$3,$P$4:$P$5)","v":4280},"101～200",{"$f":"DSUM($B$3:$N$9771,$M$3,Y4:AA5)","v":3560},{"$f":"DSUM($B$3:$N$9771,$M$3,Y6:AA7)","v":160},3720,"AA","<22",">0","AA","<201",">100","AA","<301",">200","AA","<335",">300","AA","<427",">400","AA","<544",">500","AA","<701",">600","AA","<800",">700"]
[null,"AA-2345","02","03",null,null,null,"asdf",null,null,1,30,30,220,null,"製番",null,"201～300",{"$f":"DSUM($B$3:$N$9771,$M$3,AB4:AD5)","v":90},{"$f":"DSUM($B$3:$N$9771,$M$3,AB6:AD7)","v":270},360,"製番","CODE","CODE","製番","CODE","CODE","製番","CODE","CODE","製番","CODE","CODE","製番","CODE","CODE","製番","CODE","CODE","製番","CODE","CODE","製番","CODE","CODE"]
[null,"AA-2346","02","03",null,null,null,"sdfg",null,null,1,40,40,330,null,"AB",{"$f":"DSUM($B$3:$N$9771,$M$3,$P$6:$P$7)","v":430},"301～400",{"$f":"DSUM($B$3:$N$9771,$M$3,AE4:AG5)","v":120},{"$f":"DSUM($B$3:$N$9771,$M$3,AE6:AG7)","v":0},120,"AB","<22",">0","AB","<201",">100","AB","<301",">200","AB","<335",">300","AB","<427",">400","AB","<544",">500","AB","<701",">600","AB","<800",">700"]
[null,"AA-2347","02","03",null,null,null,"ff",null,null,1,50,50,425,null,"小計",{"$f":"+Q5+Q7","v":4710},"401～500",{"$f":"DSUM($B$3:$N$9771,$M$3,AH4:AJ5)","v":150},{"$f":"DSUM($B$3:$N$9771,$M$3,AH6:AJ7)","v":0},150]
[null,null,null,null,null,null,null,null,null,null,null,null,null,null,null,null,null,"501～600",{"$f":"DSUM($B$3:$N$9771,$M$3,AK4:AM5)","v":120},{"$f":"DSUM($B$3:$N$9771,$M$3,AK6:AM7)","v":0},120]
[null,"AA-2348","02","03",null,null,null,"gg",null,null,1,70,70,20,null,null,null,"601～700"]
[null,"BB-2345","01","03",null,null,null,"asdf",null,null,1,80,80,120,null,null,null,"701～800"]
[null,"AB-2345","01","03",null,null,null,"asdf",null,null,1,90,90,230,null,null,null,"合計","AA","AB",{"$f":"SUM(U4:U11)","v":4710}]
[null,"BB-1234","01","02",null,null,null,"fghj",null,null,1,11,11,16,null,null,null,null,{"$f":"SUM(S4:S11)","v":4280},{"$f":"SUM(T4:T11)","v":430}]
[null,"BB-1234","01","02",null,null,null,"fghj",null,null,1,21,21,110,null,"製番",null,"0～100",{"$f":"DSUM($B$3:$N$9771,$M$3,V14:X15)","v":246},{"$f":"DSUM($B$3:$N$9771,$M$3,V16:X17)","v":0},{"$f":"SUM(S14:T14)","v":246},"製番","CODE","CODE","製番","CODE","CODE","製番","CODE","CODE","製番","CODE","CODE","製番","CODE","CODE","製番","CODE","CODE","製番","CODE","CODE","製番","CODE","CODE"]
[null,"BB-2345","02","03",null,null,null,"asdf",null,null,1,31,31,220,null,"BB",{"$f":"DSUM($B$3:N9771,\"金額\",P14:P15)","v":941},"101～200",{"$f":"DSUM($B$3:$N$9771,$M$3,Y14:AA15)","v":143},{"$f":"DSUM($B$3:$N$9771,$M$3,Y16:AA17)","v":243},386,"BB","<22",">0","BB","<201",">100","BB","<301",">200","BB","<335",">300","BB","<427",">400","BB","<544",">500","BB","<701",">600","BB","<800",">700"]
[null,"BB-2346","02","03",null,null,null,"sdfg",null,null,1,41,41,330,null,"製番",null,"201～300",{"$f":"DSUM($B$3:$N$9771,$M$3,AB14:AD15)","v":93},{"$f":"DSUM($B$3:$N$9771,$M$3,AB16:AD17)","v":273},366,"製番","CODE","CODE","製番","CODE","CODE","製番","CODE","CODE","製番","CODE","CODE","製番","CODE","CODE","製番","CODE","CODE","製番","CODE","CODE","製番","CODE","CODE"]
[null,"BB-2347","02","03",null,null,null,"ff",null,null,1,51,51,425,null,"BC",{"$f":"DSUM($B$3:N9771,$M$3,P16:P17)","v":516},"301～400",{"$f":"DSUM($B$3:$N$9771,$M$3,AE14:AG15)","v":123},{"$f":"DSUM($B$3:$N$9771,$M$3,AE16:AG17)","v":0},123,"BC","<22",">0","BC","<201",">100","BC","<301",">200","BC","<335",">300","BC","<427",">400","BC","<544",">500","BC","<701",">600","BC","<800",">700"]
[null,"BB-2348","02","03",null,null,null,"gg",null,null,1,61,61,540,null,"小計",{"$f":"+Q15+Q17","v":1457},"401～500",{"$f":"DSUM($B$3:$N$9771,$M$3,AH14:AJ15)","v":153},{"$f":"DSUM($B$3:$N$9771,$M$3,AH16:AJ17)","v":0},153]
[null,"BB-2348","02","03",null,null,null,"gg",null,null,1,71,71,20,null,null,null,"501～600",{"$f":"DSUM($B$3:$N$9771,$M$3,AK14:AM15)","v":183},{"$f":"DSUM($B$3:$N$9771,$M$3,AK16:AM17)","v":0},183]
[null,"BC-2345","01","03",null,null,null,"asdf",null,null,1,81,81,120,null,null,null,"601～700"]
[null,"BC-2345","01","03",null,null,null,"asdf",null,null,1,91,91,230,null,null,null,"701～800"]
[null,"CC-1234","01","02",null,null,null,"fghj",null,null,1,12,12,16,null,null,null,"合計","BB","BC",{"$f":"SUM(U14:U21)","v":1457}]
[null,"CC-1234","01","02",null,null,null,"fghj",null,null,1,22,22,110]
[null,"CC-2345","02","03",null,null,null,"asdf",null,null,1,32,32,220,null,"製番",null,"0～100",{"$f":"DSUM($B$3:$N$9771,$M$3,V24:X25)","v":252},null,{"$f":"SUM(S24:T24)","v":252},"製番","CODE","CODE","製番","CODE","CODE","製番","CODE","CODE","製番","CODE","CODE","製番","CODE","CODE","製番","CODE","CODE","製番","CODE","CODE","製番","CODE","CODE"]
[null,"CC-2346","02","03",null,null,null,"sdfg",null,null,1,42,42,330,null,"CC",{"$f":"DSUM($B$3:N9771,$M$3,P24:P25)","v":882},"101～200",{"$f":"DSUM($B$3:$N$9771,$M$3,Y24:AA25)","v":66},null,66,"CC","<22",">0","CC","<201",">100","CC","<301",">200","CC","<335",">300","CC","<427",">400","CC","<544",">500","CC","<701",">600","CC","<800",">700"]
[null,"CC-2347","02","03",null,null,null,"ff",null,null,1,52,52,425,null,null,null,"201～300",{"$f":"DSUM($B$3:$N$9771,$M$3,AB24:AD25)","v":96},null,96]
[null,"CC-2348","02","03",null,null,null,"gg",null,null,1,62,62,540,null,null,null,"301～400",{"$f":"DSUM($B$3:$N$9771,$M$3,AE24:AG25)","v":126},null,126]
[null,"CC-2348","02","03",null,null,null,"gg",null,null,1,72,72,20,null,null,null,"401～500",{"$f":"DSUM($B$3:$N$9771,$M$3,AH24:AJ25)","v":156},null,156]
[null,"DD-1234","01","02",null,null,null,"fghj",null,null,1,13,13,16,null,null,null,"501～600",{"$f":"DSUM($B$3:$N$9771,$M$3,AK24:AM25)","v":186},null,186]
[null,"DD-1234","01","02",null,null,null,"fghj",null,null,1,23,23,110,null,null,null,"601～700",{"$f":"DSUM($B$3:$N$9771,$M$3,AN24:AP25)","v":0},null,0]
[null,"DD-2345","02","03",null,null,null,"asdf",null,null,1,33,33,220,null,null,null,"701～800",{"$f":"DSUM($B$3:$N$9771,$M$3,AQ24:AS25)","v":0},null,0]
[null,"DD-2346","02","03",null,null,null,"sdfg",null,null,1,43,43,330,null,null,null,"合計","CC",null,{"$f":"SUM(U24:U31)","v":882}]
[null,"DD-2347","02","03",null,null,null,"ff",null,null,1,53,53,425]
[null,"DD-2348","02","03",null,null,null,"gg",null,null,1,63,63,540,null,"製番",null,"0～100",{"$f":"DSUM($B$3:$N$9771,$M$3,V34:X35)","v":258},null,{"$f":"SUM(S34:T34)","v":258},"製番","CODE","CODE","製番","CODE","CODE","製番","CODE","CODE","製番","CODE","CODE","製番","CODE","CODE","製番","CODE","CODE","製番","CODE","CODE","製番","CODE","CODE"]
[null,"DD-2348","02","03",null,null,null,"gg",null,null,1,73,73,20,null,"DD",{"$f":"DSUM($B$3:N9771,$M$3,P34:P35)","v":903},"101～200",{"$f":"DSUM($B$3:$N$9771,$M$3,Y34:AA35)","v":69},null,69,"DD","<22",">0","DD","<201",">100","DD","<301",">200","DD","<335",">300","DD","<427",">400","DD","<544",">500","DD","<701",">600","DD","<800",">700"]
[null,"EE-1234","01","02",null,null,null,"fghj",null,null,1,14,14,16,null,null,null,"201～300",{"$f":"DSUM($B$3:$N$9771,$M$3,AB34:AD35)","v":99},null,99]
[null,"EE-1234","01","02",null,null,null,"fghj",null,null,1,24,24,110,null,null,null,"301～400",{"$f":"DSUM($B$3:$N$9771,$M$3,AE34:AG35)","v":129},null,129]
[null,"EE-2345","02","03",null,null,null,"asdf",null,null,1,34,34,220,null,null,null,"401～500",{"$f":"DSUM($B$3:$N$9771,$M$3,AH34:AJ35)","v":159},null,159]
[null,"EE-2346","02","03",null,null,null,"sdfg",null,null,1,44,44,330,null,null,null,"501～600",{"$f":"DSUM($B$3:$N$9771,$M$3,AK34:AM35)","v":189},null,189]
[null,"EE-2347","02","03",null,null,null,"ff",null,null,1,54,54,425,null,null,null,"601～700",{"$f":"DSUM($B$3:$N$9771,$M$3,AN34:AP35)","v":0},null,0]
[null,"EE-2348","02","03",null,null,null,"gg",null,null,1,64,64,540,null,null,null,"701～800",{"$f":"DSUM($B$3:$N$9771,$M$3,AQ34:AS35)","v":0},null,0]
[null,"EE-2348","02","03",null,null,null,"gg",null,null,1,74,74,20,null,null,null,"合計","DD",null,{"$f":"SUM(U34:U41)","v":903}]
[null,"EB-2345","01","03",null,null,null,"asdf",null,null,1,84,84,120]
[null,"EB-2345","01","03",null,null,null,"asdf",null,null,1,94,94,230,null,"製番",null,"0～100",{"$f":"DSUM($B$3:$N$9771,$M$3,V44:X45)","v":264},{"$f":"DSUM($B$3:$N$9771,$M$3,V46:X47)","v":0},{"$f":"SUM(S44:T44)","v":264},"製番","CODE","CODE","製番","CODE","CODE","製番","CODE","CODE","製番","CODE","CODE","製番","CODE","CODE","製番","CODE","CODE","製番","CODE","CODE","製番","CODE","CODE"]
[null,"FF-1234","01","02",null,null,null,"fghj",null,null,1,15,15,16,null,"EE",{"$f":"DSUM($B$3:N9781,$M$3,P44:P45)","v":924},"101～200",{"$f":"DSUM($B$3:$N$9771,$M$3,Y44:AA45)","v":72},{"$f":"DSUM($B$3:$N$9771,$M$3,Y46:AA47)","v":252},324,"EE","<22",">0","EE","<201",">100","EE","<301",">200","EE","<335",">300","EE","<427",">400","EE","<544",">500","EE","<701",">600","EE","<800",">700"]
[null,"FF-1234","01","02",null,null,null,"fghj",null,null,1,25,25,110,null,"製番",null,"201～300",{"$f":"DSUM($B$3:$N$9771,$M$3,AB44:AD45)","v":102},{"$f":"DSUM($B$3:$N$9771,$M$3,AB46:AD47)","v":282},384,"製番","CODE","CODE","製番","CODE","CODE","製番","CODE","CODE","製番","CODE","CODE","製番","CODE","CODE","製番","CODE","CODE","製番","CODE","CODE","製番","CODE","CODE"]
[null,"FF-2345","02","03",null,null,null,"asdf",null,null,1,35,35,220,null,"EB",{"$f":"DSUM($B$3:N9771,$M$3,P46:P47)","v":534},"301～400",{"$f":"DSUM($B$3:$N$9771,$M$3,AE44:AG45)","v":132},{"$f":"DSUM($B$3:$N$9771,$M$3,AE46:AG47)","v":0},132,"EB","<22",">0","EB","<201",">100","EB","<301",">200","EB","<335",">300","EB","<427",">400","EB","<544",">500","EB","<701",">600","EB","<800",">700"]
[null,"FF-2346","02","03",null,null,null,"sdfg",null,null,1,45,45,330,null,"小計",{"$f":"+Q45+Q47","v":1458},"401～500",{"$f":"DSUM($B$3:$N$9771,$M$3,AH44:AJ45)","v":162},{"$f":"DSUM($B$3:$N$9771,$M$3,AH46:AJ47)","v":0},162]
[null,"FF-2347","02","03",null,null,null,"ff",null,null,1,55,55,425,null,null,null,"501～600",{"$f":"DSUM($B$3:$N$9771,$M$3,AK44:AM45)","v":192},{"$f":"DSUM($B$3:$N$9771,$M$3,AK46:AM47)","v":0},192]
[null,"FF-2348","02","03",null,null,null,"gg",null,null,1,65,65,540,null,null,null,"601～700",{"$f":"DSUM($B$3:$N$9771,$M$3,AN44:AP45)","v":0},{"$f":"DSUM($B$3:$N$9771,$M$3,AN46:AP47)","v":0},0]
[null,"FF-2348","02","03",null,null,null,"gg",null,null,1,75,75,20,null,null,null,"701～800",{"$f":"DSUM($B$3:$N$9771,$M$3,AQ44:AS45)","v":0},{"$f":"DSUM($B$3:$N$9771,$M$3,AQ46:AS47)","v":0},0]
[null,"GG-1234","01","02",null,null,null,"fghj",null,null,1,16,16,16,null,null,null,"合計","EE","EB",{"$f":"SUM(U44:U51)","v":1458}]
[null,"GG-1234","01","02",null,null,null,"fghj",null,null,1,26,26,110]
[null,"GG-2345","02","03",null,null,null,"asdf",null,null,1,36,36,220,null,"製番",null,"0～100",{"$f":"DSUM($B$3:$N$9771,$M$3,V54:X55)","v":270},null,{"$f":"SUM(S54:T54)","v":270},"製番","CODE","CODE","製番","CODE","CODE","製番","CODE","CODE","製番","CODE","CODE","製番","CODE","CODE","製番","CODE","CODE","製番","CODE","CODE","製番","CODE","CODE"]
[null,"GG-2346","02","03",null,null,null,"sdfg",null,null,1,46,46,330,null,"FF",{"$f":"DSUM($B$3:N9771,$M$3,P54:P55)","v":945},"101～200",{"$f":"DSUM($B$3:$N$9771,$M$3,Y54:AA55)","v":75},null,75,"FF","<22",">0","FF","<201",">100","FF","<301",">200","FF","<335",">300","FF","<427",">400","FF","<544",">500","FF","<701",">600","FF","<800",">700"]
[null,"GG-2347","02","03",null,null,null,"ff",null,null,1,56,56,425,null,null,null,"201～300",{"$f":"DSUM($B$3:$N$9771,$M$3,AB54:AD55)","v":105},null,105]
[null,"GG-2348","02","03",null,null,null,"gg",null,null,1,66,66,540,null,null,null,"301～400",{"$f":"DSUM($B$3:$N$9771,$M$3,AE54:AG55)","v":135},null,135]
[null,"GG-2348","02","03",null,null,null,"gg",null,null,1,76,76,20,null,null,null,"401～500",{"$f":"DSUM($B$3:$N$9771,$M$3,AH54:AJ55)","v":165},null,165]
[null,"HH-1234","01","02",null,null,null,"fghj",null,null,1,17,17,16,null,null,null,"501～600",{"$f":"DSUM($B$3:$N$9771,$M$3,AK54:AM55)","v":195},null,195]
[null,"HH-1234","01","02",null,null,null,"fghj",null,null,1,27,27,110,null,null,null,"601～700",{"$f":"DSUM($B$3:$N$9771,$M$3,AN54:AP55)","v":0},null,0]
[null,"HH-2345","02","03",null,null,null,"asdf",null,null,1,37,37,220,null,null,null,"701～800",{"$f":"DSUM($B$3:$N$9771,$M$3,AQ54:AS55)","v":0},null,0]
[null,"HH-2346","02","03",null,null,null,"sdfg",null,null,1,47,47,330,null,null,null,"合計","FF",null,{"$f":"SUM(U54:U61)","v":945}]
[null,"HH-2347","02","03",null,null,null,"ff",null,null,1,57,57,425]
[null,"HH-2348","02","03",null,null,null,"gg",null,null,1,67,67,540,null,"製番",null,"0～100",{"$f":"DSUM($B$3:$N$9771,$M$3,V64:X65)","v":276},null,{"$f":"SUM(S64:T64)","v":276},"製番","CODE","CODE","製番","CODE","CODE","製番","CODE","CODE","製番","CODE","CODE","製番","CODE","CODE","製番","CODE","CODE","製番","CODE","CODE","製番","CODE","CODE"]
[null,"HH-2348","02","03",null,null,null,"gg",null,null,1,77,77,20,null,"GG",{"$f":"DSUM($B$3:N9771,$M$3,P64:P65)","v":966},"101～200",{"$f":"DSUM($B$3:$N$9834,$M$3,Y64:AA65)","v":78},null,78,"GG","<22",">0","GG","<201",">100","GG","<301",">200","GG","<335",">300","GG","<427",">400","GG","<544",">500","GG","<701",">600","GG","<800",">700"]
[null,"LL-1234","01","02",null,null,null,"fghj",null,null,1,18,18,16,null,null,null,"201～300",{"$f":"DSUM($B$3:$N$9834,$M$3,AB64:AD65)","v":108},null,108]
[null,"LL-1234","01","02",null,null,null,"fghj",null,null,1,28,28,110,null,null,null,"301～400",{"$f":"DSUM($B$3:$N$9771,$M$3,AE64:AG65)","v":138},null,138]
[null,"LL-2345","02","03",null,null,null,"asdf",null,null,1,38,38,220,null,null,null,"401～500",{"$f":"DSUM($B$3:$N$9771,$M$3,AH64:AJ65)","v":168},null,168]
[null,"LL-2346","02","03",null,null,null,"sdfg",null,null,1,48,48,330,null,null,null,"501～600",{"$f":"DSUM($B$3:$N$9771,$M$3,AK64:AM65)","v":198},null,198]
[null,"LL-2347","02","03",null,null,null,"ff",null,null,1,58,58,425,null,null,null,"601～700",{"$f":"DSUM($B$3:$N$9771,$M$3,AN64:AP65)","v":0},null,0]
[null,"LL-2348","02","03",null,null,null,"gg",null,null,1,68,68,540,null,null,null,"701～800",{"$f":"DSUM($B$3:$N$9771,$M$3,AQ64:AS65)","v":0},null,0]
[null,"LL-2348","02","03",null,null,null,"gg",null,null,1,78,78,20,null,null,null,"合計","GG",null,{"$f":"SUM(U64:U71)","v":966}]
[null,"MM-1234","01","02",null,null,null,"fghj",null,null,1,19,19,16]
[null,"MM-1234","01","02",null,null,null,"fghj",null,null,1,29,29,110,null,"製番",null,"0～100",{"$f":"DSUM($B$3:$N$9771,$M$3,V74:X75)","v":282},null,{"$f":"SUM(S74:T74)","v":282},"製番","CODE","CODE","製番","CODE","CODE","製番","CODE","CODE","製番","CODE","CODE","製番","CODE","CODE","製番","CODE","CODE","製番","CODE","CODE","製番","CODE","CODE"]
[null,"MM-2345","02","03",null,null,null,"asdf",null,null,1,39,39,220,null,"HH",{"$f":"DSUM($B$3:N9771,$M$3,P74:P75)","v":987},"101～200",{"$f":"DSUM($B$3:$N$9771,$M$3,Y74:AA75)","v":81},null,81,"HH","<22",">0","HH","<201",">100","HH","<301",">200","HH","<335",">300","HH","<427",">400","HH","<544",">500","HH","<701",">600","HH","<800",">700"]
[null,"MM-2346","02","03",null,null,null,"sdfg",null,null,1,49,49,330,null,null,null,"201～300",{"$f":"DSUM($B$3:$N$9771,$M$3,AB74:AD75)","v":111},null,111]
[null,"MM-2347","02","03",null,null,null,"ff",null,null,1,59,59,425,null,null,null,"301～400",{"$f":"DSUM($B$3:$N$9771,$M$3,AE74:AG75)","v":141},null,141]
[null,"MM-2348","02","03",null,null,null,"gg",null,null,1,69,69,540,null,null,null,"401～500",{"$f":"DSUM($B$3:$N$9771,$M$3,AH74:AJ75)","v":171},null,171]
[null,"MM-2348","02","03",null,null,null,"gg",null,null,1,79,79,20,null,null,null,"501～600",{"$f":"DSUM($B$3:$N$9771,$M$3,AK74:AM75)","v":201},null,201]
[null,null,null,null,null,null,null,null,null,null,null,null,null,null,null,null,null,"601～700",{"$f":"DSUM($B$3:$N$9771,$M$3,AN74:AP75)","v":0},null,0]
[null,"AA-1234","01","02",null,null,null,"fghj",null,null,1,10,10,16,null,null,null,"701～800",{"$f":"DSUM($B$3:$N$9771,$M$3,AQ74:AS75)","v":0},null,0]
[null,"AA-1234","01","02",null,null,null,"fghj",null,null,1,20,20,110,null,null,null,"合計","HH",null,{"$f":"SUM(U74:U81)","v":987}]
[null,"AA-2345","02","03",null,null,null,"asdf",null,null,1,30,30,220]
[null,"AA-2346","02","03",null,null,null,"sdfg",null,null,1,40,40,330,null,"製番",null,"0～100",{"$f":"DSUM($B$3:$N$9771,$M$3,V84:X85)","v":288},null,{"$f":"SUM(S84:T84)","v":288},"製番","CODE","CODE","製番","CODE","CODE","製番","CODE","CODE","製番","CODE","CODE","製番","CODE","CODE","製番","CODE","CODE","製番","CODE","CODE","製番","CODE","CODE"]
[null,"AA-2347","02","03",null,null,null,"ff",null,null,1,50,50,425,null,"LL",{"$f":"DSUM($B$3:N4834,$M$3,P84:P85)","v":1008},"101～200",{"$f":"DSUM($B$3:$N$9771,$M$3,Y84:AA85)","v":84},null,84,"LL","<22",">0","LL","<201",">100","LL","<301",">200","LL","<335",">300","LL","<427",">400","LL","<544",">500","LL","<701",">600","LL","<800",">700"]
[null,"AA-2348","02","03",null,null,null,"gg",null,null,1,60,60,540,null,null,null,"201～300",{"$f":"DSUM($B$3:$N$9771,$M$3,AB84:AD85)","v":114},null,114]
[null,"AA-2348","02","03",null,null,null,"gg",null,null,1,70,70,20,null,null,null,"301～400",{"$f":"DSUM($B$3:$N$9771,$M$3,AE84:AG85)","v":144},null,144]
[null,"AB-2345","01","03",null,null,null,"asdf",null,null,1,80,80,120,null,null,null,"401～500",{"$f":"DSUM($B$3:$N$9771,$M$3,AH84:AJ85)","v":174},null,174]
[null,"AB-2345","01","03",null,null,null,"asdf",null,null,1,90,90,230,null,null,null,"501～600",{"$f":"DSUM($B$3:$N$9771,$M$3,AK84:AM85)","v":204},null,204]
[null,"BB-1234","01","02",null,null,null,"fghj",null,null,1,11,11,16,null,null,null,"601～700",{"$f":"DSUM($B$3:$N$9771,$M$3,AN84:AP85)","v":0},null,0]
[null,"BB-1234","01","02",null,null,null,"fghj",null,null,1,21,21,110,null,null,null,"701～800",{"$f":"DSUM($B$3:$N$9771,$M$3,AQ84:AS85)","v":0},null,0]
[null,"BB-2345","02","03",null,null,null,"asdf",null,null,1,31,31,220,null,null,null,"合計","LL",null,{"$f":"SUM(U84:U91)","v":1008}]
[null,"BB-2346","02","03",null,null,null,"sdfg",null,null,1,41,41,330]
[null,"BB-2347","02","03",null,null,null,"ff",null,null,1,51,51,425,null,"製番",null,"0～100",{"$f":"DSUM($B$3:$N$9771,$M$3,V94:X95)","v":294},null,{"$f":"SUM(S94:T94)","v":294},"製番","CODE","CODE","製番","CODE","CODE","製番","CODE","CODE","製番","CODE","CODE","製番","CODE","CODE","製番","CODE","CODE","製番","CODE","CODE","製番","CODE","CODE"]
[null,"BB-2348","02","03",null,null,null,"gg",null,null,1,61,61,540,null,"MM",{"$f":"DSUM($B$3:N9779,$M$3,P94:P95)","v":1029},"101～200",{"$f":"DSUM($B$3:$N$9771,$M$3,Y94:AA95)","v":87},null,87,"MM","<22",">0","MM","<201",">100","MM","<301",">200","MM","<335",">300","MM","<427",">400","MM","<544",">500","MM","<701",">600","MM","<800",">700"]
[null,"BB-2348","02","03",null,null,null,"gg",null,null,1,71,71,20,null,null,null,"201～300",{"$f":"DSUM($B$3:$N$9771,$M$3,AB94:AD95)","v":117},null,117]
[null,"BC-2345","01","03",null,null,null,"asdf",null,null,1,81,81,120,null,null,null,"301～400",{"$f":"DSUM($B$3:$N$9771,$M$3,AE94:AG95)","v":147},null,147]
[null,"BC-2345","01","03",null,null,null,"asdf",null,null,1,91,91,230,null,null,null,"401～500",{"$f":"DSUM($B$3:$N$9771,$M$3,AH94:AJ95)","v":177},null,177]
[null,"CC-1234","01","02",null,null,null,"fghj",null,null,1,12,12,16,null,null,null,"501～600",{"$f":"DSUM($B$3:$N$9771,$M$3,AK94:AM95)","v":207},null,207]
[null,"CC-1234","01","02",null,null,null,"fghj",null,null,1,22,22,110,null,null,null,"601～700",{"$f":"DSUM($B$3:$N$9771,$M$3,AN94:AP95)","v":0},null,0]
[null,"CC-2345","02","03",null,null,null,"asdf",null,null,1,32,32,220,null,null,null,"701～800",{"$f":"DSUM($B$3:$N$9771,$M$3,AQ94:AS95)","v":0},null,0]
[null,"CC-2346","02","03",null,null,null,"sdfg",null,null,1,42,42,330,null,null,null,"合計","MM",null,{"$f":"SUM(U94:U101)","v":1029}]
[null,"CC-2347","02","03",null,null,null,"ff",null,null,1,52,52,425]
[null,"CC-2348","02","03",null,null,null,"gg",null,null,1,62,62,540,null,"製番"]
[null,"CC-2348","02","03",null,null,null,"gg",null,null,1,72,72,20,null,"P-1",{"$f":"DSUM($B$3:N9787,$M$3,P104:P105)","v":0},"製番行数",{"$f":"COUNTA(B4:B9771)","v":230}]
[null,"DD-1234","01","02",null,null,null,"fghj",null,null,1,13,13,16,null,null,null,"金額行数",{"$f":"COUNT(M4:M9772)","v":230}]
[null,"DD-1234","01","02",null,null,null,"fghj",null,null,1,23,23,110,null,"製番",null,"コード行数",{"$f":"COUNT(N4:N9771)","v":230},"Check N"]
[null,"DD-2345","02","03",null,null,null,"asdf",null,null,1,33,33,220,null,"P-2",{"$f":"DSUM($B$3:N9790,$M$3,P107:P108)","v":0},"製番",{"$f":"S105-S106","v":0},{"$f":"Check!N4","v":0}]
[null,"DD-2346","02","03",null,null,null,"sdfg",null,null,1,43,43,330,null,null,null,"金額",{"$f":"S106-S105","v":0},{"$f":"Check!N5","v":0}]
[null,"DD-2347","02","03",null,null,null,"ff",null,null,1,53,53,425,null,"製番",null,"コード"]
[null,"DD-2348","02","03",null,null,null,"gg",null,null,1,63,63,540,null,"P-3",{"$f":"DSUM($B$3:N9793,$M$3,P110:P111)","v":0}]
[null,"DD-2348","02","03",null,null,null,"gg",null,null,1,73,73,20,null,null,null,"Q列合計",{"$f":"Q105+Q108+Q111+Q114+Q117","v":0}]
[null,"EE-1234","01","02",null,null,null,"fghj",null,null,1,14,14,16,null,"製番"]
[null,"EE-1234","01","02",null,null,null,"fghj",null,null,1,24,24,110,null,"P-4",{"$f":"DSUM($B$3:N9796,$M$3,P113:P114)","v":0}]
[null,"EE-2345","02","03",null,null,null,"asdf",null,null,1,34,34,220]
[null,"EE-2346","02","03",null,null,null,"sdfg",null,null,1,44,44,330,null,"製番"]
[null,"EE-2347","02","03",null,null,null,"ff",null,null,1,54,54,425,null,"P-5",{"$f":"DSUM($B$3:N9799,$M$3,P116:P117)","v":0}]
[null,"EE-2348","02","03",null,null,null,"gg",null,null,1,64,64,540]
[null,"EE-2348","02","03",null,null,null,"gg",null,null,1,74,74,20]
[null,"EB-2345","01","03",null,null,null,"asdf",null,null,1,84,84,120]
[null,"EB-2345","01","03",null,null,null,"asdf",null,null,1,94,94,230,null,"製番"]
[null,"FF-1234","01","02",null,null,null,"fghj",null,null,1,15,15,16,null,"*",{"$f":"DSUM($B$3:N9804,$M$3,P121:P122)","v":14345}]
[null,"FF-1234","01","02",null,null,null,"fghj",null,null,1,25,25,110]
[null,"FF-2345","02","03",null,null,null,"asdf",null,null,1,35,35,220]
[null,"FF-2346","02","03",null,null,null,"sdfg",null,null,1,45,45,330]
[null,"FF-2347","02","03",null,null,null,"ff",null,null,1,55,55,425]
[null,"FF-2348","02","03",null,null,null,"gg",null,null,1,65,65,540]
[null,"FF-2348","02","03",null,null,null,"gg",null,null,1,75,75,20]
[null,"GG-1234","01","02",null,null,null,"fghj",null,null,1,16,16,16]
[null,"GG-1234","01","02",null,null,null,"fghj",null,null,1,26,26,110]
[null,"GG-2345","02","03",null,null,null,"asdf",null,null,1,36,36,220]
[null,"GG-2346","02","03",null,null,null,"sdfg",null,null,1,46,46,330]
[null,"GG-2347","02","03",null,null,null,"ff",null,null,1,56,56,425]
[null,"GG-2348","02","03",null,null,null,"gg",null,null,1,66,66,540]
[null,"GG-2348","02","03",null,null,null,"gg",null,null,1,76,76,20]
[null,"HH-1234","01","02",null,null,null,"fghj",null,null,1,17,17,16]
[null,"HH-1234","01","02",null,null,null,"fghj",null,null,1,27,27,110]
[null,"HH-2345","02","03",null,null,null,"asdf",null,null,1,37,37,220]
[null,"HH-2346","02","03",null,null,null,"sdfg",null,null,1,47,47,330]
[null,"HH-2347","02","03",null,null,null,"ff",null,null,1,57,57,425]
[null,"HH-2348","02","03",null,null,null,"gg",null,null,1,67,67,540]
[null,"HH-2348","02","03",null,null,null,"gg",null,null,1,77,77,20]
[null,"LL-1234","01","02",null,null,null,"fghj",null,null,1,18,18,16]
[null,"LL-1234","01","02",null,null,null,"fghj",null,null,1,28,28,110]
[null,"LL-2345","02","03",null,null,null,"asdf",null,null,1,38,38,220]
[null,"LL-2346","02","03",null,null,null,"sdfg",null,null,1,48,48,330]
[null,"LL-2347","02","03",null,null,null,"ff",null,null,1,58,58,425]
[null,"LL-2348","02","03",null,null,null,"gg",null,null,1,68,68,540]
[null,"LL-2348","02","03",null,null,null,"gg",null,null,1,78,78,20]
[null,"MM-1234","01","02",null,null,null,"fghj",null,null,1,19,19,16]
[null,"MM-1234","01","02",null,null,null,"fghj",null,null,1,29,29,110]
[null,"MM-2345","02","03",null,null,null,"asdf",null,null,1,39,39,220]
[null,"MM-2346","02","03",null,null,null,"sdfg",null,null,1,49,49,330]
[null,"MM-2347","02","03",null,null,null,"ff",null,null,1,59,59,425]
[null,"MM-2348","02","03",null,null,null,"gg",null,null,1,69,69,540]
[null,"MM-2348","02","03",null,null,null,"gg",null,null,1,79,79,20]
[]
[null,"AA-1234","01","02",null,null,null,"fghj",null,null,1,10,10,16]
[null,"AA-1234","01","02",null,null,null,"fghj",null,null,1,20,20,110]
[null,"AA-2345","02","03",null,null,null,"asdf",null,null,1,30,30,220]
[null,"AA-2346","02","03",null,null,null,"sdfg",null,null,1,40,40,330]
[null,"AA-2347","02","03",null,null,null,"ff",null,null,1,50,50,425]
[null,"AA-2348","02","03",null,null,null,"gg",null,null,1,60,60,540]
[null,"AA-2348","02","03",null,null,null,"gg",null,null,1,70,70,20]
[null,"AB-2345","01","03",null,null,null,"asdf",null,null,1,80,80,120]
[null,"AB-2345","01","03",null,null,null,"asdf",null,null,1,90,90,230]
[null,"BB-1234","01","02",null,null,null,"fghj",null,null,1,11,11,16]
[null,"BB-1234","01","02",null,null,null,"fghj",null,null,1,21,21,110]
[null,"BB-2345","02","03",null,null,null,"asdf",null,null,1,31,31,220]
[null,"BB-2346","02","03",null,null,null,"sdfg",null,null,1,41,41,330]
[null,"BB-2347","02","03",null,null,null,"ff",null,null,1,51,51,425]
[null,"BB-2348","02","03",null,null,null,"gg",null,null,1,61,61,540]
[null,"BB-2348","02","03",null,null,null,"gg",null,null,1,71,71,20]
[null,"BC-2345","01","03",null,null,null,"asdf",null,null,1,81,81,120]
[null,"BC-2345","01","03",null,null,null,"asdf",null,null,1,91,91,230]
[null,"CC-1234","01","02",null,null,null,"fghj",null,null,1,12,12,16]
[null,"CC-1234","01","02",null,null,null,"fghj",null,null,1,22,22,110]
[null,"CC-2345","02","03",null,null,null,"asdf",null,null,1,32,32,220]
[null,"CC-2346","02","03",null,null,null,"sdfg",null,null,1,42,42,330]
[null,"CC-2347","02","03",null,null,null,"ff",null,null,1,52,52,425]
[null,"CC-2348","02","03",null,null,null,"gg",null,null,1,62,62,540]
[null,"CC-2348","02","03",null,null,null,"gg",null,null,1,72,72,20]
[null,"DD-1234","01","02",null,null,null,"fghj",null,null,1,13,13,16]
[null,"DD-1234","01","02",null,null,null,"fghj",null,null,1,23,23,110]
[null,"DD-2345","02","03",null,null,null,"asdf",null,null,1,33,33,220]
[null,"DD-2346","02","03",null,null,null,"sdfg",null,null,1,43,43,330]
[null,"DD-2347","02","03",null,null,null,"ff",null,null,1,53,53,425]
[null,"DD-2348","02","03",null,null,null,"gg",null,null,1,63,63,540]
[null,"DD-2348","02","03",null,null,null,"gg",null,null,1,73,73,20]
[null,"EE-1234","01","02",null,null,null,"fghj",null,null,1,14,14,16]
[null,"EE-1234","01","02",null,null,null,"fghj",null,null,1,24,24,110]
[null,"EE-2345","02","03",null,null,null,"asdf",null,null,1,34,34,220]
[null,"EE-2346","02","03",null,null,null,"sdfg",null,null,1,44,44,330]
[null,"EE-2347","02","03",null,null,null,"ff",null,null,1,54,54,425]
[null,"EE-2348","02","03",null,null,null,"gg",null,null,1,64,64,540]
[null,"EE-2348","02","03",null,null,null,"gg",null,null,1,74,74,20]
[null,"EB-2345","01","03",null,null,null,"asdf",null,null,1,84,84,120]
[null,"EB-2345","01","03",null,null,null,"asdf",null,null,1,94,94,230]
[null,"FF-1234","01","02",null,null,null,"fghj",null,null,1,15,15,16]
[null,"FF-1234","01","02",null,null,null,"fghj",null,null,1,25,25,110]
[null,"FF-2345","02","03",null,null,null,"asdf",null,null,1,35,35,220]
[null,"FF-2346","02","03",null,null,null,"sdfg",null,null,1,45,45,330]
[null,"FF-2347","02","03",null,null,null,"ff",null,null,1,55,55,425]
[null,"FF-2348","02","03",null,null,null,"gg",null,null,1,65,65,540]
[null,"FF-2348","02","03",null,null,null,"gg",null,null,1,75,75,20]
[null,"GG-1234","01","02",null,null,null,"fghj",null,null,1,16,16,16]
[null,"GG-1234","01","02",null,null,null,"fghj",null,null,1,26,26,110]
[null,"GG-2345","02","03",null,null,null,"asdf",null,null,1,36,36,220]
[null,"GG-2346","02","03",null,null,null,"sdfg",null,null,1,46,46,330]
[null,"GG-2347","02","03",null,null,null,"ff",null,null,1,56,56,425]
[null,"GG-2348","02","03",null,null,null,"gg",null,null,1,66,66,540]
[null,"GG-2348","02","03",null,null,null,"gg",null,null,1,76,76,20]
[null,"HH-1234","01","02",null,null,null,"fghj",null,null,1,17,17,16]
[null,"HH-1234","01","02",null,null,null,"fghj",null,null,1,27,27,110]
[null,"HH-2345","02","03",null,null,null,"asdf",null,null,1,37,37,220]
[null,"HH-2346","02","03",null,null,null,"sdfg",null,null,1,47,47,330]
[null,"HH-2347","02","03",null,null,null,"ff",null,null,1,57,57,425]
[null,"HH-2348","02","03",null,null,null,"gg",null,null,1,67,67,540]
[null,"HH-2348","02","03",null,null,null,"gg",null,null,1,77,77,20]
[null,"LL-1234","01","02",null,null,null,"fghj",null,null,1,18,18,16]
[null,"LL-1234","01","02",null,null,null,"fghj",null,null,1,28,28,110]
[null,"LL-2345","02","03",null,null,null,"asdf",null,null,1,38,38,220]
[null,"LL-2346","02","03",null,null,null,"sdfg",null,null,1,48,48,330]
[null,"LL-2347","02","03",null,null,null,"ff",null,null,1,58,58,425]
[null,"LL-2348","02","03",null,null,null,"gg",null,null,1,68,68,540]
[null,"LL-2348","02","03",null,null,null,"gg",null,null,1,78,78,20]
[null,"MM-1234","01","02",null,null,null,"fghj",null,null,1,19,19,16]
[null,"MM-1234","01","02",null,null,null,"fghj",null,null,1,29,29,110]
[null,"MM-2345","02","03",null,null,null,"asdf",null,null,1,39,39,220]
[null,"MM-2346","02","03",null,null,null,"sdfg",null,null,1,49,49,330]
[null,"MM-2347","02","03",null,null,null,"ff",null,null,1,59,59,425]
[null,"MM-2348","02","03",null,null,null,"gg",null,null,1,69,69,540]
[null,"MM-2348","02","03",null,null,null,"gg",null,null,1,79,79,20]
[]
[null,"AA-3544","A1","09","2021-02-17",null,null,"ガイドフランジ",null,null,1,1000,1000,166]
[null,"AA-3544","A1","10","2021-02-17",null,null,"ガイドフランジ",null,null,1,1000,1000,166]
[null,"AA-3544","A1","11","2021-02-17",null,null,"ガイドフランジ",null,null,1,1500,1500,166]

{"sheet":"経費月合計データ","index":21,"n_rows":38,"n_cols":20,"rows_kept":38,"cut":false,"hidden":false,"merged":[]}
[null,null,{"$f":"+menu!O6","v":2},"月",null,"行削除は不可です。数式と値のクリアを使用する。"]
[null,null,null,null,"当月経費　仕入データ",null,null,"　",null,{"$f":"SUM(J4:J5000)","v":6000},"　",null,null,"合計",{"$f":"SUM(O5:O13)","v":6000},null,"DB用端末","B13","本日用端末","B80"]
[null,"科目","科目No","納入日","品名","形状・寸法","メーカー","数量","単価","金額","CODE",null,null,"分類計算",null,null,"　","　"]
[null,"加工用刃具","P-1","2021-02-09","abcd",null,null,1,100,100,5,null,null,"科目No"]
[null,"加工用工具","P-2","2021-02-09","bcde",null,null,2,200,400,6,null,null,"P-1",{"$f":"DSUM($B$3:$K$1000,$J$3,N4:N5)","v":200}]
[null,"消耗品","P-3","2021-02-09","defg",null,null,3,300,900,7,null,null,"科目No"]
[null,"改善５Ｓ用","P-4","2021-02-09","fghi",null,null,4,400,1600,8,null,null,"P-2",{"$f":"DSUM($B$3:$K$1000,$J$3,N6:N7)","v":800}]
[null,null,null,null,null,null,null,null,null,null,null,null,null,"科目No"]
[null,"加工用刃具","P-1","2021-02-09","abcd",null,null,1,100,100,5,null,null,"P-3",{"$f":"DSUM($B$3:$K$1000,$J$3,N8:N9)","v":1800}]
[null,"加工用工具","P-2","2021-02-09","bcde",null,null,2,200,400,6,null,null,"科目No"]
[null,"消耗品","P-3","2021-02-09","defg",null,null,3,300,900,7,null,null,"P-4",{"$f":"DSUM($B$3:$K$1000,$J$3,N10:N11)","v":3200}]
[null,"改善５Ｓ用","P-4","2021-02-09","fghi",null,null,4,400,1600,8,null,null,"科目No"]
[null,null,null,null,null,null,null,null,null,null,null,null,null,"P-5",{"$f":"DSUM($B$3:$K$1000,$J$3,N12:N13)","v":0}]
[null,null,null,null,null,null,null,null,null,null,null,null,null," "," "]
[]
[]
[]
[]
[]
[null,null,null,null,null,null,null,null,null,null,null,null,null,"コード行数",{"$f":"COUNT(K4:K300)","v":8}]
[null,null,null,null,null,null,null,null,null,null,null,null,null,"科目行数",{"$f":"COUNTA(C4:C300)","v":8}]
[null,null,null,null,null,null,null,null,null,null,null,null,null,"金額行数",{"$f":"COUNT(J4:J300)","v":8}]
[]
[]
[]
[null,null,null,null,null,null,null,null,null,null,null,null,null," "]
[]
[]
[]
[]
[]
[]
[]
[null,null,null,null,null,null,null,null,null,null,null,null,null,null,null,null,null,""]
[]
[null,null,null,null,null,null,null,null,null,null,null,null,null,null,null,null,null,""]
[null,null,null,null,null,null,null,null,null,null,null,null,null,null,null,null,null,""]
[null,null,null,null,null,null,null,null,null,null,null,null,null,null,null,null,null,""]